From mboxrd@z Thu Jan  1 00:00:00 1970
Return-Path: <test-report-bounces@dpdk.org>
Received: from mails.dpdk.org (mails.dpdk.org [217.70.189.124])
	by inbox.dpdk.org (Postfix) with ESMTP id 4BEF543D0B
	for <public@inbox.dpdk.org>; Thu, 21 Mar 2024 01:00:29 +0100 (CET)
Received: from mails.dpdk.org (localhost [127.0.0.1])
	by mails.dpdk.org (Postfix) with ESMTP id 459C74029F;
	Thu, 21 Mar 2024 01:00:29 +0100 (CET)
Received: from mail-ot1-f98.google.com (mail-ot1-f98.google.com
 [209.85.210.98]) by mails.dpdk.org (Postfix) with ESMTP id 36DEC4028B
 for <test-report@dpdk.org>; Thu, 21 Mar 2024 01:00:28 +0100 (CET)
Received: by mail-ot1-f98.google.com with SMTP id
 46e09a7af769-6e6775fd386so215473a34.3
 for <test-report@dpdk.org>; Wed, 20 Mar 2024 17:00:28 -0700 (PDT)
DKIM-Signature: v=1; a=rsa-sha256; c=relaxed/relaxed;
 d=iol.unh.edu; s=unh-iol; t=1710979227; x=1711584027; darn=dpdk.org;
 h=references:in-reply-to:cc:to:from:subject:message-id:date:from:to
 :cc:subject:date:message-id:reply-to;
 bh=X52lTO2MhUaGlWerCSX8KOHIphrM3NRz1bHO9opBQ5w=;
 b=eRK2An5mpD+NM+e998vRrpAmRiq4vhc+UNi3lQekDyol5urO/UwrOkLCmaBHz51+14
 LJBpBCoGUFFn7Zs0DOBh972UuTKOKIIoaepU7iiTdecTBTOfkN1mU7lE8PCuD0apyTJE
 rdSSB15GAKqIOZcUTp5BreDVsopcZccUWM34w=
X-Google-DKIM-Signature: v=1; a=rsa-sha256; c=relaxed/relaxed;
 d=1e100.net; s=20230601; t=1710979227; x=1711584027;
 h=references:in-reply-to:cc:to:from:subject:message-id:date
 :x-gm-message-state:from:to:cc:subject:date:message-id:reply-to;
 bh=X52lTO2MhUaGlWerCSX8KOHIphrM3NRz1bHO9opBQ5w=;
 b=hWgDKR6GNf1WYDILwOvBr/2UW7kjKLvE05PeXkwMe4cjF+XxzKBQ7USOEvoIa7epWq
 X9UZXMMUrJkMF43SlBFCPh4Kzlwqf6qKc2Z1Yx59hEXuMOAOP/6tQakbzmUB3w4CR3R6
 K9yUyq1xpV4mm5Cgq25jjVc0fOBMgQHwQWahsYkxnIcitmzjyOnNpoBgaGRtkhI3ncls
 n6DaOdbG+/lmL0SrStIl8FeYfGBgd5Sx0b+emdzEVTArA6NvOQmZhtsCy5oKbK7VprPG
 Qz1MUdzA3swHST5J68oyv29D+QENcn8iRScLa6GGJR1bPngiYcytPimXXq+/CCG20wI+
 /duQ==
X-Gm-Message-State: AOJu0Yw4lQf/m8QTqNwuhIwe5OUVn0RZRKjPlQ7lIRzan/hyAQ/039Sn
 CShAreBGWcqb6C/PmauQAfYHBPhIn8TBlDLXG8+QsxLkxxRdVOh4dY2XU7gyE5ByqimeSzNYPQj
 AXAZhH1pkpixv1gJ5qcZykhlSxqt16M1DHypiS29oAk1A41fc+uCY7j97
X-Google-Smtp-Source: AGHT+IGGlYehPu5JQhiz0I2b+Md3QYTCFSx9Wlm4WXJ5+u8vEq8MScRi/qt8h/50USKQcFN1+4J8pSux5aWe
X-Received: by 2002:a05:6871:4409:b0:221:97fa:888b with SMTP id
 nd9-20020a056871440900b0022197fa888bmr8885255oab.45.1710979227513; 
 Wed, 20 Mar 2024 17:00:27 -0700 (PDT)
Received: from postal.iol.unh.edu (postal.iol.unh.edu.
 [2606:4100:3880:1234::84]) by smtp-relay.gmail.com with ESMTPS id
 1-20020a056870124100b00214904530d0sm251364oao.13.2024.03.20.17.00.27
 (version=TLS1_2 cipher=ECDHE-ECDSA-AES128-GCM-SHA256 bits=128/128);
 Wed, 20 Mar 2024 17:00:27 -0700 (PDT)
X-Relaying-Domain: iol.unh.edu
Date: Wed, 20 Mar 2024 17:00:27 -0700 (PDT)
Message-ID: <65fb789b.050a0220.9909.f13aSMTPIN_ADDED_MISSING@mx.google.com>
Received: from [172.17.0.6] (unknown [172.18.0.217])
 by postal.iol.unh.edu (Postfix) with ESMTP id EC54E6052471;
 Wed, 20 Mar 2024 20:00:26 -0400 (EDT)
Subject: |SUCCESS| pw138579 [PATCH] net/ixgbe: do not update link status in s
From: dpdklab@iol.unh.edu
To: Test Report <test-report@dpdk.org>
Cc: dpdk-test-reports@iol.unh.edu
In-Reply-To: <20240320173407.216307-1-stephen@networkplumber.org>
References: <20240320173407.216307-1-stephen@networkplumber.org>
Content-Type: text/plain
X-BeenThere: test-report@dpdk.org
X-Mailman-Version: 2.1.29
Precedence: list
List-Id: automatic DPDK test reports <test-report.dpdk.org>
List-Unsubscribe: <https://mails.dpdk.org/options/test-report>,
 <mailto:test-report-request@dpdk.org?subject=unsubscribe>
List-Archive: <http://mails.dpdk.org/archives/test-report/>
List-Post: <mailto:test-report@dpdk.org>
List-Help: <mailto:test-report-request@dpdk.org?subject=help>
List-Subscribe: <https://mails.dpdk.org/listinfo/test-report>,
 <mailto:test-report-request@dpdk.org?subject=subscribe>
Errors-To: test-report-bounces@dpdk.org

Test-Label: iol-unit-amd64-testing
Test-Status: SUCCESS
http://dpdk.org/patch/138579

_Testing PASS_

Submitter: Stephen Hemminger <stephen@networkplumber.org>
Date: Wednesday, March 20 2024 17:33:04 
DPDK git baseline: Repo:dpdk
  Branch: master
  CommitID:2c54ea7a59dfc0a819d3527309c62846fc8853af

138579 --> testing pass

Test environment and result as below:

+------------------+----------------+
|   Environment    | dpdk_unit_test |
+==================+================+
| CentOS Stream 9  | PASS           |
+------------------+----------------+
| Debian Bullseye  | PASS           |
+------------------+----------------+
| Fedora 38        | PASS           |
+------------------+----------------+
| Debian 11 (arm)  | PASS           |
+------------------+----------------+
| CentOS Stream 8  | PASS           |
+------------------+----------------+
| Ubuntu 20.04     | PASS           |
+------------------+----------------+
| RHEL8            | PASS           |
+------------------+----------------+
| openSUSE Leap 15 | PASS           |
+------------------+----------------+
| Ubuntu 22.04     | PASS           |
+------------------+----------------+
| Fedora 37        | PASS           |
+------------------+----------------+


CentOS Stream 9
	Kernel: 5.4.0-167-generic
	Compiler: gcc 11.4.1 20230605

Debian Bullseye
	Kernel: 5.4.0-167-generic
	Compiler: gcc 10.2.1-6

Fedora 38
	Kernel: Depends on container host
	Compiler: gcc 13.2.1

Debian 11 (arm)
	Kernel: Container Host Kernel
	Compiler: gcc 10.2.1

CentOS Stream 8
	Kernel: 5.4.0-167-generic
	Compiler: gcc 8.5.0 20210514

Ubuntu 20.04
	Kernel: 5.4.0-167-generic
	Compiler: gcc 9.4.0-1ubuntu1~20.04.1

RHEL8
	Kernel: 5.4.0-167-generic
	Compiler: gcc 8.5.0 20210514 (Red Hat 8.5.0-20)

openSUSE Leap 15
	Kernel: 5.4.0-167-generic
	Compiler: gcc 7.5.0

Ubuntu 22.04
	Kernel: 5.4.0-167-generic
	Compiler: gcc 11.4.0

Fedora 37
	Kernel: Depends on container host system
	Compiler: gcc 12.3.1

To view detailed results, visit:
https://lab.dpdk.org/results/dashboard/patchsets/29608/

UNH-IOL DPDK Community Lab

To manage your email subscriptions, visit: 
https://lab.dpdk.org/results/dashboard/preferences/subscriptions/