From mboxrd@z Thu Jan  1 00:00:00 1970
Return-Path: <test-report-bounces@dpdk.org>
Received: from mails.dpdk.org (mails.dpdk.org [217.70.189.124])
	by inbox.dpdk.org (Postfix) with ESMTP id 53F6B43D0B
	for <public@inbox.dpdk.org>; Thu, 21 Mar 2024 01:23:06 +0100 (CET)
Received: from mails.dpdk.org (localhost [127.0.0.1])
	by mails.dpdk.org (Postfix) with ESMTP id 2F4414029F;
	Thu, 21 Mar 2024 01:23:06 +0100 (CET)
Received: from mail-il1-f226.google.com (mail-il1-f226.google.com
 [209.85.166.226])
 by mails.dpdk.org (Postfix) with ESMTP id 5C9484028B
 for <test-report@dpdk.org>; Thu, 21 Mar 2024 01:23:05 +0100 (CET)
Received: by mail-il1-f226.google.com with SMTP id
 e9e14a558f8ab-367d6dbeed2so1932315ab.2
 for <test-report@dpdk.org>; Wed, 20 Mar 2024 17:23:05 -0700 (PDT)
DKIM-Signature: v=1; a=rsa-sha256; c=relaxed/relaxed;
 d=iol.unh.edu; s=unh-iol; t=1710980584; x=1711585384; darn=dpdk.org;
 h=references:in-reply-to:cc:to:from:subject:message-id:date:from:to
 :cc:subject:date:message-id:reply-to;
 bh=c904/qtxuupl2/FOTFW8c6RX8AHDSJyindRSf+p9YvM=;
 b=gewbFAv4hIIzbmGZFw0kwTZyAw6ZOFUScNXTl1kU3xh9lywyB2yGNp6cUtybOy08UV
 fYMqJUieVPhfT9Q8FQIX4ULLu2W8W7SDeADVrKHVEFsuVqoubKfci0zzn87kDGV6ySUC
 ANbBmIScp8SBSPS6cxHzzjC2FdvMmMfmlXpu8=
X-Google-DKIM-Signature: v=1; a=rsa-sha256; c=relaxed/relaxed;
 d=1e100.net; s=20230601; t=1710980584; x=1711585384;
 h=references:in-reply-to:cc:to:from:subject:message-id:date
 :x-gm-message-state:from:to:cc:subject:date:message-id:reply-to;
 bh=c904/qtxuupl2/FOTFW8c6RX8AHDSJyindRSf+p9YvM=;
 b=Qrw3okPKRJUdAJ3eIgPX6jBgkJoLgNlnFzw+4CcK76zNgWx9ok71vvd5leWBFj0xbU
 48iuAG4ipf0itOMYfl/icX5UVBVbpAPq9g1CTt8AtQWy2tllU3Pct6u06lS/ZECciZgZ
 M3zvtScSfo2BwbZ+S+bOzmp47L2nJdgDjKbbqlmg08TriVTZ8d/0CLpVn1T3i/Eo4aE2
 oNyTN3KBDQd/CZNA9mfFgK0RAOK0t8Dn7Zl2kP96jUWmHDUpTcw4VCIQK/41kTxp/ldQ
 e0aWdJSmNe2NwurtfvOLyAmdEub0z9NxjAXtjON1xhoXJ0aMINc7O8jFhrC0/H4oUs6a
 Ajtg==
X-Gm-Message-State: AOJu0YyGgSCkiQq1JS8f1O6FY1QxOvmvbc5xNRy54HfhyUvtAd8OAyDi
 8Ym/p73vKcXwGaM85TahiSFRsfe18NOljRXvkN6Er78YCf70hTKzzxi5DYusgr6c425h/zrq0UO
 3rUkAn3omqigHFOFz9W7a76y3f/c03hVZsgbp75JdkqDse4HW1LLozvCi
X-Google-Smtp-Source: AGHT+IGiTQ9sdZnbQhu9Ksdpr9CD9ksSFgYkTfXqwY+mahGovbSlLUXX28zuXI4RTGYzE5g26N2GPGJpauKQ
X-Received: by 2002:a05:6358:8a4:b0:17e:bdcf:f68f with SMTP id
 m36-20020a05635808a400b0017ebdcff68fmr604177rwj.7.1710980182910; 
 Wed, 20 Mar 2024 17:16:22 -0700 (PDT)
Received: from postal.iol.unh.edu (postal.iol.unh.edu.
 [2606:4100:3880:1234::84]) by smtp-relay.gmail.com with ESMTPS id
 r13-20020a63e50d000000b005e49d335f81sm559848pgh.22.2024.03.20.17.16.22
 (version=TLS1_2 cipher=ECDHE-ECDSA-AES128-GCM-SHA256 bits=128/128);
 Wed, 20 Mar 2024 17:16:22 -0700 (PDT)
X-Relaying-Domain: iol.unh.edu
Date: Wed, 20 Mar 2024 17:16:22 -0700 (PDT)
Message-ID: <65fb7c56.630a0220.4d7bf.3f41SMTPIN_ADDED_MISSING@mx.google.com>
Received: from [172.21.0.7] (unknown [172.18.0.240])
 by postal.iol.unh.edu (Postfix) with ESMTP id 4C0AF6052471;
 Wed, 20 Mar 2024 20:16:22 -0400 (EDT)
Subject: |SUCCESS| pw138578 [PATCH] graph: expose node context as pointers
From: dpdklab@iol.unh.edu
To: Test Report <test-report@dpdk.org>
Cc: dpdk-test-reports@iol.unh.edu
In-Reply-To: <20240320173217.311340-2-rjarry@redhat.com>
References: <20240320173217.311340-2-rjarry@redhat.com>
Content-Type: text/plain
X-BeenThere: test-report@dpdk.org
X-Mailman-Version: 2.1.29
Precedence: list
List-Id: automatic DPDK test reports <test-report.dpdk.org>
List-Unsubscribe: <https://mails.dpdk.org/options/test-report>,
 <mailto:test-report-request@dpdk.org?subject=unsubscribe>
List-Archive: <http://mails.dpdk.org/archives/test-report/>
List-Post: <mailto:test-report@dpdk.org>
List-Help: <mailto:test-report-request@dpdk.org?subject=help>
List-Subscribe: <https://mails.dpdk.org/listinfo/test-report>,
 <mailto:test-report-request@dpdk.org?subject=subscribe>
Errors-To: test-report-bounces@dpdk.org

Test-Label: iol-compile-amd64-testing
Test-Status: SUCCESS
http://dpdk.org/patch/138578

_Testing PASS_

Submitter: Robin Jarry <rjarry@redhat.com>
Date: Wednesday, March 20 2024 17:32:18 
DPDK git baseline: Repo:dpdk
  Branch: master
  CommitID:80ecef6d1f71fcebc0a51d7cabc51f73ee142ff2

138578 --> testing pass

Test environment and result as below:

+---------------------+--------------------+----------------------+-------------------+
|     Environment     | dpdk_meson_compile | dpdk_mingw64_compile | dpdk_msvc_compile |
+=====================+====================+======================+===================+
| Windows Server 2019 | PASS               | PASS                 | SKIPPED           |
+---------------------+--------------------+----------------------+-------------------+
| FreeBSD 13.2        | PASS               | SKIPPED              | SKIPPED           |
+---------------------+--------------------+----------------------+-------------------+
| Windows Server 2022 | PASS               | PASS                 | PASS              |
+---------------------+--------------------+----------------------+-------------------+
| Debian Bullseye     | PASS               | SKIPPED              | SKIPPED           |
+---------------------+--------------------+----------------------+-------------------+
| Debian 11 (arm)     | PASS               | SKIPPED              | SKIPPED           |
+---------------------+--------------------+----------------------+-------------------+
| CentOS Stream 9     | PASS               | SKIPPED              | SKIPPED           |
+---------------------+--------------------+----------------------+-------------------+
| CentOS Stream 8     | PASS               | SKIPPED              | SKIPPED           |
+---------------------+--------------------+----------------------+-------------------+
| Fedora 38           | PASS               | SKIPPED              | SKIPPED           |
+---------------------+--------------------+----------------------+-------------------+
| openSUSE Leap 15    | PASS               | SKIPPED              | SKIPPED           |
+---------------------+--------------------+----------------------+-------------------+
| RHEL8               | PASS               | SKIPPED              | SKIPPED           |
+---------------------+--------------------+----------------------+-------------------+
| Ubuntu 22.04        | PASS               | SKIPPED              | SKIPPED           |
+---------------------+--------------------+----------------------+-------------------+
| Fedora 37           | PASS               | SKIPPED              | SKIPPED           |
+---------------------+--------------------+----------------------+-------------------+
| Alpine              | PASS               | SKIPPED              | SKIPPED           |
+---------------------+--------------------+----------------------+-------------------+
| Ubuntu 20.04        | PASS               | SKIPPED              | SKIPPED           |
+---------------------+--------------------+----------------------+-------------------+


Windows Server 2019
	Kernel: 10.0.17763
	Compiler: clang 14.0 and gcc 8.1.0 (MinGW)

FreeBSD 13.2
	Kernel: 13.2
	Compiler: clang 14.0.5

Windows Server 2022
	Kernel: 10.0.20348.2031
	Compiler: clang 15.0.7, gcc 8.1.0 (MinGW), and MSVC VS 17.9

Debian Bullseye
	Kernel: 5.4.0-167-generic
	Compiler: gcc 10.2.1-6

Debian 11 (arm)
	Kernel: Container Host Kernel
	Compiler: gcc 10.2.1

CentOS Stream 9
	Kernel: 5.4.0-167-generic
	Compiler: gcc 11.4.1 20230605

CentOS Stream 8
	Kernel: 5.4.0-167-generic
	Compiler: gcc 8.5.0 20210514

Fedora 38
	Kernel: Depends on container host
	Compiler: gcc 13.2.1

openSUSE Leap 15
	Kernel: 5.4.0-167-generic
	Compiler: gcc 7.5.0

RHEL8
	Kernel: 5.4.0-167-generic
	Compiler: gcc 8.5.0 20210514 (Red Hat 8.5.0-20)

Ubuntu 22.04
	Kernel: 5.4.0-167-generic
	Compiler: gcc 11.4.0

Fedora 37
	Kernel: Depends on container host system
	Compiler: gcc 12.3.1

Alpine
	Kernel: 5.4.0-167-generic
	Compiler: gcc (Alpine 12.2.1_git20220924-r10) 12.2.1 20220924

Ubuntu 20.04
	Kernel: 5.4.0-167-generic
	Compiler: gcc 9.4.0-1ubuntu1~20.04.1

To view detailed results, visit:
https://lab.dpdk.org/results/dashboard/patchsets/29607/

UNH-IOL DPDK Community Lab

To manage your email subscriptions, visit: 
https://lab.dpdk.org/results/dashboard/preferences/subscriptions/