From mboxrd@z Thu Jan  1 00:00:00 1970
Return-Path: <test-report-bounces@dpdk.org>
Received: from mails.dpdk.org (mails.dpdk.org [217.70.189.124])
	by inbox.dpdk.org (Postfix) with ESMTP id D933243D0B
	for <public@inbox.dpdk.org>; Thu, 21 Mar 2024 01:17:27 +0100 (CET)
Received: from mails.dpdk.org (localhost [127.0.0.1])
	by mails.dpdk.org (Postfix) with ESMTP id D4D9F4029F;
	Thu, 21 Mar 2024 01:17:27 +0100 (CET)
Received: from mail-pl1-f227.google.com (mail-pl1-f227.google.com
 [209.85.214.227])
 by mails.dpdk.org (Postfix) with ESMTP id 811014028B
 for <test-report@dpdk.org>; Thu, 21 Mar 2024 01:17:26 +0100 (CET)
Received: by mail-pl1-f227.google.com with SMTP id
 d9443c01a7336-1df01161b39so2960635ad.3
 for <test-report@dpdk.org>; Wed, 20 Mar 2024 17:17:26 -0700 (PDT)
DKIM-Signature: v=1; a=rsa-sha256; c=relaxed/relaxed;
 d=iol.unh.edu; s=unh-iol; t=1710980246; x=1711585046; darn=dpdk.org;
 h=references:in-reply-to:cc:to:from:subject:message-id:date:from:to
 :cc:subject:date:message-id:reply-to;
 bh=9wIDyOzHkfyCFItBqEmMxSqt0Gi2F9nyfjQCf1+BK2U=;
 b=axGMCmlOAtAPOyOllayJUSbXWqUHYjamYuflBdA0kwlL2h1eKjTv+XhMBSp1X/Y6n2
 7GEaRL+zou2K1IuqH0R4tJHHNFNtlrjrBlvkXW+GRBQ2JvgUGBPYvcEkXQRZrVHP5Knf
 sRFMY1EwzalM0XlKV0GzgwX+rbnjO1v8nhpKU=
X-Google-DKIM-Signature: v=1; a=rsa-sha256; c=relaxed/relaxed;
 d=1e100.net; s=20230601; t=1710980246; x=1711585046;
 h=references:in-reply-to:cc:to:from:subject:message-id:date
 :x-gm-message-state:from:to:cc:subject:date:message-id:reply-to;
 bh=9wIDyOzHkfyCFItBqEmMxSqt0Gi2F9nyfjQCf1+BK2U=;
 b=mA61qWT83YMFERvLC6aZkjCpGVx+SRIg6ePBXmZY4CWbDJ2caq1noIrbBe/Al67yw2
 fAu+4VHkkexMsMRbzwMxpnpNJ7/d+CfTCCOvUL4uOljmCDimZ1rSVct++vrurj4sm2ko
 /HE7bfnvO2gvjMfrcxKQ0v9DcSoNFt4IqNXKGVQO9k4Sds3j+3jINIaSvFzaN9e33REa
 utnqSXXQ6D1CdoggEEirUsaVy6pW1fM6F9uUnVcldxpWoQh/mbaZVKkg3Xpp0c+9Jp8b
 q9IXrzOxV9m8SwpkhoBOpRyrePobDRbGI601XRTRBCdCPKF+mI6XMNdDvKfXOauwz17m
 kbDw==
X-Gm-Message-State: AOJu0YwytGLzHnujkf0fjEvC9K3B9OwvogClxYbjxttKqko9tE+jkYy6
 xmekQDmVuPGx/4CPiMj/L2rQ3w9LN/05A4Nbjwg13/ED5yLRIc5qmdMvCLfrKeYfKPlpSucvFFp
 YzhT0hLEjarvpV1Vuh6AKjbaN7xuNd8oRQaqlswPtTYCFdINCwTQtCRv6
X-Google-Smtp-Source: AGHT+IHmQES2frUNbXE+tinnMX72z7Zj68sbICx5ayCUzzhDp7slfjJsjzUe8Cbl9oXadNHhM13fBN2q6EZl
X-Received: by 2002:a17:902:a5cb:b0:1dd:bf6c:8973 with SMTP id
 t11-20020a170902a5cb00b001ddbf6c8973mr3533359plq.68.1710980245699; 
 Wed, 20 Mar 2024 17:17:25 -0700 (PDT)
Received: from postal.iol.unh.edu (postal.iol.unh.edu.
 [2606:4100:3880:1234::84]) by smtp-relay.gmail.com with ESMTPS id
 h12-20020a170902b94c00b001dccdf24791sm227402pls.132.2024.03.20.17.17.25
 (version=TLS1_2 cipher=ECDHE-ECDSA-AES128-GCM-SHA256 bits=128/128);
 Wed, 20 Mar 2024 17:17:25 -0700 (PDT)
X-Relaying-Domain: iol.unh.edu
Date: Wed, 20 Mar 2024 17:17:25 -0700 (PDT)
Message-ID: <65fb7c95.170a0220.cb752.d639SMTPIN_ADDED_MISSING@mx.google.com>
Received: from [172.21.0.6] (unknown [172.18.0.240])
 by postal.iol.unh.edu (Postfix) with ESMTP id DB69D6052471;
 Wed, 20 Mar 2024 20:17:24 -0400 (EDT)
Subject: |SUCCESS| pw138578 [PATCH] graph: expose node context as pointers
From: dpdklab@iol.unh.edu
To: Test Report <test-report@dpdk.org>
Cc: dpdk-test-reports@iol.unh.edu
In-Reply-To: <20240320173217.311340-2-rjarry@redhat.com>
References: <20240320173217.311340-2-rjarry@redhat.com>
Content-Type: text/plain
X-BeenThere: test-report@dpdk.org
X-Mailman-Version: 2.1.29
Precedence: list
List-Id: automatic DPDK test reports <test-report.dpdk.org>
List-Unsubscribe: <https://mails.dpdk.org/options/test-report>,
 <mailto:test-report-request@dpdk.org?subject=unsubscribe>
List-Archive: <http://mails.dpdk.org/archives/test-report/>
List-Post: <mailto:test-report@dpdk.org>
List-Help: <mailto:test-report-request@dpdk.org?subject=help>
List-Subscribe: <https://mails.dpdk.org/listinfo/test-report>,
 <mailto:test-report-request@dpdk.org?subject=subscribe>
Errors-To: test-report-bounces@dpdk.org

Test-Label: iol-unit-amd64-testing
Test-Status: SUCCESS
http://dpdk.org/patch/138578

_Testing PASS_

Submitter: Robin Jarry <rjarry@redhat.com>
Date: Wednesday, March 20 2024 17:32:18 
DPDK git baseline: Repo:dpdk
  Branch: master
  CommitID:80ecef6d1f71fcebc0a51d7cabc51f73ee142ff2

138578 --> testing pass

Test environment and result as below:

+------------------+----------------+
|   Environment    | dpdk_unit_test |
+==================+================+
| CentOS Stream 9  | PASS           |
+------------------+----------------+
| CentOS Stream 8  | PASS           |
+------------------+----------------+
| Debian Bullseye  | PASS           |
+------------------+----------------+
| Debian 11 (arm)  | PASS           |
+------------------+----------------+
| Fedora 38        | PASS           |
+------------------+----------------+
| openSUSE Leap 15 | PASS           |
+------------------+----------------+
| Fedora 37        | PASS           |
+------------------+----------------+
| RHEL8            | PASS           |
+------------------+----------------+
| Ubuntu 20.04     | PASS           |
+------------------+----------------+
| Ubuntu 22.04     | PASS           |
+------------------+----------------+


CentOS Stream 9
	Kernel: 5.4.0-167-generic
	Compiler: gcc 11.4.1 20230605

CentOS Stream 8
	Kernel: 5.4.0-167-generic
	Compiler: gcc 8.5.0 20210514

Debian Bullseye
	Kernel: 5.4.0-167-generic
	Compiler: gcc 10.2.1-6

Debian 11 (arm)
	Kernel: Container Host Kernel
	Compiler: gcc 10.2.1

Fedora 38
	Kernel: Depends on container host
	Compiler: gcc 13.2.1

openSUSE Leap 15
	Kernel: 5.4.0-167-generic
	Compiler: gcc 7.5.0

Fedora 37
	Kernel: Depends on container host system
	Compiler: gcc 12.3.1

RHEL8
	Kernel: 5.4.0-167-generic
	Compiler: gcc 8.5.0 20210514 (Red Hat 8.5.0-20)

Ubuntu 20.04
	Kernel: 5.4.0-167-generic
	Compiler: gcc 9.4.0-1ubuntu1~20.04.1

Ubuntu 22.04
	Kernel: 5.4.0-167-generic
	Compiler: gcc 11.4.0

To view detailed results, visit:
https://lab.dpdk.org/results/dashboard/patchsets/29607/

UNH-IOL DPDK Community Lab

To manage your email subscriptions, visit: 
https://lab.dpdk.org/results/dashboard/preferences/subscriptions/