From mboxrd@z Thu Jan  1 00:00:00 1970
Return-Path: <test-report-bounces@dpdk.org>
Received: from mails.dpdk.org (mails.dpdk.org [217.70.189.124])
	by inbox.dpdk.org (Postfix) with ESMTP id 8FDF843D0B
	for <public@inbox.dpdk.org>; Thu, 21 Mar 2024 01:23:51 +0100 (CET)
Received: from mails.dpdk.org (localhost [127.0.0.1])
	by mails.dpdk.org (Postfix) with ESMTP id 8778E4029F;
	Thu, 21 Mar 2024 01:23:51 +0100 (CET)
Received: from mail-pf1-f227.google.com (mail-pf1-f227.google.com
 [209.85.210.227])
 by mails.dpdk.org (Postfix) with ESMTP id 3DE2F4028B
 for <test-report@dpdk.org>; Thu, 21 Mar 2024 01:23:48 +0100 (CET)
Received: by mail-pf1-f227.google.com with SMTP id
 d2e1a72fcca58-6e6b5aa0b52so443296b3a.3
 for <test-report@dpdk.org>; Wed, 20 Mar 2024 17:23:48 -0700 (PDT)
DKIM-Signature: v=1; a=rsa-sha256; c=relaxed/relaxed;
 d=iol.unh.edu; s=unh-iol; t=1710980627; x=1711585427; darn=dpdk.org;
 h=references:in-reply-to:cc:to:from:subject:message-id:date:from:to
 :cc:subject:date:message-id:reply-to;
 bh=c904/qtxuupl2/FOTFW8c6RX8AHDSJyindRSf+p9YvM=;
 b=Ox6IlQBWDOf3siX5srt36Z2GFcPn5T5lq+Db3maCn2rh5bXqAamuM8S3tiHRnf6sqJ
 OzK8/m9a+gPHMvOJTyHosc+Qnw+SS1q1c15jYPCYg1MWNc5woUu4CBZZf6NAhNTG99xg
 aMz3PR5l30tgGoQNghAkKQOayt/9wQw3EIKfU=
X-Google-DKIM-Signature: v=1; a=rsa-sha256; c=relaxed/relaxed;
 d=1e100.net; s=20230601; t=1710980627; x=1711585427;
 h=references:in-reply-to:cc:to:from:subject:message-id:date
 :x-gm-message-state:from:to:cc:subject:date:message-id:reply-to;
 bh=c904/qtxuupl2/FOTFW8c6RX8AHDSJyindRSf+p9YvM=;
 b=rwJphilycaRE1WxZQerMo3Gmf0cusUgSisHPjAqEoxiafZoh4nFxKF+fVs94VZm8D3
 HU/zIF0BfENkQ2nXoHVVq/DHq7A6U+kX47wvnzO2dG1/14XFk4QGFKCgDrBcFbzCqyFT
 Dusnf9W53p9wCBKaKcx5B6FMCbM/Wignong+3TjcyO5gY9c3hw8H4FcELqefxEoCoooq
 Ys1XGXF4ExsAdz13EhpCv88L7Mz/0y1wQyJql10wpFflxitwoiM8hs4mWp1KA0+3vAcW
 43/RBYd1K98byIG9PYlH4Kka8DO46pj+PdHHLJ8OUumlqpedAZDy4wQLV/VG+Kwk4rLf
 H8Iw==
X-Gm-Message-State: AOJu0Yxif5dtbIyDYvB1RmOMSm7NLxEnZI2Jsokc5PjBpxQB8zYWyRzd
 xyeC0cjnrmnko1C/BAq5g6j20lsaVeTI+j80+fkJPK+tSNp3fQOADDOMNfxjDSqgtnPvFX/orUK
 NmfCBwhqJPOj7KHuong4HgENirLGukDSXkRHlwKBLsFhugB2186Q9gtXz
X-Google-Smtp-Source: AGHT+IHnf7py2Dgwd/eXI1evwzzhP8UQenSQwMejo26HMbPjRn+LBNBc/CAwEiUvs0sZ1o18mKOh8l2ODvSc
X-Received: by 2002:a05:6358:4041:b0:17b:8706:fd39 with SMTP id
 a1-20020a056358404100b0017b8706fd39mr27095086rwa.10.1710980264160; 
 Wed, 20 Mar 2024 17:17:44 -0700 (PDT)
Received: from postal.iol.unh.edu (postal.iol.unh.edu.
 [2606:4100:3880:1234::84]) by smtp-relay.gmail.com with ESMTPS id
 g17-20020a63e611000000b005dc846d791csm506495pgh.14.2024.03.20.17.17.44
 (version=TLS1_2 cipher=ECDHE-ECDSA-AES128-GCM-SHA256 bits=128/128);
 Wed, 20 Mar 2024 17:17:44 -0700 (PDT)
X-Relaying-Domain: iol.unh.edu
Date: Wed, 20 Mar 2024 17:17:44 -0700 (PDT)
Message-ID: <65fb7ca8.630a0220.583fe.0e46SMTPIN_ADDED_MISSING@mx.google.com>
Received: from [172.21.0.6] (unknown [172.18.0.240])
 by postal.iol.unh.edu (Postfix) with ESMTP id 999C36052471;
 Wed, 20 Mar 2024 20:17:43 -0400 (EDT)
Subject: |SUCCESS| pw138578 [PATCH] graph: expose node context as pointers
From: dpdklab@iol.unh.edu
To: Test Report <test-report@dpdk.org>
Cc: dpdk-test-reports@iol.unh.edu
In-Reply-To: <20240320173217.311340-2-rjarry@redhat.com>
References: <20240320173217.311340-2-rjarry@redhat.com>
Content-Type: text/plain
X-BeenThere: test-report@dpdk.org
X-Mailman-Version: 2.1.29
Precedence: list
List-Id: automatic DPDK test reports <test-report.dpdk.org>
List-Unsubscribe: <https://mails.dpdk.org/options/test-report>,
 <mailto:test-report-request@dpdk.org?subject=unsubscribe>
List-Archive: <http://mails.dpdk.org/archives/test-report/>
List-Post: <mailto:test-report@dpdk.org>
List-Help: <mailto:test-report-request@dpdk.org?subject=help>
List-Subscribe: <https://mails.dpdk.org/listinfo/test-report>,
 <mailto:test-report-request@dpdk.org?subject=subscribe>
Errors-To: test-report-bounces@dpdk.org

Test-Label: iol-compile-amd64-testing
Test-Status: SUCCESS
http://dpdk.org/patch/138578

_Testing PASS_

Submitter: Robin Jarry <rjarry@redhat.com>
Date: Wednesday, March 20 2024 17:32:18 
DPDK git baseline: Repo:dpdk
  Branch: master
  CommitID:80ecef6d1f71fcebc0a51d7cabc51f73ee142ff2

138578 --> testing pass

Test environment and result as below:

+---------------------+--------------------+----------------------+-------------------+
|     Environment     | dpdk_meson_compile | dpdk_mingw64_compile | dpdk_msvc_compile |
+=====================+====================+======================+===================+
| Windows Server 2019 | PASS               | PASS                 | SKIPPED           |
+---------------------+--------------------+----------------------+-------------------+
| FreeBSD 13.2        | PASS               | SKIPPED              | SKIPPED           |
+---------------------+--------------------+----------------------+-------------------+
| Windows Server 2022 | PASS               | PASS                 | PASS              |
+---------------------+--------------------+----------------------+-------------------+
| Debian Bullseye     | PASS               | SKIPPED              | SKIPPED           |
+---------------------+--------------------+----------------------+-------------------+
| Debian 11 (arm)     | PASS               | SKIPPED              | SKIPPED           |
+---------------------+--------------------+----------------------+-------------------+
| CentOS Stream 9     | PASS               | SKIPPED              | SKIPPED           |
+---------------------+--------------------+----------------------+-------------------+
| CentOS Stream 8     | PASS               | SKIPPED              | SKIPPED           |
+---------------------+--------------------+----------------------+-------------------+
| Fedora 38           | PASS               | SKIPPED              | SKIPPED           |
+---------------------+--------------------+----------------------+-------------------+
| openSUSE Leap 15    | PASS               | SKIPPED              | SKIPPED           |
+---------------------+--------------------+----------------------+-------------------+
| RHEL8               | PASS               | SKIPPED              | SKIPPED           |
+---------------------+--------------------+----------------------+-------------------+
| Ubuntu 22.04        | PASS               | SKIPPED              | SKIPPED           |
+---------------------+--------------------+----------------------+-------------------+
| Fedora 37           | PASS               | SKIPPED              | SKIPPED           |
+---------------------+--------------------+----------------------+-------------------+
| Alpine              | PASS               | SKIPPED              | SKIPPED           |
+---------------------+--------------------+----------------------+-------------------+
| Ubuntu 20.04        | PASS               | SKIPPED              | SKIPPED           |
+---------------------+--------------------+----------------------+-------------------+


Windows Server 2019
	Kernel: 10.0.17763
	Compiler: clang 14.0 and gcc 8.1.0 (MinGW)

FreeBSD 13.2
	Kernel: 13.2
	Compiler: clang 14.0.5

Windows Server 2022
	Kernel: 10.0.20348.2031
	Compiler: clang 15.0.7, gcc 8.1.0 (MinGW), and MSVC VS 17.9

Debian Bullseye
	Kernel: 5.4.0-167-generic
	Compiler: gcc 10.2.1-6

Debian 11 (arm)
	Kernel: Container Host Kernel
	Compiler: gcc 10.2.1

CentOS Stream 9
	Kernel: 5.4.0-167-generic
	Compiler: gcc 11.4.1 20230605

CentOS Stream 8
	Kernel: 5.4.0-167-generic
	Compiler: gcc 8.5.0 20210514

Fedora 38
	Kernel: Depends on container host
	Compiler: gcc 13.2.1

openSUSE Leap 15
	Kernel: 5.4.0-167-generic
	Compiler: gcc 7.5.0

RHEL8
	Kernel: 5.4.0-167-generic
	Compiler: gcc 8.5.0 20210514 (Red Hat 8.5.0-20)

Ubuntu 22.04
	Kernel: 5.4.0-167-generic
	Compiler: gcc 11.4.0

Fedora 37
	Kernel: Depends on container host system
	Compiler: gcc 12.3.1

Alpine
	Kernel: 5.4.0-167-generic
	Compiler: gcc (Alpine 12.2.1_git20220924-r10) 12.2.1 20220924

Ubuntu 20.04
	Kernel: 5.4.0-167-generic
	Compiler: gcc 9.4.0-1ubuntu1~20.04.1

To view detailed results, visit:
https://lab.dpdk.org/results/dashboard/patchsets/29607/

UNH-IOL DPDK Community Lab

To manage your email subscriptions, visit: 
https://lab.dpdk.org/results/dashboard/preferences/subscriptions/