From mboxrd@z Thu Jan  1 00:00:00 1970
Return-Path: <test-report-bounces@dpdk.org>
Received: from mails.dpdk.org (mails.dpdk.org [217.70.189.124])
	by inbox.dpdk.org (Postfix) with ESMTP id 3E72543D0B
	for <public@inbox.dpdk.org>; Thu, 21 Mar 2024 01:18:59 +0100 (CET)
Received: from mails.dpdk.org (localhost [127.0.0.1])
	by mails.dpdk.org (Postfix) with ESMTP id 36F6541151;
	Thu, 21 Mar 2024 01:18:59 +0100 (CET)
Received: from mail-yw1-f226.google.com (mail-yw1-f226.google.com
 [209.85.128.226])
 by mails.dpdk.org (Postfix) with ESMTP id A21A24028B
 for <test-report@dpdk.org>; Thu, 21 Mar 2024 01:18:41 +0100 (CET)
Received: by mail-yw1-f226.google.com with SMTP id
 00721157ae682-609f4d8551eso12433757b3.1
 for <test-report@dpdk.org>; Wed, 20 Mar 2024 17:18:41 -0700 (PDT)
DKIM-Signature: v=1; a=rsa-sha256; c=relaxed/relaxed;
 d=iol.unh.edu; s=unh-iol; t=1710980321; x=1711585121; darn=dpdk.org;
 h=references:in-reply-to:cc:to:from:subject:message-id:date:from:to
 :cc:subject:date:message-id:reply-to;
 bh=X52lTO2MhUaGlWerCSX8KOHIphrM3NRz1bHO9opBQ5w=;
 b=TnER9eJKDx/cxe3p703d0KKmmYVMKtiaNwjXupBgSbdV16R6MXUmEolo5wWqP7M4D9
 phaB13JuSjkMGSVcBBj8K6P98077R/Youfk7Y1SEzV1v1Zx1GRqcoZUTpTDDUYGhUYFv
 0F1m4cpv9hxiHlaTjQOc8LYTsBNxkPRTDjRdY=
X-Google-DKIM-Signature: v=1; a=rsa-sha256; c=relaxed/relaxed;
 d=1e100.net; s=20230601; t=1710980321; x=1711585121;
 h=references:in-reply-to:cc:to:from:subject:message-id:date
 :x-gm-message-state:from:to:cc:subject:date:message-id:reply-to;
 bh=X52lTO2MhUaGlWerCSX8KOHIphrM3NRz1bHO9opBQ5w=;
 b=DQvKTKKcNSw4MTbnwJ1xeXvL+CP4oomNRQTmtLESsbOyIbBumjyHiXjl96dMUVHTe+
 iT3ZpI0yEXGAIMUUTNSc1plbzU0ZBQ/oGaYI97y3dZOSBvEUW/fmNfjaGrJUPnQVQ2hC
 VQ3auNfYgfNL/kKMrqB3dxXhNZoudssAwDo/Bs+C0ku+Nf9iTP+TKsTKbc3rPfmgHgTy
 azTiUi5UwGjWCKJjNCdLH3/BkLclVuljyLq1U/zdflx7zZa0/4qwFfvIr+8Eg06fWn47
 9hdfBYb8C8Io4zXGu4CRvYMs878ZQmDG0baqlXxKFG9pFhy6gb1gWoQN9s74FDcmymZZ
 gchg==
X-Gm-Message-State: AOJu0YyxhjNQgDlvlqw8cV1xwCr9rWnkJGrBi/uKiPumzknUh1AsR+VY
 k9OsD01i1/A8kzgKNQ6Vuir9J7A6VOj2tXum6wWHwE0Czl5CDNXCe7QBotm0vONjTOSuVxprTGH
 ZE62bT0ondFq3HdlC6TXjGOMamnvixiOObsWcjpCE
X-Google-Smtp-Source: AGHT+IEcmmcWCmBsLUfyboUDOVQa75TZmZp6p0oDF20r/i1tZ6cSd2VQIOc9vsHUBmIH9d6Y5NF3rtPjqVXa
X-Received: by 2002:a81:be13:0:b0:610:e891:838c with SMTP id
 i19-20020a81be13000000b00610e891838cmr785633ywn.7.1710980321082; 
 Wed, 20 Mar 2024 17:18:41 -0700 (PDT)
Received: from postal.iol.unh.edu (postal.iol.unh.edu. [132.177.123.84])
 by smtp-relay.gmail.com with ESMTPS id
 x186-20020a814ac3000000b00610c5185536sm613776ywa.59.2024.03.20.17.18.41
 (version=TLS1_2 cipher=ECDHE-ECDSA-AES128-GCM-SHA256 bits=128/128);
 Wed, 20 Mar 2024 17:18:41 -0700 (PDT)
X-Relaying-Domain: iol.unh.edu
Date: Wed, 20 Mar 2024 17:18:41 -0700 (PDT)
Message-ID: <65fb7ce1.810a0220.cac91.b8d7SMTPIN_ADDED_MISSING@mx.google.com>
Received: from [172.21.0.6] (unknown [172.18.0.240])
 by postal.iol.unh.edu (Postfix) with ESMTP id B854B6052471;
 Wed, 20 Mar 2024 20:18:40 -0400 (EDT)
Subject: |SUCCESS| pw138579 [PATCH] net/ixgbe: do not update link status in s
From: dpdklab@iol.unh.edu
To: Test Report <test-report@dpdk.org>
Cc: dpdk-test-reports@iol.unh.edu
In-Reply-To: <20240320173407.216307-1-stephen@networkplumber.org>
References: <20240320173407.216307-1-stephen@networkplumber.org>
Content-Type: text/plain
X-BeenThere: test-report@dpdk.org
X-Mailman-Version: 2.1.29
Precedence: list
List-Id: automatic DPDK test reports <test-report.dpdk.org>
List-Unsubscribe: <https://mails.dpdk.org/options/test-report>,
 <mailto:test-report-request@dpdk.org?subject=unsubscribe>
List-Archive: <http://mails.dpdk.org/archives/test-report/>
List-Post: <mailto:test-report@dpdk.org>
List-Help: <mailto:test-report-request@dpdk.org?subject=help>
List-Subscribe: <https://mails.dpdk.org/listinfo/test-report>,
 <mailto:test-report-request@dpdk.org?subject=subscribe>
Errors-To: test-report-bounces@dpdk.org

Test-Label: iol-unit-amd64-testing
Test-Status: SUCCESS
http://dpdk.org/patch/138579

_Testing PASS_

Submitter: Stephen Hemminger <stephen@networkplumber.org>
Date: Wednesday, March 20 2024 17:33:04 
DPDK git baseline: Repo:dpdk
  Branch: master
  CommitID:2c54ea7a59dfc0a819d3527309c62846fc8853af

138579 --> testing pass

Test environment and result as below:

+------------------+----------------+
|   Environment    | dpdk_unit_test |
+==================+================+
| CentOS Stream 9  | PASS           |
+------------------+----------------+
| Debian Bullseye  | PASS           |
+------------------+----------------+
| Fedora 38        | PASS           |
+------------------+----------------+
| Debian 11 (arm)  | PASS           |
+------------------+----------------+
| CentOS Stream 8  | PASS           |
+------------------+----------------+
| Ubuntu 20.04     | PASS           |
+------------------+----------------+
| RHEL8            | PASS           |
+------------------+----------------+
| openSUSE Leap 15 | PASS           |
+------------------+----------------+
| Ubuntu 22.04     | PASS           |
+------------------+----------------+
| Fedora 37        | PASS           |
+------------------+----------------+


CentOS Stream 9
	Kernel: 5.4.0-167-generic
	Compiler: gcc 11.4.1 20230605

Debian Bullseye
	Kernel: 5.4.0-167-generic
	Compiler: gcc 10.2.1-6

Fedora 38
	Kernel: Depends on container host
	Compiler: gcc 13.2.1

Debian 11 (arm)
	Kernel: Container Host Kernel
	Compiler: gcc 10.2.1

CentOS Stream 8
	Kernel: 5.4.0-167-generic
	Compiler: gcc 8.5.0 20210514

Ubuntu 20.04
	Kernel: 5.4.0-167-generic
	Compiler: gcc 9.4.0-1ubuntu1~20.04.1

RHEL8
	Kernel: 5.4.0-167-generic
	Compiler: gcc 8.5.0 20210514 (Red Hat 8.5.0-20)

openSUSE Leap 15
	Kernel: 5.4.0-167-generic
	Compiler: gcc 7.5.0

Ubuntu 22.04
	Kernel: 5.4.0-167-generic
	Compiler: gcc 11.4.0

Fedora 37
	Kernel: Depends on container host system
	Compiler: gcc 12.3.1

To view detailed results, visit:
https://lab.dpdk.org/results/dashboard/patchsets/29608/

UNH-IOL DPDK Community Lab

To manage your email subscriptions, visit: 
https://lab.dpdk.org/results/dashboard/preferences/subscriptions/