From mboxrd@z Thu Jan  1 00:00:00 1970
Return-Path: <test-report-bounces@dpdk.org>
Received: from mails.dpdk.org (mails.dpdk.org [217.70.189.124])
	by inbox.dpdk.org (Postfix) with ESMTP id 7AFD343D0B
	for <public@inbox.dpdk.org>; Thu, 21 Mar 2024 01:18:59 +0100 (CET)
Received: from mails.dpdk.org (localhost [127.0.0.1])
	by mails.dpdk.org (Postfix) with ESMTP id 5D11C427DE;
	Thu, 21 Mar 2024 01:18:59 +0100 (CET)
Received: from mail-yw1-f226.google.com (mail-yw1-f226.google.com
 [209.85.128.226])
 by mails.dpdk.org (Postfix) with ESMTP id 8C93F4028B
 for <test-report@dpdk.org>; Thu, 21 Mar 2024 01:18:52 +0100 (CET)
Received: by mail-yw1-f226.google.com with SMTP id
 00721157ae682-609fd5fbe50so4239537b3.0
 for <test-report@dpdk.org>; Wed, 20 Mar 2024 17:18:52 -0700 (PDT)
DKIM-Signature: v=1; a=rsa-sha256; c=relaxed/relaxed;
 d=iol.unh.edu; s=unh-iol; t=1710980332; x=1711585132; darn=dpdk.org;
 h=references:in-reply-to:cc:to:from:subject:message-id:date:from:to
 :cc:subject:date:message-id:reply-to;
 bh=c904/qtxuupl2/FOTFW8c6RX8AHDSJyindRSf+p9YvM=;
 b=f42QVnjRxmT097pwWCHogbmK7VgNWKPg/YwMicjlBkqiuaeOaIgoq/aJc85PtGP5Zq
 BPHlSEAc5ecf8M6uyrJzqianq1F3xeXINBDw3fNO/CbOzNyacrnBtkZHPS2iwzY/nC3K
 spuv7/mB4WWscOXSpmnopNzFkUooAMJ8eLb6Y=
X-Google-DKIM-Signature: v=1; a=rsa-sha256; c=relaxed/relaxed;
 d=1e100.net; s=20230601; t=1710980332; x=1711585132;
 h=references:in-reply-to:cc:to:from:subject:message-id:date
 :x-gm-message-state:from:to:cc:subject:date:message-id:reply-to;
 bh=c904/qtxuupl2/FOTFW8c6RX8AHDSJyindRSf+p9YvM=;
 b=u7YU0CDi7uIZp9bUAOkhAAmtP5bamjZ8z+liV82Iwts/RIhlg9EI/zeHzeIcpNGWZy
 AbJ6lxR7/01nrGEdYn4lQI+n/hEuE+fNodfNM9Ui+JZwYng3sCF0A4IWSLL9sANv1ZUj
 lag84xmd8GUL4QKKESLAGWacG9RG4pxQPpycwygwfTY+hehwQUk4YwgW2ftNRhBvW1NW
 jc8ja7wld0ogyALZlQbn0CQcfEML3jdgdgUPlvITUi0K4j/1156XId4u0aOeRet1QiKC
 4aTS+0jLNfX2di5sIUw1ttE6YzxV7cDDB/Z21TtOhUxVLkxjUM+lAHXG4M2AxSakdwfg
 p5mw==
X-Gm-Message-State: AOJu0YzQKNwCPU1LOZfRzOpNTKkOn+2MvS2VwER3fpOE6HR8HrA3ncoy
 NPiEOwh96wx6yN5TFkKo3yoy6YewU2OLMFODRsjn7duzsIVTI6Qb7Yxrz/NHL6nNS+kfFGsgKnZ
 kzi15otpN4VU6gr/Oirz6G0oF+XKmEJbGSeUt1iMK
X-Google-Smtp-Source: AGHT+IHqBfdAhEF68/M1pEVr/kdAaltTObGt6Y6MioQ0XCpXju4B6ZOA1GaCGchuq4YFlQSKZ+GILK1XFUUs
X-Received: by 2002:a81:4e93:0:b0:609:7055:f725 with SMTP id
 c141-20020a814e93000000b006097055f725mr19046997ywb.18.1710980332050; 
 Wed, 20 Mar 2024 17:18:52 -0700 (PDT)
Received: from postal.iol.unh.edu (postal.iol.unh.edu. [132.177.123.84])
 by smtp-relay.gmail.com with ESMTPS id
 e187-20020a0dc2c4000000b00609f4113215sm1038156ywd.75.2024.03.20.17.18.51
 (version=TLS1_2 cipher=ECDHE-ECDSA-AES128-GCM-SHA256 bits=128/128);
 Wed, 20 Mar 2024 17:18:52 -0700 (PDT)
X-Relaying-Domain: iol.unh.edu
Date: Wed, 20 Mar 2024 17:18:52 -0700 (PDT)
Message-ID: <65fb7cec.0d0a0220.1882c.724eSMTPIN_ADDED_MISSING@mx.google.com>
Received: from [172.21.0.7] (unknown [172.18.0.240])
 by postal.iol.unh.edu (Postfix) with ESMTP id AE1086052471;
 Wed, 20 Mar 2024 20:18:51 -0400 (EDT)
Subject: |SUCCESS| pw138578 [PATCH] graph: expose node context as pointers
From: dpdklab@iol.unh.edu
To: Test Report <test-report@dpdk.org>
Cc: dpdk-test-reports@iol.unh.edu
In-Reply-To: <20240320173217.311340-2-rjarry@redhat.com>
References: <20240320173217.311340-2-rjarry@redhat.com>
Content-Type: text/plain
X-BeenThere: test-report@dpdk.org
X-Mailman-Version: 2.1.29
Precedence: list
List-Id: automatic DPDK test reports <test-report.dpdk.org>
List-Unsubscribe: <https://mails.dpdk.org/options/test-report>,
 <mailto:test-report-request@dpdk.org?subject=unsubscribe>
List-Archive: <http://mails.dpdk.org/archives/test-report/>
List-Post: <mailto:test-report@dpdk.org>
List-Help: <mailto:test-report-request@dpdk.org?subject=help>
List-Subscribe: <https://mails.dpdk.org/listinfo/test-report>,
 <mailto:test-report-request@dpdk.org?subject=subscribe>
Errors-To: test-report-bounces@dpdk.org

Test-Label: iol-compile-amd64-testing
Test-Status: SUCCESS
http://dpdk.org/patch/138578

_Testing PASS_

Submitter: Robin Jarry <rjarry@redhat.com>
Date: Wednesday, March 20 2024 17:32:18 
DPDK git baseline: Repo:dpdk
  Branch: master
  CommitID:80ecef6d1f71fcebc0a51d7cabc51f73ee142ff2

138578 --> testing pass

Test environment and result as below:

+---------------------+--------------------+----------------------+-------------------+
|     Environment     | dpdk_meson_compile | dpdk_mingw64_compile | dpdk_msvc_compile |
+=====================+====================+======================+===================+
| Windows Server 2019 | PASS               | PASS                 | SKIPPED           |
+---------------------+--------------------+----------------------+-------------------+
| FreeBSD 13.2        | PASS               | SKIPPED              | SKIPPED           |
+---------------------+--------------------+----------------------+-------------------+
| Windows Server 2022 | PASS               | PASS                 | PASS              |
+---------------------+--------------------+----------------------+-------------------+
| Debian Bullseye     | PASS               | SKIPPED              | SKIPPED           |
+---------------------+--------------------+----------------------+-------------------+
| Debian 11 (arm)     | PASS               | SKIPPED              | SKIPPED           |
+---------------------+--------------------+----------------------+-------------------+
| CentOS Stream 9     | PASS               | SKIPPED              | SKIPPED           |
+---------------------+--------------------+----------------------+-------------------+
| CentOS Stream 8     | PASS               | SKIPPED              | SKIPPED           |
+---------------------+--------------------+----------------------+-------------------+
| Fedora 38           | PASS               | SKIPPED              | SKIPPED           |
+---------------------+--------------------+----------------------+-------------------+
| openSUSE Leap 15    | PASS               | SKIPPED              | SKIPPED           |
+---------------------+--------------------+----------------------+-------------------+
| RHEL8               | PASS               | SKIPPED              | SKIPPED           |
+---------------------+--------------------+----------------------+-------------------+
| Ubuntu 22.04        | PASS               | SKIPPED              | SKIPPED           |
+---------------------+--------------------+----------------------+-------------------+
| Fedora 37           | PASS               | SKIPPED              | SKIPPED           |
+---------------------+--------------------+----------------------+-------------------+
| Alpine              | PASS               | SKIPPED              | SKIPPED           |
+---------------------+--------------------+----------------------+-------------------+
| Ubuntu 20.04        | PASS               | SKIPPED              | SKIPPED           |
+---------------------+--------------------+----------------------+-------------------+


Windows Server 2019
	Kernel: 10.0.17763
	Compiler: clang 14.0 and gcc 8.1.0 (MinGW)

FreeBSD 13.2
	Kernel: 13.2
	Compiler: clang 14.0.5

Windows Server 2022
	Kernel: 10.0.20348.2031
	Compiler: clang 15.0.7, gcc 8.1.0 (MinGW), and MSVC VS 17.9

Debian Bullseye
	Kernel: 5.4.0-167-generic
	Compiler: gcc 10.2.1-6

Debian 11 (arm)
	Kernel: Container Host Kernel
	Compiler: gcc 10.2.1

CentOS Stream 9
	Kernel: 5.4.0-167-generic
	Compiler: gcc 11.4.1 20230605

CentOS Stream 8
	Kernel: 5.4.0-167-generic
	Compiler: gcc 8.5.0 20210514

Fedora 38
	Kernel: Depends on container host
	Compiler: gcc 13.2.1

openSUSE Leap 15
	Kernel: 5.4.0-167-generic
	Compiler: gcc 7.5.0

RHEL8
	Kernel: 5.4.0-167-generic
	Compiler: gcc 8.5.0 20210514 (Red Hat 8.5.0-20)

Ubuntu 22.04
	Kernel: 5.4.0-167-generic
	Compiler: gcc 11.4.0

Fedora 37
	Kernel: Depends on container host system
	Compiler: gcc 12.3.1

Alpine
	Kernel: 5.4.0-167-generic
	Compiler: gcc (Alpine 12.2.1_git20220924-r10) 12.2.1 20220924

Ubuntu 20.04
	Kernel: 5.4.0-167-generic
	Compiler: gcc 9.4.0-1ubuntu1~20.04.1

To view detailed results, visit:
https://lab.dpdk.org/results/dashboard/patchsets/29607/

UNH-IOL DPDK Community Lab

To manage your email subscriptions, visit: 
https://lab.dpdk.org/results/dashboard/preferences/subscriptions/