From mboxrd@z Thu Jan  1 00:00:00 1970
Return-Path: <test-report-bounces@dpdk.org>
Received: from mails.dpdk.org (mails.dpdk.org [217.70.189.124])
	by inbox.dpdk.org (Postfix) with ESMTP id BA60543D0B
	for <public@inbox.dpdk.org>; Thu, 21 Mar 2024 01:19:31 +0100 (CET)
Received: from mails.dpdk.org (localhost [127.0.0.1])
	by mails.dpdk.org (Postfix) with ESMTP id AF2D84114B;
	Thu, 21 Mar 2024 01:19:31 +0100 (CET)
Received: from mail-il1-f225.google.com (mail-il1-f225.google.com
 [209.85.166.225])
 by mails.dpdk.org (Postfix) with ESMTP id 8ED304028B
 for <test-report@dpdk.org>; Thu, 21 Mar 2024 01:19:10 +0100 (CET)
Received: by mail-il1-f225.google.com with SMTP id
 e9e14a558f8ab-3684bee9ddfso2157135ab.1
 for <test-report@dpdk.org>; Wed, 20 Mar 2024 17:19:10 -0700 (PDT)
DKIM-Signature: v=1; a=rsa-sha256; c=relaxed/relaxed;
 d=iol.unh.edu; s=unh-iol; t=1710980350; x=1711585150; darn=dpdk.org;
 h=references:in-reply-to:cc:to:from:subject:message-id:date:from:to
 :cc:subject:date:message-id:reply-to;
 bh=IG/oQgw1BxQumpEp/KRpMCXGvmz5sYlk6PTTpi/1/i4=;
 b=EF+Goth43bhM2BEsR+69U9p3VMsjUhBt4wzf4N/Vkux0lqVe6j4Cm5iarcF9+BBmh9
 rD28aKU/JUdlKXhETgfsmVX4eb8vraPjqvBm7PY+iXaG4x/x3Cri2S+kCMIkx/SulYC2
 y6YY7OjqY62h9+g6IY8Yw0x77uKD4lPvCB/+c=
X-Google-DKIM-Signature: v=1; a=rsa-sha256; c=relaxed/relaxed;
 d=1e100.net; s=20230601; t=1710980350; x=1711585150;
 h=references:in-reply-to:cc:to:from:subject:message-id:date
 :x-gm-message-state:from:to:cc:subject:date:message-id:reply-to;
 bh=IG/oQgw1BxQumpEp/KRpMCXGvmz5sYlk6PTTpi/1/i4=;
 b=g+wzU06uk7pyE+DtMjDw/3uPac1c3kvYPPZ/wyVrsg0hpdBnwnRrsHzR90wOs041p2
 KWz3iA+AZURF+FlrMI7Qwi3cKrfV2s9STo90ysfh1OWZbz3x1ay62qfg7J7hu7I/c9La
 noV7BBNsuslz1mmiZ7hv7w2tqOi2D5/VF3u/KLbkYouWqfWFHWTipGP1Y8fMz/3EqYv9
 gDqkfDcwZoO0KqlAe6kgN5b30LNIvivvgAb3kZrDIj0VIZvPqyUSs3fr4v5EsTp4oHUX
 YyWZw0puIgfkbMFebqUsE0H6a9LUfQNxWcpgHMQW1bEndSP8VodFPysqE6Xswu1AgaDT
 rRrA==
X-Gm-Message-State: AOJu0YylaKlWMJqb0YZsfzALjbjtzdNwR0tIDBO5YVYHqCkqhutTEO0Q
 WtHpRfOop3vqjvWpIRVUTclFqVJDew2N5zC1Y4OeiK8/tZzgeClS3aRVp3UeoYEdL5nWhNQpRHM
 uaMap8vbGMLUT7cAZmZ5tAR2Tb0ei9yYk5EpBFFjqv1/5h0g5z7CjuUOY
X-Google-Smtp-Source: AGHT+IE7SolvXv4XNKPpRjfCx/hDXfRlKxrbVHKpX7BmTXZgNlORutQWjNb+MsCcbxJ7IrOkdxDIAjZVvW4C
X-Received: by 2002:a92:c048:0:b0:366:af37:a34e with SMTP id
 o8-20020a92c048000000b00366af37a34emr7944212ilf.23.1710980349953; 
 Wed, 20 Mar 2024 17:19:09 -0700 (PDT)
Received: from postal.iol.unh.edu (postal.iol.unh.edu.
 [2606:4100:3880:1234::84]) by smtp-relay.gmail.com with ESMTPS id
 f3-20020a056638168300b00476f3c75e9csm549325jat.7.2024.03.20.17.19.09
 (version=TLS1_2 cipher=ECDHE-ECDSA-AES128-GCM-SHA256 bits=128/128);
 Wed, 20 Mar 2024 17:19:09 -0700 (PDT)
X-Relaying-Domain: iol.unh.edu
Date: Wed, 20 Mar 2024 17:19:09 -0700 (PDT)
Message-ID: <65fb7cfd.050a0220.6fe2d.3bcdSMTPIN_ADDED_MISSING@mx.google.com>
Received: from [172.21.0.7] (unknown [172.18.0.240])
 by postal.iol.unh.edu (Postfix) with ESMTP id 7571D6052471;
 Wed, 20 Mar 2024 20:19:09 -0400 (EDT)
Subject: |SUCCESS| pw138578 [PATCH] graph: expose node context as pointers
From: dpdklab@iol.unh.edu
To: Test Report <test-report@dpdk.org>
Cc: dpdk-test-reports@iol.unh.edu
In-Reply-To: <20240320173217.311340-2-rjarry@redhat.com>
References: <20240320173217.311340-2-rjarry@redhat.com>
Content-Type: text/plain
X-BeenThere: test-report@dpdk.org
X-Mailman-Version: 2.1.29
Precedence: list
List-Id: automatic DPDK test reports <test-report.dpdk.org>
List-Unsubscribe: <https://mails.dpdk.org/options/test-report>,
 <mailto:test-report-request@dpdk.org?subject=unsubscribe>
List-Archive: <http://mails.dpdk.org/archives/test-report/>
List-Post: <mailto:test-report@dpdk.org>
List-Help: <mailto:test-report-request@dpdk.org?subject=help>
List-Subscribe: <https://mails.dpdk.org/listinfo/test-report>,
 <mailto:test-report-request@dpdk.org?subject=subscribe>
Errors-To: test-report-bounces@dpdk.org

Test-Label: iol-compile-arm64-testing
Test-Status: SUCCESS
http://dpdk.org/patch/138578

_Testing PASS_

Submitter: Robin Jarry <rjarry@redhat.com>
Date: Wednesday, March 20 2024 17:32:18 
DPDK git baseline: Repo:dpdk
  Branch: master
  CommitID:80ecef6d1f71fcebc0a51d7cabc51f73ee142ff2

138578 --> testing pass

Test environment and result as below:

+----------------------------------------+--------------------+
|              Environment               | dpdk_meson_compile |
+========================================+====================+
| Ubuntu 20.04 ARM SVE                   | PASS               |
+----------------------------------------+--------------------+
| Debian 12 with MUSDK                   | PASS               |
+----------------------------------------+--------------------+
| Fedora 38 (ARM)                        | PASS               |
+----------------------------------------+--------------------+
| Fedora 37 (ARM)                        | PASS               |
+----------------------------------------+--------------------+
| Ubuntu 20.04 (ARM)                     | PASS               |
+----------------------------------------+--------------------+
| Debian 11 (Buster) (ARM)               | PASS               |
+----------------------------------------+--------------------+
| CentOS Stream 9 (ARM)                  | PASS               |
+----------------------------------------+--------------------+
| Debian 12 (arm)                        | PASS               |
+----------------------------------------+--------------------+
| Ubuntu 20.04 aarch32 GCC Cross Compile | PASS               |
+----------------------------------------+--------------------+


Ubuntu 20.04 ARM SVE
	Kernel: 5.4.0-167-generic
	Compiler: gcc (Ubuntu 10.5.0-1ubuntu1~20.04) 10.5.0

Debian 12 with MUSDK
	Kernel: Container Host Kernel
	Compiler: gcc 12.2.0

Fedora 38 (ARM)
	Kernel: Depends on container host
	Compiler: gcc 13.2.1

Fedora 37 (ARM)
	Kernel: Depends on container host
	Compiler: gcc 12.3.1

Ubuntu 20.04 (ARM)
	Kernel: Container Host Kernel
	Compiler: gcc 9.4.0

Debian 11 (Buster) (ARM)
	Kernel: Container Host Kernel
	Compiler: gcc 10.2.1

CentOS Stream 9 (ARM)
	Kernel: Container Host Kernel
	Compiler: gcc 11.4.1

Debian 12 (arm)
	Kernel: Container Host Kernel
	Compiler: gcc 12.2.0

Ubuntu 20.04 aarch32 GCC Cross Compile
	Kernel: 5.4.0-167-generic
	Compiler: gcc 9.4.0

To view detailed results, visit:
https://lab.dpdk.org/results/dashboard/patchsets/29607/

UNH-IOL DPDK Community Lab

To manage your email subscriptions, visit: 
https://lab.dpdk.org/results/dashboard/preferences/subscriptions/