From mboxrd@z Thu Jan  1 00:00:00 1970
Return-Path: <test-report-bounces@dpdk.org>
Received: from mails.dpdk.org (mails.dpdk.org [217.70.189.124])
	by inbox.dpdk.org (Postfix) with ESMTP id 2666643D0C
	for <public@inbox.dpdk.org>; Thu, 21 Mar 2024 02:17:03 +0100 (CET)
Received: from mails.dpdk.org (localhost [127.0.0.1])
	by mails.dpdk.org (Postfix) with ESMTP id EA1A94029F;
	Thu, 21 Mar 2024 02:17:02 +0100 (CET)
Received: from mail-qt1-f228.google.com (mail-qt1-f228.google.com
 [209.85.160.228])
 by mails.dpdk.org (Postfix) with ESMTP id C54ED4028B
 for <test-report@dpdk.org>; Thu, 21 Mar 2024 02:17:00 +0100 (CET)
Received: by mail-qt1-f228.google.com with SMTP id
 d75a77b69052e-430bf84977dso3267701cf.1
 for <test-report@dpdk.org>; Wed, 20 Mar 2024 18:17:00 -0700 (PDT)
DKIM-Signature: v=1; a=rsa-sha256; c=relaxed/relaxed;
 d=iol.unh.edu; s=unh-iol; t=1710983820; x=1711588620; darn=dpdk.org;
 h=references:in-reply-to:cc:to:from:subject:message-id:date:from:to
 :cc:subject:date:message-id:reply-to;
 bh=3YznK72r2Ql51wids0b+jTLyWEVOA1gK22ZAV+CAUOQ=;
 b=Cyec5+ttHu32Qbj4uOEC2SqAITXviReIKGzdpBrPi8BZulvdhmcgvqbltea0DwBF6T
 XmfZQcfh5DtUTZr53SSRMccy0dCeK38sz4f5z/t70m3uYMVLpqRpXfcZb+V/Cak3tGE2
 QHQzAfqoIhhpH9uh7BJUiWbfA3VvmeFE9AX68=
X-Google-DKIM-Signature: v=1; a=rsa-sha256; c=relaxed/relaxed;
 d=1e100.net; s=20230601; t=1710983820; x=1711588620;
 h=references:in-reply-to:cc:to:from:subject:message-id:date
 :x-gm-message-state:from:to:cc:subject:date:message-id:reply-to;
 bh=3YznK72r2Ql51wids0b+jTLyWEVOA1gK22ZAV+CAUOQ=;
 b=CzKS/B5WmNON5HzQSrfRjfqxDL+0rencsl6qWbmgWwh7WI9B4GcNDuQjmo3q1YbZqQ
 kiqSkIldPZqj56hWiqlXDDZNhmvvVD8GuC/s0ONQZ/bgdJPD/Zmxcf6wz7c+cZEpuXri
 gsQipt+mk/RxYNQJZlY6orlkdB8W/W/GSxej+Ffndbo+yPZ/9IuEWqwkNIde+q+MVE/7
 ODLsCoZSSFqrbJ1Yedr60TP/l2u5Ef3DXhIgysiL4UvHGkBA31RFv4hsXT2i23VJ21u+
 xbGLYLDn6vsUFT+9gl9zkFlO6CSh7CAwv7891yvHG37UhLspLU7ig0UvtODPHFsTaY0T
 LRag==
X-Gm-Message-State: AOJu0YwvYdiSTdKaGFnEpBIjuFWKF3FimCVdJ/uSjy17CiuVn692TI1h
 nYiYHmVx4mJ8xX07fdbiPXo9qO9cbQO+rTr+aRZH7GUnk2dMhIn0p0wWeCt5RK8ExH5jPcjJIjk
 m6bzheaSIuDPyR50Y7HmWaR36EuhccK2+9ykPEXlh
X-Google-Smtp-Source: AGHT+IHZF4UQcfGzvBwBkxedVQFmckOjjvouO6R4B/jwLBBpGhhNPKxdhLqOkGVYTCAafamz5UG6PL4N7DtT
X-Received: by 2002:ac8:5e50:0:b0:42e:cc99:2d10 with SMTP id
 i16-20020ac85e50000000b0042ecc992d10mr456066qtx.27.1710983820201; 
 Wed, 20 Mar 2024 18:17:00 -0700 (PDT)
Received: from postal.iol.unh.edu (postal.iol.unh.edu. [132.177.123.84])
 by smtp-relay.gmail.com with ESMTPS id
 bs15-20020ac86f0f000000b00430df10e4absm429155qtb.27.2024.03.20.18.17.00
 (version=TLS1_2 cipher=ECDHE-ECDSA-AES128-GCM-SHA256 bits=128/128);
 Wed, 20 Mar 2024 18:17:00 -0700 (PDT)
X-Relaying-Domain: iol.unh.edu
Date: Wed, 20 Mar 2024 18:17:00 -0700 (PDT)
Message-ID: <65fb8a8c.c80a0220.d6da5.d563SMTPIN_ADDED_MISSING@mx.google.com>
Received: from [172.21.0.6] (unknown [172.18.0.240])
 by postal.iol.unh.edu (Postfix) with ESMTP id E1CC16052471;
 Wed, 20 Mar 2024 21:16:59 -0400 (EDT)
Subject: |SUCCESS| pw138647-138648 [PATCH] [2/2] mempool: use rte constant ma
From: dpdklab@iol.unh.edu
To: Test Report <test-report@dpdk.org>
Cc: dpdk-test-reports@iol.unh.edu
In-Reply-To: <1710970416-27841-3-git-send-email-roretzla@linux.microsoft.com>
References: <1710970416-27841-3-git-send-email-roretzla@linux.microsoft.com>
Content-Type: text/plain
X-BeenThere: test-report@dpdk.org
X-Mailman-Version: 2.1.29
Precedence: list
List-Id: automatic DPDK test reports <test-report.dpdk.org>
List-Unsubscribe: <https://mails.dpdk.org/options/test-report>,
 <mailto:test-report-request@dpdk.org?subject=unsubscribe>
List-Archive: <http://mails.dpdk.org/archives/test-report/>
List-Post: <mailto:test-report@dpdk.org>
List-Help: <mailto:test-report-request@dpdk.org?subject=help>
List-Subscribe: <https://mails.dpdk.org/listinfo/test-report>,
 <mailto:test-report-request@dpdk.org?subject=subscribe>
Errors-To: test-report-bounces@dpdk.org

Test-Label: iol-abi-testing
Test-Status: SUCCESS
http://dpdk.org/patch/138648

_Testing PASS_

Submitter: Tyler Retzlaff <roretzla@linux.microsoft.com>
Date: Wednesday, March 20 2024 21:33:36 
DPDK git baseline: Repo:dpdk
  Branch: master
  CommitID:80ecef6d1f71fcebc0a51d7cabc51f73ee142ff2

138647-138648 --> testing pass

Test environment and result as below:

+------------------+----------+
|   Environment    | abi_test |
+==================+==========+
| CentOS Stream 8  | PASS     |
+------------------+----------+
| CentOS Stream 9  | PASS     |
+------------------+----------+
| Ubuntu 22.04     | PASS     |
+------------------+----------+
| Debian 11 (arm)  | PASS     |
+------------------+----------+
| Debian Bullseye  | PASS     |
+------------------+----------+
| openSUSE Leap 15 | PASS     |
+------------------+----------+
| Fedora 38        | PASS     |
+------------------+----------+
| Fedora 37        | PASS     |
+------------------+----------+
| RHEL8            | PASS     |
+------------------+----------+


CentOS Stream 8
	Kernel: 5.4.0-167-generic
	Compiler: gcc 8.5.0 20210514

CentOS Stream 9
	Kernel: 5.4.0-167-generic
	Compiler: gcc 11.4.1 20230605

Ubuntu 22.04
	Kernel: 5.4.0-167-generic
	Compiler: gcc 11.4.0

Debian 11 (arm)
	Kernel: Container Host Kernel
	Compiler: gcc 10.2.1

Debian Bullseye
	Kernel: 5.4.0-167-generic
	Compiler: gcc 10.2.1-6

openSUSE Leap 15
	Kernel: 5.4.0-167-generic
	Compiler: gcc 7.5.0

Fedora 38
	Kernel: Depends on container host
	Compiler: clang 16.0.6

Fedora 37
	Kernel: Depends on container host system
	Compiler: gcc 12.3.1

RHEL8
	Kernel: 5.4.0-167-generic
	Compiler: gcc 8.5.0 20210514 (Red Hat 8.5.0-20)

To view detailed results, visit:
https://lab.dpdk.org/results/dashboard/patchsets/29615/

UNH-IOL DPDK Community Lab

To manage your email subscriptions, visit: 
https://lab.dpdk.org/results/dashboard/preferences/subscriptions/