From mboxrd@z Thu Jan  1 00:00:00 1970
Return-Path: <test-report-bounces@dpdk.org>
Received: from mails.dpdk.org (mails.dpdk.org [217.70.189.124])
	by inbox.dpdk.org (Postfix) with ESMTP id D8D0043D0C
	for <public@inbox.dpdk.org>; Thu, 21 Mar 2024 02:51:57 +0100 (CET)
Received: from mails.dpdk.org (localhost [127.0.0.1])
	by mails.dpdk.org (Postfix) with ESMTP id D3E514029F;
	Thu, 21 Mar 2024 02:51:57 +0100 (CET)
Received: from mail-io1-f98.google.com (mail-io1-f98.google.com
 [209.85.166.98]) by mails.dpdk.org (Postfix) with ESMTP id 0C8FB4028B
 for <test-report@dpdk.org>; Thu, 21 Mar 2024 02:51:57 +0100 (CET)
Received: by mail-io1-f98.google.com with SMTP id
 ca18e2360f4ac-7c8ccffacbcso13374039f.2
 for <test-report@dpdk.org>; Wed, 20 Mar 2024 18:51:56 -0700 (PDT)
DKIM-Signature: v=1; a=rsa-sha256; c=relaxed/relaxed;
 d=iol.unh.edu; s=unh-iol; t=1710985916; x=1711590716; darn=dpdk.org;
 h=references:in-reply-to:cc:to:from:subject:message-id:date:from:to
 :cc:subject:date:message-id:reply-to;
 bh=CgnR7Gd9j5xB3SNHxVRXe+02krcDZsCdFA9QlTf6tHM=;
 b=MjEwuxCH2re0ze1TDP/sE/DRjTj7+2OAq+VKrUCEs17jyZbLb4qMtCciVK6ZLxKVvD
 Y0YDlG/jRaYMHRHaxdXTWw/ElxJiu5D/98pEUxIL5kRusRkY+r9NqA9sqeRGYHFOQKlZ
 V4eXKwJOppAJisSDaO8a/Jn+3LeXJFvK2RSjw=
X-Google-DKIM-Signature: v=1; a=rsa-sha256; c=relaxed/relaxed;
 d=1e100.net; s=20230601; t=1710985916; x=1711590716;
 h=references:in-reply-to:cc:to:from:subject:message-id:date
 :x-gm-message-state:from:to:cc:subject:date:message-id:reply-to;
 bh=CgnR7Gd9j5xB3SNHxVRXe+02krcDZsCdFA9QlTf6tHM=;
 b=wVACud1h2fviO1DNMQBIEuB/iSMl+kksOYyTWywNVm1Lamp2Z+umD0qfp+Jxj2B38K
 kBYTTJkl7jB7R0DtCMg631qBU2HGxG82eyQh1fqYhNHBM8i0uMbxHUVFYL3jX3qvTATJ
 IukLppfmaSjBVFR6xnL1rewFHhmX1gREnOljpK1MS7VKcEv61ghGcVsDB7Jcdo+WqAhy
 bQ89S+UTj/cfBom1EUiS1Q/9EUueBRh7G/2STYffgXeoebRTDNMq2e9ZzbXRQ8aadXj3
 IyBJ7F1c0bKSHXyiXupeyFmkUekvNGJepr88NdQufpRfAqflr8YXAGU9+X8y8eu6dBlb
 ItkA==
X-Gm-Message-State: AOJu0YzfAQL7d38n8Z7xkTdi+D7tXcfOGaAETYH8lxxOPda2xmmVG9q7
 WQnh7sa+kB2DYgwkGX4I9zmVE/O54YEz2kLbiRiJHF13YW/qgScjrITWlGkubKZgoROAIVWBLio
 k+9uPwkRdlfUBMZlGrwUXGSyPwy9GGcGu6qyh9KsGwniR3Y9lhGYoREx5
X-Google-Smtp-Source: AGHT+IHZkryP//XV4yMbfIZr9HT6Vnqdo8us/xHq+ZOSY8Itf0IePAS/EgyN7xG6iUFqLAisNcsKwDMeKZlr
X-Received: by 2002:a5d:93d1:0:b0:7c8:dc57:4dd3 with SMTP id
 j17-20020a5d93d1000000b007c8dc574dd3mr19087637ioo.6.1710985916419; 
 Wed, 20 Mar 2024 18:51:56 -0700 (PDT)
Received: from postal.iol.unh.edu (postal.iol.unh.edu.
 [2606:4100:3880:1234::84]) by smtp-relay.gmail.com with ESMTPS id
 r21-20020a6b4415000000b007cf09fec25csm156302ioa.0.2024.03.20.18.51.56
 (version=TLS1_2 cipher=ECDHE-ECDSA-AES128-GCM-SHA256 bits=128/128);
 Wed, 20 Mar 2024 18:51:56 -0700 (PDT)
X-Relaying-Domain: iol.unh.edu
Date: Wed, 20 Mar 2024 18:51:56 -0700 (PDT)
Message-ID: <65fb92bc.6b0a0220.5e9d4.9188SMTPIN_ADDED_MISSING@mx.google.com>
Received: from [172.21.0.6] (unknown [172.18.0.240])
 by postal.iol.unh.edu (Postfix) with ESMTP id EA0906052471;
 Wed, 20 Mar 2024 21:51:55 -0400 (EDT)
Subject: |SUCCESS| pw138583-138625 [PATCH] [46/46] app/test-bbdev: use rte st
From: dpdklab@iol.unh.edu
To: Test Report <test-report@dpdk.org>
Cc: dpdk-test-reports@iol.unh.edu
In-Reply-To: <1710967892-7046-47-git-send-email-roretzla@linux.microsoft.com>
References: <1710967892-7046-47-git-send-email-roretzla@linux.microsoft.com>
Content-Type: text/plain
X-BeenThere: test-report@dpdk.org
X-Mailman-Version: 2.1.29
Precedence: list
List-Id: automatic DPDK test reports <test-report.dpdk.org>
List-Unsubscribe: <https://mails.dpdk.org/options/test-report>,
 <mailto:test-report-request@dpdk.org?subject=unsubscribe>
List-Archive: <http://mails.dpdk.org/archives/test-report/>
List-Post: <mailto:test-report@dpdk.org>
List-Help: <mailto:test-report-request@dpdk.org?subject=help>
List-Subscribe: <https://mails.dpdk.org/listinfo/test-report>,
 <mailto:test-report-request@dpdk.org?subject=subscribe>
Errors-To: test-report-bounces@dpdk.org

Test-Label: iol-compile-arm64-testing
Test-Status: SUCCESS
http://dpdk.org/patch/138625

_Testing PASS_

Submitter: Tyler Retzlaff <roretzla@linux.microsoft.com>
Date: Wednesday, March 20 2024 20:51:32 
DPDK git baseline: Repo:dpdk
  Branch: master
  CommitID:80ecef6d1f71fcebc0a51d7cabc51f73ee142ff2

138583-138625 --> testing pass

Test environment and result as below:

+----------------------------------------+--------------------+
|              Environment               | dpdk_meson_compile |
+========================================+====================+
| Ubuntu 20.04 ARM SVE                   | PASS               |
+----------------------------------------+--------------------+
| Debian 12 with MUSDK                   | PASS               |
+----------------------------------------+--------------------+
| Fedora 37 (ARM)                        | PASS               |
+----------------------------------------+--------------------+
| CentOS Stream 9 (ARM)                  | PASS               |
+----------------------------------------+--------------------+
| Fedora 38 (ARM)                        | PASS               |
+----------------------------------------+--------------------+
| Debian 12 (arm)                        | PASS               |
+----------------------------------------+--------------------+
| Ubuntu 20.04 (ARM)                     | PASS               |
+----------------------------------------+--------------------+
| Ubuntu 20.04 ARM Clang Cross Compile   | PASS               |
+----------------------------------------+--------------------+
| Ubuntu 20.04 aarch32 GCC Cross Compile | PASS               |
+----------------------------------------+--------------------+
| Debian 11 (Buster) (ARM)               | PASS               |
+----------------------------------------+--------------------+
| Ubuntu 20.04 ARM GCC Cross Compile     | PASS               |
+----------------------------------------+--------------------+
| Fedora 38 (ARM Clang)                  | PASS               |
+----------------------------------------+--------------------+


Ubuntu 20.04 ARM SVE
	Kernel: 5.4.0-167-generic
	Compiler: gcc (Ubuntu 10.5.0-1ubuntu1~20.04) 10.5.0

Debian 12 with MUSDK
	Kernel: Container Host Kernel
	Compiler: gcc 12.2.0

Fedora 37 (ARM)
	Kernel: Depends on container host
	Compiler: gcc 12.3.1

CentOS Stream 9 (ARM)
	Kernel: Container Host Kernel
	Compiler: gcc 11.4.1

Fedora 38 (ARM)
	Kernel: Depends on container host
	Compiler: gcc 13.2.1

Debian 12 (arm)
	Kernel: Container Host Kernel
	Compiler: gcc 12.2.0

Ubuntu 20.04 (ARM)
	Kernel: Container Host Kernel
	Compiler: gcc 9.4.0

Ubuntu 20.04 ARM Clang Cross Compile
	Kernel: 5.4.0-72-generic
	Compiler: clang 10.0.0-4ubuntu1

Ubuntu 20.04 aarch32 GCC Cross Compile
	Kernel: 5.4.0-167-generic
	Compiler: gcc 9.4.0

Debian 11 (Buster) (ARM)
	Kernel: Container Host Kernel
	Compiler: gcc 10.2.1

Ubuntu 20.04 ARM GCC Cross Compile
	Kernel: 5.4.0-167-generic
	Compiler: aarch64-linux-gnu-gcc (Ubuntu 9.4.0-1ubuntu1~20.04.2) 9.4.0

Fedora 38 (ARM Clang)
	Kernel: Depends on container host
	Compiler: clang 16.0.6

To view detailed results, visit:
https://lab.dpdk.org/results/dashboard/patchsets/29609/

UNH-IOL DPDK Community Lab

To manage your email subscriptions, visit: 
https://lab.dpdk.org/results/dashboard/preferences/subscriptions/