From mboxrd@z Thu Jan  1 00:00:00 1970
Return-Path: <test-report-bounces@dpdk.org>
Received: from mails.dpdk.org (mails.dpdk.org [217.70.189.124])
	by inbox.dpdk.org (Postfix) with ESMTP id D402343D0C
	for <public@inbox.dpdk.org>; Thu, 21 Mar 2024 03:26:07 +0100 (CET)
Received: from mails.dpdk.org (localhost [127.0.0.1])
	by mails.dpdk.org (Postfix) with ESMTP id CF3FF4029F;
	Thu, 21 Mar 2024 03:26:07 +0100 (CET)
Received: from mail-pf1-f228.google.com (mail-pf1-f228.google.com
 [209.85.210.228])
 by mails.dpdk.org (Postfix) with ESMTP id 3AB214028B
 for <test-report@dpdk.org>; Thu, 21 Mar 2024 03:26:06 +0100 (CET)
Received: by mail-pf1-f228.google.com with SMTP id
 d2e1a72fcca58-6e8f51d0bf0so488779b3a.3
 for <test-report@dpdk.org>; Wed, 20 Mar 2024 19:26:06 -0700 (PDT)
DKIM-Signature: v=1; a=rsa-sha256; c=relaxed/relaxed;
 d=iol.unh.edu; s=unh-iol; t=1710987965; x=1711592765; darn=dpdk.org;
 h=references:in-reply-to:cc:to:from:subject:message-id:date:from:to
 :cc:subject:date:message-id:reply-to;
 bh=e4u/VTPCZBFWfiVXvZ+UH6+VttBQkxzgej4hUakQCxQ=;
 b=fIZONnVN3HqiERfogUHl1xBSs1U0cq6RmAjQ8lGitCvvrZEo0s0XjP8VeY+qbHtYxq
 S+522m1akHEFpm2H1LT5XodeNqaSLzr+LbvNSKTmV4qbPSRoyYkf5HVkADfmOOpRfAes
 2ehaNuqhvtRyTCccMnyTh7YIzJ/pLUYlSnXZI=
X-Google-DKIM-Signature: v=1; a=rsa-sha256; c=relaxed/relaxed;
 d=1e100.net; s=20230601; t=1710987965; x=1711592765;
 h=references:in-reply-to:cc:to:from:subject:message-id:date
 :x-gm-message-state:from:to:cc:subject:date:message-id:reply-to;
 bh=e4u/VTPCZBFWfiVXvZ+UH6+VttBQkxzgej4hUakQCxQ=;
 b=B2qnOU9GCxQvNADuhz/IEmwIRKaa53fbfxHD6bAFL9npRq/gNMCi9Lu9J18oU364C0
 r9XcuYl9a5RrmfjlZ90ypJTiztCVIZSgsqEi5hwkyRnRg9PGYfInD59NJCRwaG3rM6TT
 a5VoxRYDjESq6HuyIXNmNwFy+ps4eHhZZIgYEtrRAv/8Pf3JednCyddjjUGTthVsLwkm
 SoSvKn/kxclyY9TFRG+CBTvSIn0d85Pa5Ku7HU+MbmtetN+4Q1ZYAD0Ih5YdtJqhx0td
 1o2UGUBBOJdKQNYlxiRY64GhyoBYKvkZ6fAEYk0pD253RFenFH9JcxTDVoK1np1LJN8t
 +KDg==
X-Gm-Message-State: AOJu0YwmSNqa5kD8INro6Pw+B5a1+RHsWRo+W7P7DjI0WYDNmv8kYwJL
 eo7dvq+7/7si5QQ3L1pmuwdGY2P2UZsv82IzNXBX4nf/Mwz+m7g/zh2cVlC7xKzlh69XKxAIlPG
 xz6TKv/lHcGenLdNvPrPuUEcVQ7h9idHGLMu+t1J9
X-Google-Smtp-Source: AGHT+IExFlP6M+HEbmZDUbWgdqAMQ+5Iw1jZoccKBoXsmBrOiYFMl+xdOI3lJ3UBCdmFlYplFyKi9AIJLihc
X-Received: by 2002:a05:6a20:9f87:b0:1a3:6b56:d4d8 with SMTP id
 mm7-20020a056a209f8700b001a36b56d4d8mr9654444pzb.48.1710987512844; 
 Wed, 20 Mar 2024 19:18:32 -0700 (PDT)
Received: from postal.iol.unh.edu (postal.iol.unh.edu. [132.177.123.84])
 by smtp-relay.gmail.com with ESMTPS id
 ky6-20020a170902f98600b001d8e78811a2sm272024plb.17.2024.03.20.19.18.32
 (version=TLS1_2 cipher=ECDHE-ECDSA-AES128-GCM-SHA256 bits=128/128);
 Wed, 20 Mar 2024 19:18:32 -0700 (PDT)
X-Relaying-Domain: iol.unh.edu
Date: Wed, 20 Mar 2024 19:18:32 -0700 (PDT)
Message-ID: <65fb98f8.170a0220.c558e.080dSMTPIN_ADDED_MISSING@mx.google.com>
Received: from [172.21.0.6] (unknown [172.18.0.240])
 by postal.iol.unh.edu (Postfix) with ESMTP id F1C9C6052471;
 Wed, 20 Mar 2024 22:18:31 -0400 (EDT)
Subject: |SUCCESS| pw138645-138644 [PATCH] [2/2] eal: add rte ffs32 and rte f
From: dpdklab@iol.unh.edu
To: Test Report <test-report@dpdk.org>
Cc: dpdk-test-reports@iol.unh.edu
In-Reply-To: <1710969879-23701-3-git-send-email-roretzla@linux.microsoft.com>
References: <1710969879-23701-3-git-send-email-roretzla@linux.microsoft.com>
Content-Type: text/plain
X-BeenThere: test-report@dpdk.org
X-Mailman-Version: 2.1.29
Precedence: list
List-Id: automatic DPDK test reports <test-report.dpdk.org>
List-Unsubscribe: <https://mails.dpdk.org/options/test-report>,
 <mailto:test-report-request@dpdk.org?subject=unsubscribe>
List-Archive: <http://mails.dpdk.org/archives/test-report/>
List-Post: <mailto:test-report@dpdk.org>
List-Help: <mailto:test-report-request@dpdk.org?subject=help>
List-Subscribe: <https://mails.dpdk.org/listinfo/test-report>,
 <mailto:test-report-request@dpdk.org?subject=subscribe>
Errors-To: test-report-bounces@dpdk.org

Test-Label: iol-abi-testing
Test-Status: SUCCESS
http://dpdk.org/patch/138644

_Testing PASS_

Submitter: Tyler Retzlaff <roretzla@linux.microsoft.com>
Date: Wednesday, March 20 2024 21:24:39 
DPDK git baseline: Repo:dpdk
  Branch: master
  CommitID:80ecef6d1f71fcebc0a51d7cabc51f73ee142ff2

138645-138644 --> testing pass

Test environment and result as below:

+------------------+----------+
|   Environment    | abi_test |
+==================+==========+
| CentOS Stream 9  | PASS     |
+------------------+----------+
| CentOS Stream 8  | PASS     |
+------------------+----------+
| Debian Bullseye  | PASS     |
+------------------+----------+
| Fedora 38        | PASS     |
+------------------+----------+
| openSUSE Leap 15 | PASS     |
+------------------+----------+
| RHEL8            | PASS     |
+------------------+----------+
| Debian 11 (arm)  | PASS     |
+------------------+----------+
| Fedora 37        | PASS     |
+------------------+----------+
| Ubuntu 22.04     | PASS     |
+------------------+----------+


CentOS Stream 9
	Kernel: 5.4.0-167-generic
	Compiler: gcc 11.4.1 20230605

CentOS Stream 8
	Kernel: 5.4.0-167-generic
	Compiler: gcc 8.5.0 20210514

Debian Bullseye
	Kernel: 5.4.0-167-generic
	Compiler: gcc 10.2.1-6

Fedora 38
	Kernel: Depends on container host
	Compiler: clang 16.0.6

openSUSE Leap 15
	Kernel: 5.4.0-167-generic
	Compiler: gcc 7.5.0

RHEL8
	Kernel: 5.4.0-167-generic
	Compiler: gcc 8.5.0 20210514 (Red Hat 8.5.0-20)

Debian 11 (arm)
	Kernel: Container Host Kernel
	Compiler: gcc 10.2.1

Fedora 37
	Kernel: Depends on container host system
	Compiler: gcc 12.3.1

Ubuntu 22.04
	Kernel: 5.4.0-167-generic
	Compiler: gcc 11.4.0

To view detailed results, visit:
https://lab.dpdk.org/results/dashboard/patchsets/29613/

UNH-IOL DPDK Community Lab

To manage your email subscriptions, visit: 
https://lab.dpdk.org/results/dashboard/preferences/subscriptions/