From mboxrd@z Thu Jan  1 00:00:00 1970
Return-Path: <test-report-bounces@dpdk.org>
Received: from mails.dpdk.org (mails.dpdk.org [217.70.189.124])
	by inbox.dpdk.org (Postfix) with ESMTP id 5517F43D0C
	for <public@inbox.dpdk.org>; Thu, 21 Mar 2024 03:22:01 +0100 (CET)
Received: from mails.dpdk.org (localhost [127.0.0.1])
	by mails.dpdk.org (Postfix) with ESMTP id 47B9A4029F;
	Thu, 21 Mar 2024 03:22:01 +0100 (CET)
Received: from mail-yw1-f225.google.com (mail-yw1-f225.google.com
 [209.85.128.225])
 by mails.dpdk.org (Postfix) with ESMTP id 2AD614028B
 for <test-report@dpdk.org>; Thu, 21 Mar 2024 03:21:59 +0100 (CET)
Received: by mail-yw1-f225.google.com with SMTP id
 00721157ae682-60a0a54869bso4557477b3.1
 for <test-report@dpdk.org>; Wed, 20 Mar 2024 19:21:59 -0700 (PDT)
DKIM-Signature: v=1; a=rsa-sha256; c=relaxed/relaxed;
 d=iol.unh.edu; s=unh-iol; t=1710987718; x=1711592518; darn=dpdk.org;
 h=references:in-reply-to:cc:to:from:subject:message-id:date:from:to
 :cc:subject:date:message-id:reply-to;
 bh=e4u/VTPCZBFWfiVXvZ+UH6+VttBQkxzgej4hUakQCxQ=;
 b=B6KdU6VIMZyem0J/+O4NdX6nf7e0mCgf/Pb5f7xjA+WjLjv78phggRHBtc4l0j9Idl
 iEJBIMBB2B7xWAeFklHge/HApHH6Dp10pBWG8wK7GrhvQgEb7j+dSTdACxtCDPF1AzV/
 ZlFgWGpA/Q9Ws41cMHbtOibQFywVJrj3K/U5k=
X-Google-DKIM-Signature: v=1; a=rsa-sha256; c=relaxed/relaxed;
 d=1e100.net; s=20230601; t=1710987718; x=1711592518;
 h=references:in-reply-to:cc:to:from:subject:message-id:date
 :x-gm-message-state:from:to:cc:subject:date:message-id:reply-to;
 bh=e4u/VTPCZBFWfiVXvZ+UH6+VttBQkxzgej4hUakQCxQ=;
 b=taTtB6S/cATIZQzlXEDFqsZ6NO3vH41VPaKwgOBzpu736jC8TEi6Q9Ob7xL98Ma8Mq
 75yTD8PEzH920674CUND0QbjhDXtGkkr4oc2QHke5IfPjW/nozTXA1XtsGUTDKliyNYg
 +lJDc3AZmLkG/7gteB0osrdp5ekiqAvIvsDpBxjQRXbXf/tFPxWzrpTQpkBLfxRrRx9o
 6Wcx1eYwWaSW7oi7bPL216h9zDZj45Gour6TE3A8mCF5OG2LS8n/3wY/2GynV7iebei4
 izOFwcew/kFbgkxGjectIGeWclf4zspgeYPvLYn1ax6xlYw/uD1GJOOKrksw57Z7LaZ6
 26qA==
X-Gm-Message-State: AOJu0YwE0d7sg7cPuTvDBDSs/CbBBfPxHjDFn1lhqvRtzwHpp2PGm2Sd
 GOHUVPshVUG8eVSaMfqHxBuxFxUnegM++CXvQPe1IIqvDvPLqsas2zcsIdqIjAh7LvTHBZbXZoZ
 aq0GP06BaL7sBgQpjOkPJU3ai0a8lB62ru8ruVinypeUPEPxSpFXrp+2k
X-Google-Smtp-Source: AGHT+IG1cJTHkaR02g7OBssJ3WVryjIgtT9P8++rYjCXqONDIev29vmtjunK0or08vQzvosAYX8v51SDEfdg
X-Received: by 2002:a81:91d1:0:b0:610:f54b:3e2f with SMTP id
 i200-20020a8191d1000000b00610f54b3e2fmr991031ywg.15.1710987718601; 
 Wed, 20 Mar 2024 19:21:58 -0700 (PDT)
Received: from postal.iol.unh.edu (postal.iol.unh.edu.
 [2606:4100:3880:1234::84]) by smtp-relay.gmail.com with ESMTPS id
 m64-20020a0dfc43000000b0060a041fb678sm1046112ywf.22.2024.03.20.19.21.58
 (version=TLS1_2 cipher=ECDHE-ECDSA-AES128-GCM-SHA256 bits=128/128);
 Wed, 20 Mar 2024 19:21:58 -0700 (PDT)
X-Relaying-Domain: iol.unh.edu
Date: Wed, 20 Mar 2024 19:21:58 -0700 (PDT)
Message-ID: <65fb99c6.0d0a0220.289b4.8f7eSMTPIN_ADDED_MISSING@mx.google.com>
Received: from [172.21.0.7] (unknown [172.18.0.240])
 by postal.iol.unh.edu (Postfix) with ESMTP id 3F6B36052471;
 Wed, 20 Mar 2024 22:21:58 -0400 (EDT)
Subject: |SUCCESS| pw138645-138644 [PATCH] [2/2] eal: add rte ffs32 and rte f
From: dpdklab@iol.unh.edu
To: Test Report <test-report@dpdk.org>
Cc: dpdk-test-reports@iol.unh.edu
In-Reply-To: <1710969879-23701-3-git-send-email-roretzla@linux.microsoft.com>
References: <1710969879-23701-3-git-send-email-roretzla@linux.microsoft.com>
Content-Type: text/plain
X-BeenThere: test-report@dpdk.org
X-Mailman-Version: 2.1.29
Precedence: list
List-Id: automatic DPDK test reports <test-report.dpdk.org>
List-Unsubscribe: <https://mails.dpdk.org/options/test-report>,
 <mailto:test-report-request@dpdk.org?subject=unsubscribe>
List-Archive: <http://mails.dpdk.org/archives/test-report/>
List-Post: <mailto:test-report@dpdk.org>
List-Help: <mailto:test-report-request@dpdk.org?subject=help>
List-Subscribe: <https://mails.dpdk.org/listinfo/test-report>,
 <mailto:test-report-request@dpdk.org?subject=subscribe>
Errors-To: test-report-bounces@dpdk.org

Test-Label: iol-abi-testing
Test-Status: SUCCESS
http://dpdk.org/patch/138644

_Testing PASS_

Submitter: Tyler Retzlaff <roretzla@linux.microsoft.com>
Date: Wednesday, March 20 2024 21:24:39 
DPDK git baseline: Repo:dpdk
  Branch: master
  CommitID:80ecef6d1f71fcebc0a51d7cabc51f73ee142ff2

138645-138644 --> testing pass

Test environment and result as below:

+------------------+----------+
|   Environment    | abi_test |
+==================+==========+
| CentOS Stream 9  | PASS     |
+------------------+----------+
| CentOS Stream 8  | PASS     |
+------------------+----------+
| Debian Bullseye  | PASS     |
+------------------+----------+
| Fedora 38        | PASS     |
+------------------+----------+
| openSUSE Leap 15 | PASS     |
+------------------+----------+
| RHEL8            | PASS     |
+------------------+----------+
| Debian 11 (arm)  | PASS     |
+------------------+----------+
| Fedora 37        | PASS     |
+------------------+----------+
| Ubuntu 22.04     | PASS     |
+------------------+----------+


CentOS Stream 9
	Kernel: 5.4.0-167-generic
	Compiler: gcc 11.4.1 20230605

CentOS Stream 8
	Kernel: 5.4.0-167-generic
	Compiler: gcc 8.5.0 20210514

Debian Bullseye
	Kernel: 5.4.0-167-generic
	Compiler: gcc 10.2.1-6

Fedora 38
	Kernel: Depends on container host
	Compiler: clang 16.0.6

openSUSE Leap 15
	Kernel: 5.4.0-167-generic
	Compiler: gcc 7.5.0

RHEL8
	Kernel: 5.4.0-167-generic
	Compiler: gcc 8.5.0 20210514 (Red Hat 8.5.0-20)

Debian 11 (arm)
	Kernel: Container Host Kernel
	Compiler: gcc 10.2.1

Fedora 37
	Kernel: Depends on container host system
	Compiler: gcc 12.3.1

Ubuntu 22.04
	Kernel: 5.4.0-167-generic
	Compiler: gcc 11.4.0

To view detailed results, visit:
https://lab.dpdk.org/results/dashboard/patchsets/29613/

UNH-IOL DPDK Community Lab

To manage your email subscriptions, visit: 
https://lab.dpdk.org/results/dashboard/preferences/subscriptions/