From mboxrd@z Thu Jan  1 00:00:00 1970
Return-Path: <test-report-bounces@dpdk.org>
Received: from mails.dpdk.org (mails.dpdk.org [217.70.189.124])
	by inbox.dpdk.org (Postfix) with ESMTP id 3E5DC43D0C
	for <public@inbox.dpdk.org>; Thu, 21 Mar 2024 03:35:21 +0100 (CET)
Received: from mails.dpdk.org (localhost [127.0.0.1])
	by mails.dpdk.org (Postfix) with ESMTP id 34FDA4029F;
	Thu, 21 Mar 2024 03:35:21 +0100 (CET)
Received: from mail-oo1-f99.google.com (mail-oo1-f99.google.com
 [209.85.161.99]) by mails.dpdk.org (Postfix) with ESMTP id 688C84028B
 for <test-report@dpdk.org>; Thu, 21 Mar 2024 03:35:19 +0100 (CET)
Received: by mail-oo1-f99.google.com with SMTP id
 006d021491bc7-5a4f608432bso288802eaf.2
 for <test-report@dpdk.org>; Wed, 20 Mar 2024 19:35:19 -0700 (PDT)
DKIM-Signature: v=1; a=rsa-sha256; c=relaxed/relaxed;
 d=iol.unh.edu; s=unh-iol; t=1710988518; x=1711593318; darn=dpdk.org;
 h=references:in-reply-to:cc:to:from:subject:message-id:date:from:to
 :cc:subject:date:message-id:reply-to;
 bh=HArJTzUnbGss3YT3HapbMbWE1HjWD01S5DWnnsWMMXU=;
 b=DCZFC9uYUsAHx51vBCW6042FMURz33vCzpu0RDeehKqmHKO38zlL2v6v3aOclnXPKv
 JY/vHcsoOTDWq+3oGZEyScUFfEhey1va1sQqa0BoHph2XXfcyW3NBTI/IIv/5tZphijj
 ouqwt57YACG5N9BP9yj3IbhSay/2HyuztvNuY=
X-Google-DKIM-Signature: v=1; a=rsa-sha256; c=relaxed/relaxed;
 d=1e100.net; s=20230601; t=1710988518; x=1711593318;
 h=references:in-reply-to:cc:to:from:subject:message-id:date
 :x-gm-message-state:from:to:cc:subject:date:message-id:reply-to;
 bh=HArJTzUnbGss3YT3HapbMbWE1HjWD01S5DWnnsWMMXU=;
 b=YjN/SEhEBZ8YMwpPagGtbTbo76kTUyzgLuDyciprv9q22k5Tgsym8lSjsZdtoq60hq
 M+v+mAMgVctBCLO2rJ0HaCeVTOq1u5KoBdk9gwpm3Wn2w/d4xNYvbgj45z75uldpX4dE
 WTK6UJs6Ydl6jHfJEjUj9uhUOqDwlt8oIX5zaDWGabxTQ3HsA91PhTV3s19bs1dtS/NB
 uPt9tPU/RKO8sstbAFP3CZyLWVOcavXvDvBi1XYtxbWaJOC6qYcj4IJRQbXvvSNloL6B
 /JUoapTi3Bt+XPWuDMYag3fSBzVTjQiCSNQ+5N3Nr4pDVkJook5oXw9UhIptE+VkSLa0
 WVwA==
X-Gm-Message-State: AOJu0YxpPPCFEs4X1Cuv9j+B1v8iJ4FZL3oeoSMn4mJBVlq6b9sKMiz9
 tbdydXrXfjZYqSMROpCA5ixwrZTnMs/LiKaBw1aXgrBTbJcia+7ONZqsaZ3rvxAYmH9PMUjP4h2
 zlBK+oxUjMJvePklbU9RfrR7mRHI1veZUiq2PmTA1
X-Google-Smtp-Source: AGHT+IF5EzQ2H8f+c1GcW7EIpa0lh9tSfcHmmSaKMRh6akgoDWVy/qMwa0YlCjMqCa9wjqVfnXi+baeGszWK
X-Received: by 2002:a05:6820:2d43:b0:5a1:4150:6f57 with SMTP id
 dz3-20020a0568202d4300b005a141506f57mr774252oob.9.1710988518772; 
 Wed, 20 Mar 2024 19:35:18 -0700 (PDT)
Received: from postal.iol.unh.edu (postal.iol.unh.edu. [132.177.123.84])
 by smtp-relay.gmail.com with ESMTPS id
 187-20020a4a14c4000000b005a2251d493asm1040789ood.25.2024.03.20.19.35.18
 (version=TLS1_2 cipher=ECDHE-ECDSA-AES128-GCM-SHA256 bits=128/128);
 Wed, 20 Mar 2024 19:35:18 -0700 (PDT)
X-Relaying-Domain: iol.unh.edu
Date: Wed, 20 Mar 2024 19:35:18 -0700 (PDT)
Message-ID: <65fb9ce6.4a0a0220.8a322.65d4SMTPIN_ADDED_MISSING@mx.google.com>
Received: from [172.21.0.7] (unknown [172.18.0.240])
 by postal.iol.unh.edu (Postfix) with ESMTP id 42EB96052471;
 Wed, 20 Mar 2024 22:35:18 -0400 (EDT)
Subject: |SUCCESS| pw138643-138642 [PATCH] [2/2] eal: adjust intrinsic type c
From: dpdklab@iol.unh.edu
To: Test Report <test-report@dpdk.org>
Cc: dpdk-test-reports@iol.unh.edu
In-Reply-To: <1710969509-20627-3-git-send-email-roretzla@linux.microsoft.com>
References: <1710969509-20627-3-git-send-email-roretzla@linux.microsoft.com>
Content-Type: text/plain
X-BeenThere: test-report@dpdk.org
X-Mailman-Version: 2.1.29
Precedence: list
List-Id: automatic DPDK test reports <test-report.dpdk.org>
List-Unsubscribe: <https://mails.dpdk.org/options/test-report>,
 <mailto:test-report-request@dpdk.org?subject=unsubscribe>
List-Archive: <http://mails.dpdk.org/archives/test-report/>
List-Post: <mailto:test-report@dpdk.org>
List-Help: <mailto:test-report-request@dpdk.org?subject=help>
List-Subscribe: <https://mails.dpdk.org/listinfo/test-report>,
 <mailto:test-report-request@dpdk.org?subject=subscribe>
Errors-To: test-report-bounces@dpdk.org

Test-Label: iol-abi-testing
Test-Status: SUCCESS
http://dpdk.org/patch/138642

_Testing PASS_

Submitter: Tyler Retzlaff <roretzla@linux.microsoft.com>
Date: Wednesday, March 20 2024 21:18:29 
DPDK git baseline: Repo:dpdk
  Branch: master
  CommitID:80ecef6d1f71fcebc0a51d7cabc51f73ee142ff2

138643-138642 --> testing pass

Test environment and result as below:

+------------------+----------+
|   Environment    | abi_test |
+==================+==========+
| CentOS Stream 8  | PASS     |
+------------------+----------+
| Debian Bullseye  | PASS     |
+------------------+----------+
| openSUSE Leap 15 | PASS     |
+------------------+----------+
| CentOS Stream 9  | PASS     |
+------------------+----------+
| Fedora 38        | PASS     |
+------------------+----------+
| Fedora 37        | PASS     |
+------------------+----------+
| Ubuntu 22.04     | PASS     |
+------------------+----------+
| Debian 11 (arm)  | PASS     |
+------------------+----------+
| RHEL8            | PASS     |
+------------------+----------+


CentOS Stream 8
	Kernel: 5.4.0-167-generic
	Compiler: gcc 8.5.0 20210514

Debian Bullseye
	Kernel: 5.4.0-167-generic
	Compiler: gcc 10.2.1-6

openSUSE Leap 15
	Kernel: 5.4.0-167-generic
	Compiler: gcc 7.5.0

CentOS Stream 9
	Kernel: 5.4.0-167-generic
	Compiler: gcc 11.4.1 20230605

Fedora 38
	Kernel: Depends on container host
	Compiler: clang 16.0.6

Fedora 37
	Kernel: Depends on container host system
	Compiler: gcc 12.3.1

Ubuntu 22.04
	Kernel: 5.4.0-167-generic
	Compiler: gcc 11.4.0

Debian 11 (arm)
	Kernel: Container Host Kernel
	Compiler: gcc 10.2.1

RHEL8
	Kernel: 5.4.0-167-generic
	Compiler: gcc 8.5.0 20210514 (Red Hat 8.5.0-20)

To view detailed results, visit:
https://lab.dpdk.org/results/dashboard/patchsets/29612/

UNH-IOL DPDK Community Lab

To manage your email subscriptions, visit: 
https://lab.dpdk.org/results/dashboard/preferences/subscriptions/