From mboxrd@z Thu Jan  1 00:00:00 1970
Return-Path: <test-report-bounces@dpdk.org>
Received: from mails.dpdk.org (mails.dpdk.org [217.70.189.124])
	by inbox.dpdk.org (Postfix) with ESMTP id 2153243D0D
	for <public@inbox.dpdk.org>; Thu, 21 Mar 2024 04:28:47 +0100 (CET)
Received: from mails.dpdk.org (localhost [127.0.0.1])
	by mails.dpdk.org (Postfix) with ESMTP id 1A3234029F;
	Thu, 21 Mar 2024 04:28:47 +0100 (CET)
Received: from mail-qv1-f100.google.com (mail-qv1-f100.google.com
 [209.85.219.100])
 by mails.dpdk.org (Postfix) with ESMTP id F1D494028B
 for <test-report@dpdk.org>; Thu, 21 Mar 2024 04:28:45 +0100 (CET)
Received: by mail-qv1-f100.google.com with SMTP id
 6a1803df08f44-690fed6816fso3775956d6.1
 for <test-report@dpdk.org>; Wed, 20 Mar 2024 20:28:45 -0700 (PDT)
DKIM-Signature: v=1; a=rsa-sha256; c=relaxed/relaxed;
 d=iol.unh.edu; s=unh-iol; t=1710991725; x=1711596525; darn=dpdk.org;
 h=references:in-reply-to:cc:to:from:subject:message-id:date:from:to
 :cc:subject:date:message-id:reply-to;
 bh=2c+qYSBofhIocFxIP3dllhd68N8jKWXFKKTo4B1s8wI=;
 b=DAsS6VhS9oYZWFVNt4R222rpwaSKteOlUttBvfQK13+dcQKzXlFnsJ6RTTQ7UOKkUd
 fxFhVspkWS7es9iJitLrLzFJhPwvEhlhGr18hZYaHAE4rN47TKssqGnE+Bw1AHiDMdBy
 5kFyIb6rmzBUvuczjo0J0O5i77Zi1KgTet5jM=
X-Google-DKIM-Signature: v=1; a=rsa-sha256; c=relaxed/relaxed;
 d=1e100.net; s=20230601; t=1710991725; x=1711596525;
 h=references:in-reply-to:cc:to:from:subject:message-id:date
 :x-gm-message-state:from:to:cc:subject:date:message-id:reply-to;
 bh=2c+qYSBofhIocFxIP3dllhd68N8jKWXFKKTo4B1s8wI=;
 b=IZvO5etMqAKIHHCAiyy4Cc93X2ue9weZmOC5Isf9dcZF6I874FmZTZ2Wo4QrXXvbg5
 JaNDVTH7uUdS7xqBu23YDHq563moZXmraezzEy2O4vcqYIWrSsaVrhOifr5O2LKTzFj/
 JkWzh+kTnCut5brEhfwqBYjkc7MIyxyAqw2OT/bNqDirLhTlEyz9exOZKvfwbdrb0R1y
 bfQOBaojr80IhYQ49+v2U12D52DD6EpdmbY70AK0hrsT/GvpefCdGaYDK8x/r8OakD6/
 5gFXoCz39iHvifL/qVEJxWxJRyPlirKz0kviEfPoXyDASWYlF6YF0MDWtBfPLSm6rvgW
 SiXA==
X-Gm-Message-State: AOJu0YyPsSvjrCguSHVZ+1veVl5LntGlBJ4YpVLoL4sC/wC9HJ86nW3V
 BV4a+zDDoVKVOVDfgd00FaE2qka7fW3FU/zWEzD0xtRrK05sEkV+70BDfDc8q0ntIguU7flcdFh
 dy9FVl8bEiPILb6cGm3HmyXCw3NVjnzuD90lRuQgP
X-Google-Smtp-Source: AGHT+IHDCcUhUJVi406mhH10kqIJh3W6zV7Ym99R2wuZckC32Uf0LJeyEPWJDJN6nht16nFH1WoXD/CWClKJ
X-Received: by 2002:ad4:4eab:0:b0:696:2a33:387d with SMTP id
 ed11-20020ad44eab000000b006962a33387dmr10351180qvb.9.1710991725435; 
 Wed, 20 Mar 2024 20:28:45 -0700 (PDT)
Received: from postal.iol.unh.edu (postal.iol.unh.edu. [132.177.123.84])
 by smtp-relay.gmail.com with ESMTPS id
 9-20020a0562140cc900b0068f2e5f91e9sm918489qvx.38.2024.03.20.20.28.45
 (version=TLS1_2 cipher=ECDHE-ECDSA-AES128-GCM-SHA256 bits=128/128);
 Wed, 20 Mar 2024 20:28:45 -0700 (PDT)
X-Relaying-Domain: iol.unh.edu
Date: Wed, 20 Mar 2024 20:28:45 -0700 (PDT)
Message-ID: <65fba96d.050a0220.f8c23.dea1SMTPIN_ADDED_MISSING@mx.google.com>
Received: from [172.21.0.8] (unknown [172.18.0.240])
 by postal.iol.unh.edu (Postfix) with ESMTP id 194B96052471;
 Wed, 20 Mar 2024 23:28:45 -0400 (EDT)
Subject: |SUCCESS| pw138647-138648 [PATCH] [2/2] mempool: use rte constant ma
From: dpdklab@iol.unh.edu
To: Test Report <test-report@dpdk.org>
Cc: dpdk-test-reports@iol.unh.edu
In-Reply-To: <1710970416-27841-3-git-send-email-roretzla@linux.microsoft.com>
References: <1710970416-27841-3-git-send-email-roretzla@linux.microsoft.com>
Content-Type: text/plain
X-BeenThere: test-report@dpdk.org
X-Mailman-Version: 2.1.29
Precedence: list
List-Id: automatic DPDK test reports <test-report.dpdk.org>
List-Unsubscribe: <https://mails.dpdk.org/options/test-report>,
 <mailto:test-report-request@dpdk.org?subject=unsubscribe>
List-Archive: <http://mails.dpdk.org/archives/test-report/>
List-Post: <mailto:test-report@dpdk.org>
List-Help: <mailto:test-report-request@dpdk.org?subject=help>
List-Subscribe: <https://mails.dpdk.org/listinfo/test-report>,
 <mailto:test-report-request@dpdk.org?subject=subscribe>
Errors-To: test-report-bounces@dpdk.org

Test-Label: iol-compile-amd64-testing
Test-Status: SUCCESS
http://dpdk.org/patch/138648

_Testing PASS_

Submitter: Tyler Retzlaff <roretzla@linux.microsoft.com>
Date: Wednesday, March 20 2024 21:33:36 
DPDK git baseline: Repo:dpdk
  Branch: master
  CommitID:80ecef6d1f71fcebc0a51d7cabc51f73ee142ff2

138647-138648 --> testing pass

Test environment and result as below:

+---------------------+--------------------+----------------------+-------------------+
|     Environment     | dpdk_meson_compile | dpdk_mingw64_compile | dpdk_msvc_compile |
+=====================+====================+======================+===================+
| Windows Server 2019 | PASS               | PASS                 | SKIPPED           |
+---------------------+--------------------+----------------------+-------------------+
| FreeBSD 13.2        | PASS               | SKIPPED              | SKIPPED           |
+---------------------+--------------------+----------------------+-------------------+
| Windows Server 2022 | PASS               | PASS                 | PASS              |
+---------------------+--------------------+----------------------+-------------------+
| Debian Bullseye     | PASS               | SKIPPED              | SKIPPED           |
+---------------------+--------------------+----------------------+-------------------+
| Fedora 38           | PASS               | SKIPPED              | SKIPPED           |
+---------------------+--------------------+----------------------+-------------------+
| Ubuntu 20.04        | PASS               | SKIPPED              | SKIPPED           |
+---------------------+--------------------+----------------------+-------------------+
| CentOS Stream 8     | PASS               | SKIPPED              | SKIPPED           |
+---------------------+--------------------+----------------------+-------------------+
| RHEL8               | PASS               | SKIPPED              | SKIPPED           |
+---------------------+--------------------+----------------------+-------------------+
| Debian 11 (arm)     | PASS               | SKIPPED              | SKIPPED           |
+---------------------+--------------------+----------------------+-------------------+


Windows Server 2019
	Kernel: 10.0.17763
	Compiler: clang 14.0 and gcc 8.1.0 (MinGW)

FreeBSD 13.2
	Kernel: 13.2
	Compiler: clang 14.0.5

Windows Server 2022
	Kernel: 10.0.20348.2031
	Compiler: clang 15.0.7, gcc 8.1.0 (MinGW), and MSVC VS 17.9

Debian Bullseye
	Kernel: 5.4.0-167-generic
	Compiler: gcc 10.2.1-6

Fedora 38
	Kernel: Depends on container host
	Compiler: gcc 13.2.1

Ubuntu 20.04
	Kernel: 5.4.0-167-generic
	Compiler: gcc 9.4.0-1ubuntu1~20.04.1

CentOS Stream 8
	Kernel: 5.4.0-167-generic
	Compiler: gcc 8.5.0 20210514

RHEL8
	Kernel: 5.4.0-167-generic
	Compiler: gcc 8.5.0 20210514 (Red Hat 8.5.0-20)

Debian 11 (arm)
	Kernel: Container Host Kernel
	Compiler: gcc 10.2.1

To view detailed results, visit:
https://lab.dpdk.org/results/dashboard/patchsets/29615/

UNH-IOL DPDK Community Lab

To manage your email subscriptions, visit: 
https://lab.dpdk.org/results/dashboard/preferences/subscriptions/