From mboxrd@z Thu Jan  1 00:00:00 1970
Return-Path: <test-report-bounces@dpdk.org>
Received: from mails.dpdk.org (mails.dpdk.org [217.70.189.124])
	by inbox.dpdk.org (Postfix) with ESMTP id F40E543D0D
	for <public@inbox.dpdk.org>; Thu, 21 Mar 2024 04:46:54 +0100 (CET)
Received: from mails.dpdk.org (localhost [127.0.0.1])
	by mails.dpdk.org (Postfix) with ESMTP id E93B54029F;
	Thu, 21 Mar 2024 04:46:54 +0100 (CET)
Received: from mail-qt1-f225.google.com (mail-qt1-f225.google.com
 [209.85.160.225])
 by mails.dpdk.org (Postfix) with ESMTP id BEE5D4028B
 for <test-report@dpdk.org>; Thu, 21 Mar 2024 04:46:39 +0100 (CET)
Received: by mail-qt1-f225.google.com with SMTP id
 d75a77b69052e-43107ccd7b9so3758801cf.3
 for <test-report@dpdk.org>; Wed, 20 Mar 2024 20:46:39 -0700 (PDT)
DKIM-Signature: v=1; a=rsa-sha256; c=relaxed/relaxed;
 d=iol.unh.edu; s=unh-iol; t=1710992799; x=1711597599; darn=dpdk.org;
 h=references:in-reply-to:cc:to:from:subject:message-id:date:from:to
 :cc:subject:date:message-id:reply-to;
 bh=dDlUK/lXdTNWYd+eXUfQW7mmWOjwLNkFg0jvkm6xXdM=;
 b=OqEAmFC9kHpzxT9FU8KknMkS6jKzBXZVwoX3pgtX9gcKxiMXRii/WVuluF7C0829xf
 tIKWy6Zc/hXRUgBvM+EhdcAkVlT2mvzKYVyG6zRZKeq67/Sl6kh7ZqnbNM2s0UGMdYmk
 4jezHbJkNb8NyQPuezmcVrRm+/hYoZTjKo/LI=
X-Google-DKIM-Signature: v=1; a=rsa-sha256; c=relaxed/relaxed;
 d=1e100.net; s=20230601; t=1710992799; x=1711597599;
 h=references:in-reply-to:cc:to:from:subject:message-id:date
 :x-gm-message-state:from:to:cc:subject:date:message-id:reply-to;
 bh=dDlUK/lXdTNWYd+eXUfQW7mmWOjwLNkFg0jvkm6xXdM=;
 b=DoIwesr+iDUZ5QODR+TFUra8OnSlUX9XvQfDQob3BXez2L1MVYjLaxIZyhc2ugWaiR
 edsH8W+j2G0bVt0TMJhwExHd414SLkr34R9OzUbETgsB3PDX0pJgna+AVzqFh8Ut/JdE
 sMZAYtOKWkCwAx799zqXXVO03yKGuRjw41g8vwOAAJ2EYZqo/G65QAEO4/UrefcULi9x
 /IMSalxh5X8vMauY7yV/AsBqj4OEHdSNEc1yfu1VmaercH0Zg5J9ac3lE7dkGgHA60I6
 xUvoi4GbE+FylIEIgpRnLKQdYgp7hpW5FbRl4vkE6Ai0CQYm029UrTBqLKLB8Y1X108c
 E4QQ==
X-Gm-Message-State: AOJu0YxRMhmP0XRKLY7MisiB41/nGGZroRCJu9XPMFhtGcUDEi3qoP/T
 R7vE2uHUJGjzb/LBUzV1PGnMJj43w0LIFk90OSdZ0/zJEqT62znnIJnDTM2IjpSW4UagqBzN+hx
 nKI9kb4UdJgeyrVs+33r0LfT9enRkvCQjnvHWshoG
X-Google-Smtp-Source: AGHT+IFLYI9+VVrtff3uYL3nYhhB9Ib+Mx/ai+f5sXWkRGg5pb3FueR4pyOn3TdFFAD/e0ccwLPSMDbC+YPC
X-Received: by 2002:a05:622a:489:b0:42e:f47f:7fe7 with SMTP id
 p9-20020a05622a048900b0042ef47f7fe7mr22171094qtx.37.1710992799243; 
 Wed, 20 Mar 2024 20:46:39 -0700 (PDT)
Received: from postal.iol.unh.edu (postal.iol.unh.edu. [132.177.123.84])
 by smtp-relay.gmail.com with ESMTPS id
 bs15-20020ac86f0f000000b00430df10e4absm444072qtb.27.2024.03.20.20.46.39
 (version=TLS1_2 cipher=ECDHE-ECDSA-AES128-GCM-SHA256 bits=128/128);
 Wed, 20 Mar 2024 20:46:39 -0700 (PDT)
X-Relaying-Domain: iol.unh.edu
Date: Wed, 20 Mar 2024 20:46:39 -0700 (PDT)
Message-ID: <65fbad9f.c80a0220.d6da5.e530SMTPIN_ADDED_MISSING@mx.google.com>
Received: from [172.21.0.6] (unknown [172.18.0.240])
 by postal.iol.unh.edu (Postfix) with ESMTP id 92FC76052471;
 Wed, 20 Mar 2024 23:46:38 -0400 (EDT)
Subject: |SUCCESS| pw138645-138644 [PATCH] [2/2] eal: add rte ffs32 and rte f
From: dpdklab@iol.unh.edu
To: Test Report <test-report@dpdk.org>
Cc: dpdk-test-reports@iol.unh.edu
In-Reply-To: <1710969879-23701-3-git-send-email-roretzla@linux.microsoft.com>
References: <1710969879-23701-3-git-send-email-roretzla@linux.microsoft.com>
Content-Type: text/plain
X-BeenThere: test-report@dpdk.org
X-Mailman-Version: 2.1.29
Precedence: list
List-Id: automatic DPDK test reports <test-report.dpdk.org>
List-Unsubscribe: <https://mails.dpdk.org/options/test-report>,
 <mailto:test-report-request@dpdk.org?subject=unsubscribe>
List-Archive: <http://mails.dpdk.org/archives/test-report/>
List-Post: <mailto:test-report@dpdk.org>
List-Help: <mailto:test-report-request@dpdk.org?subject=help>
List-Subscribe: <https://mails.dpdk.org/listinfo/test-report>,
 <mailto:test-report-request@dpdk.org?subject=subscribe>
Errors-To: test-report-bounces@dpdk.org

Test-Label: iol-compile-amd64-testing
Test-Status: SUCCESS
http://dpdk.org/patch/138644

_Testing PASS_

Submitter: Tyler Retzlaff <roretzla@linux.microsoft.com>
Date: Wednesday, March 20 2024 21:24:39 
DPDK git baseline: Repo:dpdk
  Branch: master
  CommitID:80ecef6d1f71fcebc0a51d7cabc51f73ee142ff2

138645-138644 --> testing pass

Test environment and result as below:

+---------------------+--------------------+----------------------+-------------------+
|     Environment     | dpdk_meson_compile | dpdk_mingw64_compile | dpdk_msvc_compile |
+=====================+====================+======================+===================+
| Windows Server 2022 | PASS               | PASS                 | PASS              |
+---------------------+--------------------+----------------------+-------------------+
| FreeBSD 13.2        | PASS               | SKIPPED              | SKIPPED           |
+---------------------+--------------------+----------------------+-------------------+
| Windows Server 2019 | PASS               | PASS                 | SKIPPED           |
+---------------------+--------------------+----------------------+-------------------+


Windows Server 2022
	Kernel: 10.0.20348.2031
	Compiler: clang 15.0.7, gcc 8.1.0 (MinGW), and MSVC VS 17.9

FreeBSD 13.2
	Kernel: 13.2
	Compiler: clang 14.0.5

Windows Server 2019
	Kernel: 10.0.17763
	Compiler: clang 14.0 and gcc 8.1.0 (MinGW)

To view detailed results, visit:
https://lab.dpdk.org/results/dashboard/patchsets/29613/

UNH-IOL DPDK Community Lab

To manage your email subscriptions, visit: 
https://lab.dpdk.org/results/dashboard/preferences/subscriptions/