From mboxrd@z Thu Jan  1 00:00:00 1970
Return-Path: <test-report-bounces@dpdk.org>
Received: from mails.dpdk.org (mails.dpdk.org [217.70.189.124])
	by inbox.dpdk.org (Postfix) with ESMTP id C67F743D11
	for <public@inbox.dpdk.org>; Thu, 21 Mar 2024 08:54:05 +0100 (CET)
Received: from mails.dpdk.org (localhost [127.0.0.1])
	by mails.dpdk.org (Postfix) with ESMTP id C11AF427DC;
	Thu, 21 Mar 2024 08:54:05 +0100 (CET)
Received: from mail-vk1-f226.google.com (mail-vk1-f226.google.com
 [209.85.221.226])
 by mails.dpdk.org (Postfix) with ESMTP id 1483B40261
 for <test-report@dpdk.org>; Thu, 21 Mar 2024 08:53:55 +0100 (CET)
Received: by mail-vk1-f226.google.com with SMTP id
 71dfb90a1353d-4d42d18bd63so241553e0c.2
 for <test-report@dpdk.org>; Thu, 21 Mar 2024 00:53:55 -0700 (PDT)
DKIM-Signature: v=1; a=rsa-sha256; c=relaxed/relaxed;
 d=iol.unh.edu; s=unh-iol; t=1711007634; x=1711612434; darn=dpdk.org;
 h=references:in-reply-to:cc:to:from:subject:message-id:date:from:to
 :cc:subject:date:message-id:reply-to;
 bh=gAKhhhorF8q8UPKjRC4dP4A3j7P5R3ldc8g9DcrHM4U=;
 b=ZHO7XQSZQx0N2QB+1AaSHYdhBzO6EDKeVKpCcMVkF7js9akAWv0E+HV8EJ7Qu+TD9e
 RBb5AjcM7omT7UQMispT5lIQGkg8jdJCc69vSd0p0vz1KHvDRz1DLaoW7Omp+WrocjGY
 NIExaMVsoddsWW7Ievr4jPdFxZuFwcWdXHXh4=
X-Google-DKIM-Signature: v=1; a=rsa-sha256; c=relaxed/relaxed;
 d=1e100.net; s=20230601; t=1711007634; x=1711612434;
 h=references:in-reply-to:cc:to:from:subject:message-id:date
 :x-gm-message-state:from:to:cc:subject:date:message-id:reply-to;
 bh=gAKhhhorF8q8UPKjRC4dP4A3j7P5R3ldc8g9DcrHM4U=;
 b=qM9ijx0xqZNvzUNFscOIb1SIVaPVU4RhJd04g/myV4di1lViTyd+bPKClNQq9UuAF4
 D+bzCG+Lbcl4JvTnKnLcTeljqwRf/SFIRkM1CyrzL2AOBVIsfMT+KbSWe5/+uiO1Cms9
 Lkfj+qBdMO02HGoKCQLo1A0XW1xym1RoLerse/YAP66RJRjKQ5k1JDs2wkS4Obrfps5G
 4eZLWd5cqdoUY0GgOdfo5KTF+GbrYme1aGzoLpEw+zZ7HELslaF1NYS51pw9zjAeQpSx
 MoZqNI8oT/eLKoeSgSLGgWrCIVATZyy2HNwqs5jjXsMVX9BhxhFalBzbwoVBgSJw35l8
 PlYQ==
X-Gm-Message-State: AOJu0Yw94suwcJA/OzBmYl4/eaa1TRxf6P3xDX77WnH15xN394WTbhuF
 5vaOKIHh+FqqoXxkRTkXoGCTEZhS5sw+Tgy5jCJVSvfCr7as1KVs/lxQb2O/H0mYCJjf7mxfEzc
 H6Eo1aUz/mCpiUHRoTpLh0jvE8eiGMUcS0jNvnWdjrjsuBdfDHAq667ZS
X-Google-Smtp-Source: AGHT+IH39XAcbjm4TU4sTuJPguCQQ+C3LSwx4r1tFqO9EnGgV6mZ2BGXzj4ZI6sQ9X95eAmWoGFjGeAFLy6V
X-Received: by 2002:a05:6122:2511:b0:4d3:3236:e91 with SMTP id
 cl17-20020a056122251100b004d332360e91mr6914389vkb.11.1711007634508; 
 Thu, 21 Mar 2024 00:53:54 -0700 (PDT)
Received: from postal.iol.unh.edu (postal.iol.unh.edu.
 [2606:4100:3880:1234::84]) by smtp-relay.gmail.com with ESMTPS id
 y14-20020a056122054e00b004d45ffb766bsm355260vko.5.2024.03.21.00.53.54
 (version=TLS1_2 cipher=ECDHE-ECDSA-AES128-GCM-SHA256 bits=128/128);
 Thu, 21 Mar 2024 00:53:54 -0700 (PDT)
X-Relaying-Domain: iol.unh.edu
Date: Thu, 21 Mar 2024 00:53:54 -0700 (PDT)
Message-ID: <65fbe792.050a0220.7ea7c.298bSMTPIN_ADDED_MISSING@mx.google.com>
Received: from [172.21.0.7] (unknown [172.18.0.240])
 by postal.iol.unh.edu (Postfix) with ESMTP id 2760B6052471;
 Thu, 21 Mar 2024 03:53:54 -0400 (EDT)
Subject: |SUCCESS| pw138626-138638 [PATCH] [15/15] examples: pack structures 
From: dpdklab@iol.unh.edu
To: Test Report <test-report@dpdk.org>
Cc: dpdk-test-reports@iol.unh.edu
In-Reply-To: <1710968771-16435-16-git-send-email-roretzla@linux.microsoft.com>
References: <1710968771-16435-16-git-send-email-roretzla@linux.microsoft.com>
Content-Type: text/plain
X-BeenThere: test-report@dpdk.org
X-Mailman-Version: 2.1.29
Precedence: list
List-Id: automatic DPDK test reports <test-report.dpdk.org>
List-Unsubscribe: <https://mails.dpdk.org/options/test-report>,
 <mailto:test-report-request@dpdk.org?subject=unsubscribe>
List-Archive: <http://mails.dpdk.org/archives/test-report/>
List-Post: <mailto:test-report@dpdk.org>
List-Help: <mailto:test-report-request@dpdk.org?subject=help>
List-Subscribe: <https://mails.dpdk.org/listinfo/test-report>,
 <mailto:test-report-request@dpdk.org?subject=subscribe>
Errors-To: test-report-bounces@dpdk.org

Test-Label: iol-compile-amd64-testing
Test-Status: SUCCESS
http://dpdk.org/patch/138638

_Testing PASS_

Submitter: Tyler Retzlaff <roretzla@linux.microsoft.com>
Date: Wednesday, March 20 2024 21:06:11 
DPDK git baseline: Repo:dpdk
  Branch: master
  CommitID:80ecef6d1f71fcebc0a51d7cabc51f73ee142ff2

138626-138638 --> testing pass

Test environment and result as below:

+---------------------+--------------------+----------------------+-------------------+
|     Environment     | dpdk_meson_compile | dpdk_mingw64_compile | dpdk_msvc_compile |
+=====================+====================+======================+===================+
| Windows Server 2022 | PASS               | PASS                 | PASS              |
+---------------------+--------------------+----------------------+-------------------+
| Windows Server 2019 | PASS               | PASS                 | SKIPPED           |
+---------------------+--------------------+----------------------+-------------------+
| FreeBSD 13.2        | PASS               | SKIPPED              | SKIPPED           |
+---------------------+--------------------+----------------------+-------------------+
| Debian Bullseye     | PASS               | SKIPPED              | SKIPPED           |
+---------------------+--------------------+----------------------+-------------------+
| openSUSE Leap 15    | PASS               | SKIPPED              | SKIPPED           |
+---------------------+--------------------+----------------------+-------------------+
| Ubuntu 22.04        | PASS               | SKIPPED              | SKIPPED           |
+---------------------+--------------------+----------------------+-------------------+
| CentOS Stream 8     | PASS               | SKIPPED              | SKIPPED           |
+---------------------+--------------------+----------------------+-------------------+
| CentOS Stream 9     | PASS               | SKIPPED              | SKIPPED           |
+---------------------+--------------------+----------------------+-------------------+
| RHEL8               | PASS               | SKIPPED              | SKIPPED           |
+---------------------+--------------------+----------------------+-------------------+
| Debian 11 (arm)     | PASS               | SKIPPED              | SKIPPED           |
+---------------------+--------------------+----------------------+-------------------+
| Fedora 38           | PASS               | SKIPPED              | SKIPPED           |
+---------------------+--------------------+----------------------+-------------------+
| Fedora 37           | PASS               | SKIPPED              | SKIPPED           |
+---------------------+--------------------+----------------------+-------------------+
| Ubuntu 20.04        | PASS               | SKIPPED              | SKIPPED           |
+---------------------+--------------------+----------------------+-------------------+
| Alpine              | PASS               | SKIPPED              | SKIPPED           |
+---------------------+--------------------+----------------------+-------------------+


Windows Server 2022
	Kernel: 10.0.20348.2031
	Compiler: clang 15.0.7, gcc 8.1.0 (MinGW), and MSVC VS 17.9

Windows Server 2019
	Kernel: 10.0.17763
	Compiler: clang 14.0 and gcc 8.1.0 (MinGW)

FreeBSD 13.2
	Kernel: 13.2
	Compiler: clang 14.0.5

Debian Bullseye
	Kernel: 5.4.0-167-generic
	Compiler: gcc 10.2.1-6

openSUSE Leap 15
	Kernel: 5.4.0-167-generic
	Compiler: gcc 7.5.0

Ubuntu 22.04
	Kernel: 5.4.0-167-generic
	Compiler: gcc 11.4.0

CentOS Stream 8
	Kernel: 5.4.0-167-generic
	Compiler: gcc 8.5.0 20210514

CentOS Stream 9
	Kernel: 5.4.0-167-generic
	Compiler: gcc 11.4.1 20230605

RHEL8
	Kernel: 5.4.0-167-generic
	Compiler: gcc 8.5.0 20210514 (Red Hat 8.5.0-20)

Debian 11 (arm)
	Kernel: Container Host Kernel
	Compiler: gcc 10.2.1

Fedora 38
	Kernel: Depends on container host
	Compiler: clang 16.0.6

Fedora 37
	Kernel: Depends on container host system
	Compiler: gcc 12.3.1

Ubuntu 20.04
	Kernel: 5.4.0-167-generic
	Compiler: gcc 9.4.0-1ubuntu1~20.04.1

Alpine
	Kernel: 5.4.0-167-generic
	Compiler: gcc (Alpine 12.2.1_git20220924-r10) 12.2.1 20220924

To view detailed results, visit:
https://lab.dpdk.org/results/dashboard/patchsets/29610/

UNH-IOL DPDK Community Lab

To manage your email subscriptions, visit: 
https://lab.dpdk.org/results/dashboard/preferences/subscriptions/