From mboxrd@z Thu Jan  1 00:00:00 1970
Return-Path: <test-report-bounces@dpdk.org>
Received: from mails.dpdk.org (mails.dpdk.org [217.70.189.124])
	by inbox.dpdk.org (Postfix) with ESMTP id 0C54743D11
	for <public@inbox.dpdk.org>; Thu, 21 Mar 2024 09:52:08 +0100 (CET)
Received: from mails.dpdk.org (localhost [127.0.0.1])
	by mails.dpdk.org (Postfix) with ESMTP id 08002427DC;
	Thu, 21 Mar 2024 09:52:08 +0100 (CET)
Received: from mail-qt1-f226.google.com (mail-qt1-f226.google.com
 [209.85.160.226])
 by mails.dpdk.org (Postfix) with ESMTP id 3AB4340261
 for <test-report@dpdk.org>; Thu, 21 Mar 2024 09:52:07 +0100 (CET)
Received: by mail-qt1-f226.google.com with SMTP id
 d75a77b69052e-42e323a2e39so7056551cf.1
 for <test-report@dpdk.org>; Thu, 21 Mar 2024 01:52:07 -0700 (PDT)
DKIM-Signature: v=1; a=rsa-sha256; c=relaxed/relaxed;
 d=iol.unh.edu; s=unh-iol; t=1711011126; x=1711615926; darn=dpdk.org;
 h=references:in-reply-to:cc:to:from:subject:message-id:date:from:to
 :cc:subject:date:message-id:reply-to;
 bh=bEyYB7k3oGsviI2+luh2LSSDwIcYpyLyxAUDy6lZB9E=;
 b=VeSTf2mY5NKNuAbSoYH5Nz6P1OTGa5ODt/ynXKKUbBnriNOJkwft6EMZs+5kXC/tmg
 EgVSEDV3RXiVJzmd8x3Dm3sl1ipOXwDT9ko6qkuVgNnPhZV4dIehKbRQ8S3TeKb3P0hY
 3l4CwYGAxpef02Z5UzToMhHap6XvZrE62gx58=
X-Google-DKIM-Signature: v=1; a=rsa-sha256; c=relaxed/relaxed;
 d=1e100.net; s=20230601; t=1711011126; x=1711615926;
 h=references:in-reply-to:cc:to:from:subject:message-id:date
 :x-gm-message-state:from:to:cc:subject:date:message-id:reply-to;
 bh=bEyYB7k3oGsviI2+luh2LSSDwIcYpyLyxAUDy6lZB9E=;
 b=RziHPgmbN9bvSmaEF5ckjv4tMR87i1KtE09zPipS4n6Q12qUwNp7vd//Fy9R6Q/B7J
 PDTyCHPf4jCiJywwDPzlPXyyoekmwLL/pF/3+us7IipAiuX+9fzj5QHCXu+cLp7QEb87
 NqnzG5FvwyEF/1zRvO82lC6GwpGzsREcrVFu3t+ohuEfdR95PXHoNTyqai4XMkuLXCmV
 KGNzlBQVWeZfmxHpC0DNWTKgBT4eMacvQPpi8GO5GMrU8CKO9bqlT37zAdqy2XHvTjfg
 FTv2mZmPGEFlZTPQq4civXPOMdAqMK9pE1O+hM32q8bTx3vil1DHQCP4KYZuTt2c+aR7
 bg/Q==
X-Gm-Message-State: AOJu0Yx/nA4YcQusxwE4ucu/7Jjo25f+Qh2JhCIO9EuYQgVpyzW9yCZB
 8NQVt+3Mc23du9vySQr9yBwfc7JxLMjzJoHKnN5oYalAj+ptTB4GSL88fvs4z/f45eQ1Io4/LA7
 906a1Aa71pMI9NXrkB+5+igA7TdkVPHAqT9JwcwiK
X-Google-Smtp-Source: AGHT+IHWQQ9/V7tZne3pEqZN8AXMk/MmV+jlzxXoxmYz4BVQY2m+aL4ix6DnUETUlNMeTOPlMx9Ch5dPnnob
X-Received: by 2002:a05:6a20:918c:b0:1a1:67c0:c751 with SMTP id
 v12-20020a056a20918c00b001a167c0c751mr3110889pzd.17.1711010719886; 
 Thu, 21 Mar 2024 01:45:19 -0700 (PDT)
Received: from postal.iol.unh.edu (postal.iol.unh.edu. [132.177.123.84])
 by smtp-relay.gmail.com with ESMTPS id
 jw3-20020a056a00928300b006e6b5eb6c1esm844434pfb.5.2024.03.21.01.45.19
 (version=TLS1_2 cipher=ECDHE-ECDSA-AES128-GCM-SHA256 bits=128/128);
 Thu, 21 Mar 2024 01:45:19 -0700 (PDT)
X-Relaying-Domain: iol.unh.edu
Date: Thu, 21 Mar 2024 01:45:19 -0700 (PDT)
Message-ID: <65fbf39f.050a0220.40e8a.621bSMTPIN_ADDED_MISSING@mx.google.com>
Received: from [172.21.0.8] (unknown [172.18.0.240])
 by postal.iol.unh.edu (Postfix) with ESMTP id BBD9D6052471;
 Thu, 21 Mar 2024 04:45:18 -0400 (EDT)
Subject: |SUCCESS| pw138643-138642 [PATCH] [2/2] eal: adjust intrinsic type c
From: dpdklab@iol.unh.edu
To: Test Report <test-report@dpdk.org>
Cc: dpdk-test-reports@iol.unh.edu
In-Reply-To: <1710969509-20627-3-git-send-email-roretzla@linux.microsoft.com>
References: <1710969509-20627-3-git-send-email-roretzla@linux.microsoft.com>
Content-Type: text/plain
X-BeenThere: test-report@dpdk.org
X-Mailman-Version: 2.1.29
Precedence: list
List-Id: automatic DPDK test reports <test-report.dpdk.org>
List-Unsubscribe: <https://mails.dpdk.org/options/test-report>,
 <mailto:test-report-request@dpdk.org?subject=unsubscribe>
List-Archive: <http://mails.dpdk.org/archives/test-report/>
List-Post: <mailto:test-report@dpdk.org>
List-Help: <mailto:test-report-request@dpdk.org?subject=help>
List-Subscribe: <https://mails.dpdk.org/listinfo/test-report>,
 <mailto:test-report-request@dpdk.org?subject=subscribe>
Errors-To: test-report-bounces@dpdk.org

Test-Label: iol-unit-arm64-testing
Test-Status: SUCCESS
http://dpdk.org/patch/138642

_Testing PASS_

Submitter: Tyler Retzlaff <roretzla@linux.microsoft.com>
Date: Wednesday, March 20 2024 21:18:29 
DPDK git baseline: Repo:dpdk
  Branch: master
  CommitID:80ecef6d1f71fcebc0a51d7cabc51f73ee142ff2

138643-138642 --> testing pass

Test environment and result as below:

+--------------------------+--------------+----------------+---------------------------+------------------------------+
|       Environment        | lpm_autotest | dpdk_unit_test | cryptodev_sw_zuc_autotest | cryptodev_sw_snow3g_autotest |
+==========================+==============+================+===========================+==============================+
| Ubuntu 20.04 ARM SVE     | PASS         | SKIPPED        | SKIPPED                   | SKIPPED                      |
+--------------------------+--------------+----------------+---------------------------+------------------------------+
| Debian 11 (Buster) (ARM) | SKIPPED      | PASS           | SKIPPED                   | SKIPPED                      |
+--------------------------+--------------+----------------+---------------------------+------------------------------+
| Debian 12 (arm)          | SKIPPED      | PASS           | PASS                      | PASS                         |
+--------------------------+--------------+----------------+---------------------------+------------------------------+
| CentOS Stream 9 (ARM)    | SKIPPED      | PASS           | SKIPPED                   | SKIPPED                      |
+--------------------------+--------------+----------------+---------------------------+------------------------------+
| Fedora 37 (ARM)          | SKIPPED      | PASS           | SKIPPED                   | SKIPPED                      |
+--------------------------+--------------+----------------+---------------------------+------------------------------+
| Fedora 38 (ARM Clang)    | SKIPPED      | PASS           | SKIPPED                   | SKIPPED                      |
+--------------------------+--------------+----------------+---------------------------+------------------------------+
| Fedora 38 (ARM)          | SKIPPED      | PASS           | SKIPPED                   | SKIPPED                      |
+--------------------------+--------------+----------------+---------------------------+------------------------------+
| Ubuntu 20.04 (ARM)       | SKIPPED      | PASS           | SKIPPED                   | SKIPPED                      |
+--------------------------+--------------+----------------+---------------------------+------------------------------+


Ubuntu 20.04 ARM SVE
	Kernel: 5.4.0-167-generic
	Compiler: gcc (Ubuntu 10.5.0-1ubuntu1~20.04) 10.5.0

Debian 11 (Buster) (ARM)
	Kernel: Container Host Kernel
	Compiler: gcc 10.2.1

Debian 12 (arm)
	Kernel: Container Host Kernel
	Compiler: gcc 12.2.0

CentOS Stream 9 (ARM)
	Kernel: Container Host Kernel
	Compiler: gcc 11.4.1

Fedora 37 (ARM)
	Kernel: Depends on container host
	Compiler: gcc 12.3.1

Fedora 38 (ARM Clang)
	Kernel: Depends on container host
	Compiler: clang 16.0.6

Fedora 38 (ARM)
	Kernel: Depends on container host
	Compiler: gcc 13.2.1

Ubuntu 20.04 (ARM)
	Kernel: Container Host Kernel
	Compiler: gcc 9.4.0

To view detailed results, visit:
https://lab.dpdk.org/results/dashboard/patchsets/29612/

UNH-IOL DPDK Community Lab

To manage your email subscriptions, visit: 
https://lab.dpdk.org/results/dashboard/preferences/subscriptions/