From mboxrd@z Thu Jan  1 00:00:00 1970
Return-Path: <test-report-bounces@dpdk.org>
Received: from mails.dpdk.org (mails.dpdk.org [217.70.189.124])
	by inbox.dpdk.org (Postfix) with ESMTP id 8A3E443D14
	for <public@inbox.dpdk.org>; Thu, 21 Mar 2024 10:27:41 +0100 (CET)
Received: from mails.dpdk.org (localhost [127.0.0.1])
	by mails.dpdk.org (Postfix) with ESMTP id 7A1B242D96;
	Thu, 21 Mar 2024 10:27:41 +0100 (CET)
Received: from mail-qv1-f97.google.com (mail-qv1-f97.google.com
 [209.85.219.97]) by mails.dpdk.org (Postfix) with ESMTP id C75E540261
 for <test-report@dpdk.org>; Thu, 21 Mar 2024 10:27:38 +0100 (CET)
Received: by mail-qv1-f97.google.com with SMTP id
 6a1803df08f44-690cf6ecd3cso4917546d6.2
 for <test-report@dpdk.org>; Thu, 21 Mar 2024 02:27:38 -0700 (PDT)
DKIM-Signature: v=1; a=rsa-sha256; c=relaxed/relaxed;
 d=iol.unh.edu; s=unh-iol; t=1711013258; x=1711618058; darn=dpdk.org;
 h=references:in-reply-to:cc:to:from:subject:message-id:date:from:to
 :cc:subject:date:message-id:reply-to;
 bh=4sF0Y7a8ry568mNAhy6cv64JxjU3Q/hONtIFn0InEec=;
 b=io3g4p4e2hCKmWJave9VblMoN9IlK0zlwZ78BfZ/53sL9rq6MJWYqTqIdP0HX9f7YN
 DCAxcEjhbt0dyojv6jJv0pQQchpF/CwJveV0tkcW+ro6zvxHtbgf+LcMGY1TdHpCF+8q
 kaVlZaimkj7OihlJm4izoPhZ8aeK7gE2dGeU0=
X-Google-DKIM-Signature: v=1; a=rsa-sha256; c=relaxed/relaxed;
 d=1e100.net; s=20230601; t=1711013258; x=1711618058;
 h=references:in-reply-to:cc:to:from:subject:message-id:date
 :x-gm-message-state:from:to:cc:subject:date:message-id:reply-to;
 bh=4sF0Y7a8ry568mNAhy6cv64JxjU3Q/hONtIFn0InEec=;
 b=mhsDaZn42oGBnSRuunLcBV1kIh2qSRR1PluDxgpE02tRfnw0j5t2jdTUXtPduyS/yT
 JIyuHpMh+wBM6Zk4jMbUujSRiG/y7iiGePrdo5vX8utdqY0/CNVm90SCqJkclxFXWU9Y
 VLsF3DBp/y2KQGQr0+8FsezuD81M7vMx1wlYSR+qOtU53KmhoH7dXz2u9HxbWlmOnnVd
 m8uZLAshhrBNXhhxxdoBp+yv8xTvqbiud72hOUYsCF3J6AR4cuEVqRbSoQNQ/YLzgaEx
 GtpOx4CK7au+1/HCH2Mi8CrBpkD2O3mDL6zHueAnPOpmVdVEZ4BOwj/wyoxMf1oXNfJm
 wU3Q==
X-Gm-Message-State: AOJu0YxDEtZdRLcwctaY3qZ3jfawzmUH5PX0/1e91YUS51u9uA6aGamC
 89nO+iu79qDRrRzjp5BOpWVKqWsROP0SvF5bCZ0I0tGGfDJ87/ytOVz5A55vnpGKJn3dr/azqb0
 7WYpk7EY4TxV9omGAGOEeuheX8kbFtNCyPi/vdqGY
X-Google-Smtp-Source: AGHT+IGrFbM7i+FEgenOXrGxA+61yFBSTgfSnA9a+HXLTYwTShK0WV4TC1SmIOAoAgaam/reFbWY8xV/hYok
X-Received: by 2002:a05:6214:c88:b0:691:64e9:9a4a with SMTP id
 r8-20020a0562140c8800b0069164e99a4amr1505827qvr.53.1711013258297; 
 Thu, 21 Mar 2024 02:27:38 -0700 (PDT)
Received: from postal.iol.unh.edu (postal.iol.unh.edu. [132.177.123.84])
 by smtp-relay.gmail.com with ESMTPS id
 i14-20020a0c9c8e000000b006915e5a54bbsm1427725qvf.74.2024.03.21.02.27.38
 (version=TLS1_2 cipher=ECDHE-ECDSA-AES128-GCM-SHA256 bits=128/128);
 Thu, 21 Mar 2024 02:27:38 -0700 (PDT)
X-Relaying-Domain: iol.unh.edu
Date: Thu, 21 Mar 2024 02:27:38 -0700 (PDT)
Message-ID: <65fbfd8a.0c0a0220.70676.8613SMTPIN_ADDED_MISSING@mx.google.com>
Received: from [172.17.0.7] (unknown [172.18.0.217])
 by postal.iol.unh.edu (Postfix) with ESMTP id 04E4D6052471;
 Thu, 21 Mar 2024 05:27:38 -0400 (EDT)
Subject: |SUCCESS| pw138643-138642 [PATCH] [2/2] eal: adjust intrinsic type c
From: dpdklab@iol.unh.edu
To: Test Report <test-report@dpdk.org>
Cc: dpdk-test-reports@iol.unh.edu
In-Reply-To: <1710969509-20627-3-git-send-email-roretzla@linux.microsoft.com>
References: <1710969509-20627-3-git-send-email-roretzla@linux.microsoft.com>
Content-Type: text/plain
X-BeenThere: test-report@dpdk.org
X-Mailman-Version: 2.1.29
Precedence: list
List-Id: automatic DPDK test reports <test-report.dpdk.org>
List-Unsubscribe: <https://mails.dpdk.org/options/test-report>,
 <mailto:test-report-request@dpdk.org?subject=unsubscribe>
List-Archive: <http://mails.dpdk.org/archives/test-report/>
List-Post: <mailto:test-report@dpdk.org>
List-Help: <mailto:test-report-request@dpdk.org?subject=help>
List-Subscribe: <https://mails.dpdk.org/listinfo/test-report>,
 <mailto:test-report-request@dpdk.org?subject=subscribe>
Errors-To: test-report-bounces@dpdk.org

Test-Label: iol-compile-arm64-testing
Test-Status: SUCCESS
http://dpdk.org/patch/138642

_Testing PASS_

Submitter: Tyler Retzlaff <roretzla@linux.microsoft.com>
Date: Wednesday, March 20 2024 21:18:29 
DPDK git baseline: Repo:dpdk
  Branch: master
  CommitID:80ecef6d1f71fcebc0a51d7cabc51f73ee142ff2

138643-138642 --> testing pass

Test environment and result as below:

+----------------------------------------+--------------------+
|              Environment               | dpdk_meson_compile |
+========================================+====================+
| Ubuntu 20.04 ARM SVE                   | PASS               |
+----------------------------------------+--------------------+
| Debian 12 with MUSDK                   | PASS               |
+----------------------------------------+--------------------+
| Ubuntu 20.04 aarch32 GCC Cross Compile | PASS               |
+----------------------------------------+--------------------+
| Ubuntu 20.04 ARM Clang Cross Compile   | PASS               |
+----------------------------------------+--------------------+
| Ubuntu 20.04 ARM GCC Cross Compile     | PASS               |
+----------------------------------------+--------------------+
| Debian 12 (arm)                        | PASS               |
+----------------------------------------+--------------------+
| Fedora 38 (ARM Clang)                  | PASS               |
+----------------------------------------+--------------------+
| CentOS Stream 9 (ARM)                  | PASS               |
+----------------------------------------+--------------------+
| Fedora 37 (ARM)                        | PASS               |
+----------------------------------------+--------------------+
| Fedora 38 (ARM)                        | PASS               |
+----------------------------------------+--------------------+
| Ubuntu 20.04 (ARM)                     | PASS               |
+----------------------------------------+--------------------+
| Debian 11 (Buster) (ARM)               | PASS               |
+----------------------------------------+--------------------+


Ubuntu 20.04 ARM SVE
	Kernel: 5.4.0-167-generic
	Compiler: gcc (Ubuntu 10.5.0-1ubuntu1~20.04) 10.5.0

Debian 12 with MUSDK
	Kernel: Container Host Kernel
	Compiler: gcc 12.2.0

Ubuntu 20.04 aarch32 GCC Cross Compile
	Kernel: 5.4.0-167-generic
	Compiler: gcc 9.4.0

Ubuntu 20.04 ARM Clang Cross Compile
	Kernel: 5.4.0-72-generic
	Compiler: clang 10.0.0-4ubuntu1

Ubuntu 20.04 ARM GCC Cross Compile
	Kernel: 5.4.0-167-generic
	Compiler: aarch64-linux-gnu-gcc (Ubuntu 9.4.0-1ubuntu1~20.04.2) 9.4.0

Debian 12 (arm)
	Kernel: Container Host Kernel
	Compiler: gcc 12.2.0

Fedora 38 (ARM Clang)
	Kernel: Depends on container host
	Compiler: clang 16.0.6

CentOS Stream 9 (ARM)
	Kernel: Container Host Kernel
	Compiler: gcc 11.4.1

Fedora 37 (ARM)
	Kernel: Depends on container host
	Compiler: gcc 12.3.1

Fedora 38 (ARM)
	Kernel: Depends on container host
	Compiler: gcc 13.2.1

Ubuntu 20.04 (ARM)
	Kernel: Container Host Kernel
	Compiler: gcc 9.4.0

Debian 11 (Buster) (ARM)
	Kernel: Container Host Kernel
	Compiler: gcc 10.2.1

To view detailed results, visit:
https://lab.dpdk.org/results/dashboard/patchsets/29612/

UNH-IOL DPDK Community Lab

To manage your email subscriptions, visit: 
https://lab.dpdk.org/results/dashboard/preferences/subscriptions/