From mboxrd@z Thu Jan  1 00:00:00 1970
Return-Path: <test-report-bounces@dpdk.org>
Received: from mails.dpdk.org (mails.dpdk.org [217.70.189.124])
	by inbox.dpdk.org (Postfix) with ESMTP id 826CF43D14
	for <public@inbox.dpdk.org>; Thu, 21 Mar 2024 10:30:05 +0100 (CET)
Received: from mails.dpdk.org (localhost [127.0.0.1])
	by mails.dpdk.org (Postfix) with ESMTP id 7C593427E1;
	Thu, 21 Mar 2024 10:30:05 +0100 (CET)
Received: from mail-io1-f97.google.com (mail-io1-f97.google.com
 [209.85.166.97]) by mails.dpdk.org (Postfix) with ESMTP id 8DAA840261
 for <test-report@dpdk.org>; Thu, 21 Mar 2024 10:30:04 +0100 (CET)
Received: by mail-io1-f97.google.com with SMTP id
 ca18e2360f4ac-7cf01066448so27904839f.1
 for <test-report@dpdk.org>; Thu, 21 Mar 2024 02:30:04 -0700 (PDT)
DKIM-Signature: v=1; a=rsa-sha256; c=relaxed/relaxed;
 d=iol.unh.edu; s=unh-iol; t=1711013404; x=1711618204; darn=dpdk.org;
 h=references:in-reply-to:cc:to:from:subject:message-id:date:from:to
 :cc:subject:date:message-id:reply-to;
 bh=4sF0Y7a8ry568mNAhy6cv64JxjU3Q/hONtIFn0InEec=;
 b=VeuPr27bYtLe669Rc2g3zj3NrI8E3VOQjfF0HENsqOoeszLkt0WEwy4nmfWyPXc1vh
 U8KZVQ2HnZA9NTAQXOte2Tr57v4PbCVeMpmN+f6fo02dxbP7YE0Ubk8BkrY8EhmadSeK
 txgVwy/jCaiPURUXNT1Dem70KPnXkCHOCufos=
X-Google-DKIM-Signature: v=1; a=rsa-sha256; c=relaxed/relaxed;
 d=1e100.net; s=20230601; t=1711013404; x=1711618204;
 h=references:in-reply-to:cc:to:from:subject:message-id:date
 :x-gm-message-state:from:to:cc:subject:date:message-id:reply-to;
 bh=4sF0Y7a8ry568mNAhy6cv64JxjU3Q/hONtIFn0InEec=;
 b=df5n045Kr98MkEpjygoTYZTF1UmKKRAdE2tJuR5ILom993EmGrVMJ9gMFcvQHEgCFh
 PzTCov2TzwoIz6i7opXNOYLYj7082vjmdwvt0pKlIXIAT1M1cQdL0q6iWWVBq6IQtuXG
 Xv0HE6SF6v3i93Z+idhmz7wYKEyZPgrvuVs+kXWJXOtMwcIUByaKnIB33UGTD0KduwTv
 hNpQi1aqY9XvQcmnVG8NLbMDPtb2NToecp9s0kd+aTSPw+++z0gni5CV9cHbeyE65n6j
 0C58Z+V/phjFoH2uaSU+M36M2MV7/PDQylHZcxm6ZG5UkpYo/NP97CXbtxibrgLOPDwX
 50gQ==
X-Gm-Message-State: AOJu0YyoDS+HTk/8BNwf94JeHmiNR5mymRAbHSH3yp9BdFkN8jHPTiZj
 ohlqiivnACMwr+fcepjGsj81joLisNyLzYDtJxJ6PglrWwThlTgWIdkDJVZ4OQhS2/pGaefYn9w
 jbzeUUpF5XDBsw226si9sI+JAy2rZokNAS4Qh4+FUDJpH6kCWcg6cUHlY
X-Google-Smtp-Source: AGHT+IH0NGtGtWfO37+K56+DIrESTXAegWrZvJHHHK7XfCKVrzMNNE5HvWvyqb6T5QTpE8skVDmvHHdS8aJX
X-Received: by 2002:a6b:650b:0:b0:7cf:b430:b33b with SMTP id
 z11-20020a6b650b000000b007cfb430b33bmr1328778iob.21.1711013403998; 
 Thu, 21 Mar 2024 02:30:03 -0700 (PDT)
Received: from postal.iol.unh.edu (postal.iol.unh.edu.
 [2606:4100:3880:1234::84]) by smtp-relay.gmail.com with ESMTPS id
 ei18-20020a05663829b200b00476e22bc936sm598334jab.36.2024.03.21.02.30.03
 (version=TLS1_2 cipher=ECDHE-ECDSA-AES128-GCM-SHA256 bits=128/128);
 Thu, 21 Mar 2024 02:30:03 -0700 (PDT)
X-Relaying-Domain: iol.unh.edu
Date: Thu, 21 Mar 2024 02:30:03 -0700 (PDT)
Message-ID: <65fbfe1b.050a0220.ed44c.8336SMTPIN_ADDED_MISSING@mx.google.com>
Received: from [172.17.0.7] (unknown [172.18.0.217])
 by postal.iol.unh.edu (Postfix) with ESMTP id 93CB96052471;
 Thu, 21 Mar 2024 05:30:03 -0400 (EDT)
Subject: |SUCCESS| pw138643-138642 [PATCH] [2/2] eal: adjust intrinsic type c
From: dpdklab@iol.unh.edu
To: Test Report <test-report@dpdk.org>
Cc: dpdk-test-reports@iol.unh.edu
In-Reply-To: <1710969509-20627-3-git-send-email-roretzla@linux.microsoft.com>
References: <1710969509-20627-3-git-send-email-roretzla@linux.microsoft.com>
Content-Type: text/plain
X-BeenThere: test-report@dpdk.org
X-Mailman-Version: 2.1.29
Precedence: list
List-Id: automatic DPDK test reports <test-report.dpdk.org>
List-Unsubscribe: <https://mails.dpdk.org/options/test-report>,
 <mailto:test-report-request@dpdk.org?subject=unsubscribe>
List-Archive: <http://mails.dpdk.org/archives/test-report/>
List-Post: <mailto:test-report@dpdk.org>
List-Help: <mailto:test-report-request@dpdk.org?subject=help>
List-Subscribe: <https://mails.dpdk.org/listinfo/test-report>,
 <mailto:test-report-request@dpdk.org?subject=subscribe>
Errors-To: test-report-bounces@dpdk.org

Test-Label: iol-compile-arm64-testing
Test-Status: SUCCESS
http://dpdk.org/patch/138642

_Testing PASS_

Submitter: Tyler Retzlaff <roretzla@linux.microsoft.com>
Date: Wednesday, March 20 2024 21:18:29 
DPDK git baseline: Repo:dpdk
  Branch: master
  CommitID:80ecef6d1f71fcebc0a51d7cabc51f73ee142ff2

138643-138642 --> testing pass

Test environment and result as below:

+----------------------------------------+--------------------+
|              Environment               | dpdk_meson_compile |
+========================================+====================+
| Ubuntu 20.04 ARM SVE                   | PASS               |
+----------------------------------------+--------------------+
| Debian 12 with MUSDK                   | PASS               |
+----------------------------------------+--------------------+
| Ubuntu 20.04 aarch32 GCC Cross Compile | PASS               |
+----------------------------------------+--------------------+
| Ubuntu 20.04 ARM Clang Cross Compile   | PASS               |
+----------------------------------------+--------------------+
| Ubuntu 20.04 ARM GCC Cross Compile     | PASS               |
+----------------------------------------+--------------------+
| Debian 12 (arm)                        | PASS               |
+----------------------------------------+--------------------+
| Fedora 38 (ARM Clang)                  | PASS               |
+----------------------------------------+--------------------+
| CentOS Stream 9 (ARM)                  | PASS               |
+----------------------------------------+--------------------+
| Fedora 37 (ARM)                        | PASS               |
+----------------------------------------+--------------------+
| Fedora 38 (ARM)                        | PASS               |
+----------------------------------------+--------------------+
| Ubuntu 20.04 (ARM)                     | PASS               |
+----------------------------------------+--------------------+
| Debian 11 (Buster) (ARM)               | PASS               |
+----------------------------------------+--------------------+


Ubuntu 20.04 ARM SVE
	Kernel: 5.4.0-167-generic
	Compiler: gcc (Ubuntu 10.5.0-1ubuntu1~20.04) 10.5.0

Debian 12 with MUSDK
	Kernel: Container Host Kernel
	Compiler: gcc 12.2.0

Ubuntu 20.04 aarch32 GCC Cross Compile
	Kernel: 5.4.0-167-generic
	Compiler: gcc 9.4.0

Ubuntu 20.04 ARM Clang Cross Compile
	Kernel: 5.4.0-72-generic
	Compiler: clang 10.0.0-4ubuntu1

Ubuntu 20.04 ARM GCC Cross Compile
	Kernel: 5.4.0-167-generic
	Compiler: aarch64-linux-gnu-gcc (Ubuntu 9.4.0-1ubuntu1~20.04.2) 9.4.0

Debian 12 (arm)
	Kernel: Container Host Kernel
	Compiler: gcc 12.2.0

Fedora 38 (ARM Clang)
	Kernel: Depends on container host
	Compiler: clang 16.0.6

CentOS Stream 9 (ARM)
	Kernel: Container Host Kernel
	Compiler: gcc 11.4.1

Fedora 37 (ARM)
	Kernel: Depends on container host
	Compiler: gcc 12.3.1

Fedora 38 (ARM)
	Kernel: Depends on container host
	Compiler: gcc 13.2.1

Ubuntu 20.04 (ARM)
	Kernel: Container Host Kernel
	Compiler: gcc 9.4.0

Debian 11 (Buster) (ARM)
	Kernel: Container Host Kernel
	Compiler: gcc 10.2.1

To view detailed results, visit:
https://lab.dpdk.org/results/dashboard/patchsets/29612/

UNH-IOL DPDK Community Lab

To manage your email subscriptions, visit: 
https://lab.dpdk.org/results/dashboard/preferences/subscriptions/