From mboxrd@z Thu Jan  1 00:00:00 1970
Return-Path: <test-report-bounces@dpdk.org>
Received: from mails.dpdk.org (mails.dpdk.org [217.70.189.124])
	by inbox.dpdk.org (Postfix) with ESMTP id C0B7943D07
	for <public@inbox.dpdk.org>; Thu, 21 Mar 2024 14:06:28 +0100 (CET)
Received: from mails.dpdk.org (localhost [127.0.0.1])
	by mails.dpdk.org (Postfix) with ESMTP id B7AB4427E6;
	Thu, 21 Mar 2024 14:06:28 +0100 (CET)
Received: from mail-ot1-f100.google.com (mail-ot1-f100.google.com
 [209.85.210.100])
 by mails.dpdk.org (Postfix) with ESMTP id 10AAA402F2
 for <test-report@dpdk.org>; Thu, 21 Mar 2024 14:05:27 +0100 (CET)
Received: by mail-ot1-f100.google.com with SMTP id
 46e09a7af769-6e674136ba4so504300a34.2
 for <test-report@dpdk.org>; Thu, 21 Mar 2024 06:05:27 -0700 (PDT)
DKIM-Signature: v=1; a=rsa-sha256; c=relaxed/relaxed;
 d=iol.unh.edu; s=unh-iol; t=1711026326; x=1711631126; darn=dpdk.org;
 h=references:in-reply-to:cc:to:from:subject:message-id:date:from:to
 :cc:subject:date:message-id:reply-to;
 bh=/NGyZ1XKRJKS9SmuUT5rvTgeYuV7h6nMiscsAKIg6lM=;
 b=K5c5FISSPJl6mXdX1Ca73egk4hVoha+iEZ8ONc78GZftzgO3PaTJ1BEdAIv/OXzm1v
 HV741K+k3XDqKH9szS537+fH1HElyt8sAtSjyU2Eeh+V0zIIkg9TkAQrqbcsj2u6vzF9
 HkJLSnm5Y8bk1fwrgETsNth3DTgeowZPpZDcY=
X-Google-DKIM-Signature: v=1; a=rsa-sha256; c=relaxed/relaxed;
 d=1e100.net; s=20230601; t=1711026326; x=1711631126;
 h=references:in-reply-to:cc:to:from:subject:message-id:date
 :x-gm-message-state:from:to:cc:subject:date:message-id:reply-to;
 bh=/NGyZ1XKRJKS9SmuUT5rvTgeYuV7h6nMiscsAKIg6lM=;
 b=BffPEeE2z9z9ifgBNRaIBisxbMSSB/KfQ1ARZCK7kbwjFi+8YrF0zmGasf8Kx7rPcd
 oCynRQCISxfzxjq5B6kIPTbvKl2Rh3E7t33xl+UUnJrINTNQgxs3xvixhpfSbwypMjZ4
 5UZ6XthFG8fLGr1OYWZuSf9nWkbrjaIhd2XW3SUdyDCE0aYrHY85omfO/I7oKUQJCTqQ
 e0v3sgWjf68Fc46GODc4WIA/FmsqBrG/ZuLp2SiRedW/qX82ef4mmI5pRq7hELVwcEPf
 L+7/GGDLdYGaUW1Sojt33OqgTFW1LLPpvR3S2M8wp0mYpHq4/dxrcgfcH9GHoLuof2gG
 pdyQ==
X-Gm-Message-State: AOJu0YxI/I9t9oZ/jkIU+M3Fz5ggGWH+Y/vMvF+v4hP+NQggY+p5fKc3
 J5OSqQZlUhoIrOp1r81NsX4bE8zYY/mG7HsoI2BLCbThis/L2zWPAW7UUsucFmAb2FoUgNdMayO
 1VPk2/IG3UICiezzYj9AjuTPDcF9bnh6rQv5rz1xg
X-Google-Smtp-Source: AGHT+IGSiMkTKafPUi8l//GKVUBz6a5L+bzIna2Q12AwNMk7e+YkespkXRoIocGMeL7TL9VrJwU4ufnc1t9Q
X-Received: by 2002:a9d:6650:0:b0:6e6:859f:6d56 with SMTP id
 q16-20020a9d6650000000b006e6859f6d56mr9733873otm.21.1711026321243; 
 Thu, 21 Mar 2024 06:05:21 -0700 (PDT)
Received: from postal.iol.unh.edu (postal.iol.unh.edu. [132.177.123.84])
 by smtp-relay.gmail.com with ESMTPS id
 jf5-20020a0562142a4500b006961528598asm676051qvb.0.2024.03.21.06.05.21
 (version=TLS1_2 cipher=ECDHE-ECDSA-AES128-GCM-SHA256 bits=128/128);
 Thu, 21 Mar 2024 06:05:21 -0700 (PDT)
X-Relaying-Domain: iol.unh.edu
Date: Thu, 21 Mar 2024 06:05:21 -0700 (PDT)
Message-ID: <65fc3091.050a0220.9bcdf.d048SMTPIN_ADDED_MISSING@mx.google.com>
Received: from [172.17.0.8] (unknown [172.18.0.217])
 by postal.iol.unh.edu (Postfix) with ESMTP id E47176052471;
 Thu, 21 Mar 2024 09:05:20 -0400 (EDT)
Subject: |SUCCESS| pw138654 [PATCH] net/vmxnet3: Don't enable rx queue interr
From: dpdklab@iol.unh.edu
To: Test Report <test-report@dpdk.org>
Cc: dpdk-test-reports@iol.unh.edu
In-Reply-To: <20240320130255.1526-1-thj@freebsd.org>
References: <20240320130255.1526-1-thj@freebsd.org>
Content-Type: text/plain
X-BeenThere: test-report@dpdk.org
X-Mailman-Version: 2.1.29
Precedence: list
List-Id: automatic DPDK test reports <test-report.dpdk.org>
List-Unsubscribe: <https://mails.dpdk.org/options/test-report>,
 <mailto:test-report-request@dpdk.org?subject=unsubscribe>
List-Archive: <http://mails.dpdk.org/archives/test-report/>
List-Post: <mailto:test-report@dpdk.org>
List-Help: <mailto:test-report-request@dpdk.org?subject=help>
List-Subscribe: <https://mails.dpdk.org/listinfo/test-report>,
 <mailto:test-report-request@dpdk.org?subject=subscribe>
Errors-To: test-report-bounces@dpdk.org

Test-Label: iol-unit-arm64-testing
Test-Status: SUCCESS
http://dpdk.org/patch/138654

_Testing PASS_

Submitter: Tom Jones <thj@freebsd.org>
Date: Wednesday, March 20 2024 13:02:55 
DPDK git baseline: Repo:dpdk
  Branch: master
  CommitID:31a4216a9ee3c02cf2443d533f6a491cdb25904e

138654 --> testing pass

Test environment and result as below:

+--------------------------+------------------------------+---------------------------+----------------+--------------+
|       Environment        | cryptodev_sw_snow3g_autotest | cryptodev_sw_zuc_autotest | dpdk_unit_test | lpm_autotest |
+==========================+==============================+===========================+================+==============+
| Debian 12 (arm)          | PASS                         | PASS                      | PASS           | SKIPPED      |
+--------------------------+------------------------------+---------------------------+----------------+--------------+
| CentOS Stream 9 (ARM)    | SKIPPED                      | SKIPPED                   | PASS           | SKIPPED      |
+--------------------------+------------------------------+---------------------------+----------------+--------------+
| Debian 11 (Buster) (ARM) | SKIPPED                      | SKIPPED                   | PASS           | SKIPPED      |
+--------------------------+------------------------------+---------------------------+----------------+--------------+
| Fedora 37 (ARM)          | SKIPPED                      | SKIPPED                   | PASS           | SKIPPED      |
+--------------------------+------------------------------+---------------------------+----------------+--------------+
| Fedora 38 (ARM)          | SKIPPED                      | SKIPPED                   | PASS           | SKIPPED      |
+--------------------------+------------------------------+---------------------------+----------------+--------------+
| Ubuntu 20.04 (ARM)       | SKIPPED                      | SKIPPED                   | PASS           | SKIPPED      |
+--------------------------+------------------------------+---------------------------+----------------+--------------+
| Ubuntu 20.04 ARM SVE     | SKIPPED                      | SKIPPED                   | SKIPPED        | PASS         |
+--------------------------+------------------------------+---------------------------+----------------+--------------+


Debian 12 (arm)
	Kernel: Container Host Kernel
	Compiler: gcc 12.2.0

CentOS Stream 9 (ARM)
	Kernel: Container Host Kernel
	Compiler: gcc 11.4.1

Debian 11 (Buster) (ARM)
	Kernel: Container Host Kernel
	Compiler: gcc 10.2.1

Fedora 37 (ARM)
	Kernel: Depends on container host
	Compiler: gcc 12.3.1

Fedora 38 (ARM)
	Kernel: Depends on container host
	Compiler: gcc 13.2.1

Ubuntu 20.04 (ARM)
	Kernel: Container Host Kernel
	Compiler: gcc 9.4.0

Ubuntu 20.04 ARM SVE
	Kernel: 5.4.0-167-generic
	Compiler: gcc (Ubuntu 10.5.0-1ubuntu1~20.04) 10.5.0

To view detailed results, visit:
https://lab.dpdk.org/results/dashboard/patchsets/29618/

UNH-IOL DPDK Community Lab

To manage your email subscriptions, visit: 
https://lab.dpdk.org/results/dashboard/preferences/subscriptions/