From mboxrd@z Thu Jan  1 00:00:00 1970
Return-Path: <test-report-bounces@dpdk.org>
Received: from mails.dpdk.org (mails.dpdk.org [217.70.189.124])
	by inbox.dpdk.org (Postfix) with ESMTP id 9BDFD43D14
	for <public@inbox.dpdk.org>; Thu, 21 Mar 2024 20:51:28 +0100 (CET)
Received: from mails.dpdk.org (localhost [127.0.0.1])
	by mails.dpdk.org (Postfix) with ESMTP id 976B442830;
	Thu, 21 Mar 2024 20:51:28 +0100 (CET)
Received: from mail-ot1-f98.google.com (mail-ot1-f98.google.com
 [209.85.210.98]) by mails.dpdk.org (Postfix) with ESMTP id F340B402C2
 for <test-report@dpdk.org>; Thu, 21 Mar 2024 20:51:26 +0100 (CET)
Received: by mail-ot1-f98.google.com with SMTP id
 46e09a7af769-6e445b4f80bso604784a34.0
 for <test-report@dpdk.org>; Thu, 21 Mar 2024 12:51:26 -0700 (PDT)
DKIM-Signature: v=1; a=rsa-sha256; c=relaxed/relaxed;
 d=iol.unh.edu; s=unh-iol; t=1711050686; x=1711655486; darn=dpdk.org;
 h=references:in-reply-to:cc:to:from:subject:message-id:date:from:to
 :cc:subject:date:message-id:reply-to;
 bh=XpjqPg2IYK6zOP0Jc92f98K2jjKDS4Wgv+SNQYjxzAw=;
 b=DotRK9YNTITBgXe2JfHZGlFJ3Nz5RqSH8ioOLv7MyGz8Sx72su3WDDmW+XQd8Awv/9
 N/j2khlgsrG7L2tg+xFXwTZeWudfq1Zd6W/smJuaG3C+9pwzINi0brAXV1JPu3K/tP+J
 plkqHabZv+29m72H1WlbMDWtwI6AsrUrsQ1B4=
X-Google-DKIM-Signature: v=1; a=rsa-sha256; c=relaxed/relaxed;
 d=1e100.net; s=20230601; t=1711050686; x=1711655486;
 h=references:in-reply-to:cc:to:from:subject:message-id:date
 :x-gm-message-state:from:to:cc:subject:date:message-id:reply-to;
 bh=XpjqPg2IYK6zOP0Jc92f98K2jjKDS4Wgv+SNQYjxzAw=;
 b=TQY4xt5MzX6IvLO4QEeMm+ZJJDCc36H9DITqbwc5E0MPdFuDaiYZEe2VFtDOnaVvYT
 PDuAVmtbe+G1Mr4pG5xotlJFZDA+j9R/tLtyB9hK+bGznUZ0n//hLgb13fi4jxihpIaA
 HL2ycNiXrZeufBAi+zyhP4LvCZVlLnq2C8sRAYjM8jTQ3Aa878lVdEhqumcqLQqQGuSn
 LmzLl71b4r639qLBurdna+rrpry36RC0Jc3l5qDFnpYY/Vx/yF3mS1urIiG8ceD4Bse7
 YvC4R8dKgz3zS2ITPnFeQuyuloNlUqKJphANd8CdbAMPcB+wW6nYQv1efITfymVtLhlI
 BrPw==
X-Gm-Message-State: AOJu0Yw022cKE2lBa/xApvdlhdiWNMr71nHHp8CNT0Gau16j7FZlIiJ2
 YkvaVyY2sVTrrq4zFrgoE+R4anpwUCGktNg7E5qYNEUbas/YJ29unQQnibwotn8s/XUQnYkp+fb
 sZwxduZgCGnJJu5eNWs2DqnyMzarZVwJBnZo457wY
X-Google-Smtp-Source: AGHT+IGNedPXDVcyk5GKqYO4PJrRQ+Ifn1/3COXEJpTiEDV/7mkiY7KBVtdLAMixmWJ8hmvMv106oom5LtPq
X-Received: by 2002:a9d:75c1:0:b0:6e6:96ed:97bb with SMTP id
 c1-20020a9d75c1000000b006e696ed97bbmr283692otl.18.1711050686365; 
 Thu, 21 Mar 2024 12:51:26 -0700 (PDT)
Received: from postal.iol.unh.edu (postal.iol.unh.edu. [132.177.123.84])
 by smtp-relay.gmail.com with ESMTPS id
 i1-20020a05620a404100b0078a3603e901sm24877qko.0.2024.03.21.12.51.26
 (version=TLS1_2 cipher=ECDHE-ECDSA-AES128-GCM-SHA256 bits=128/128);
 Thu, 21 Mar 2024 12:51:26 -0700 (PDT)
X-Relaying-Domain: iol.unh.edu
Date: Thu, 21 Mar 2024 12:51:26 -0700 (PDT)
Message-ID: <65fc8fbe.050a0220.8da23.09b2SMTPIN_ADDED_MISSING@mx.google.com>
Received: from [172.17.0.6] (unknown [172.18.0.217])
 by postal.iol.unh.edu (Postfix) with ESMTP id 0EB086052471;
 Thu, 21 Mar 2024 15:51:26 -0400 (EDT)
Subject: |SUCCESS| pw138673-138685 [PATCH] [v6,14/14] examples/ipsec-secgw: f
From: dpdklab@iol.unh.edu
To: Test Report <test-report@dpdk.org>
Cc: dpdk-test-reports@iol.unh.edu
In-Reply-To: <20240321184721.69040-15-sivaprasad.tummala@amd.com>
References: <20240321184721.69040-15-sivaprasad.tummala@amd.com>
Content-Type: text/plain
X-BeenThere: test-report@dpdk.org
X-Mailman-Version: 2.1.29
Precedence: list
List-Id: automatic DPDK test reports <test-report.dpdk.org>
List-Unsubscribe: <https://mails.dpdk.org/options/test-report>,
 <mailto:test-report-request@dpdk.org?subject=unsubscribe>
List-Archive: <http://mails.dpdk.org/archives/test-report/>
List-Post: <mailto:test-report@dpdk.org>
List-Help: <mailto:test-report-request@dpdk.org?subject=help>
List-Subscribe: <https://mails.dpdk.org/listinfo/test-report>,
 <mailto:test-report-request@dpdk.org?subject=subscribe>
Errors-To: test-report-bounces@dpdk.org

Test-Label: iol-compile-arm64-testing
Test-Status: SUCCESS
http://dpdk.org/patch/138685

_Testing PASS_

Submitter: Sivaprasad Tummala <Sivaprasad.Tummala@amd.com>
Date: Thursday, March 21 2024 18:47:20 
DPDK git baseline: Repo:dpdk
  Branch: master
  CommitID:c96e9ca312d9b32637bbdcfbfc1bca93a8629faa

138673-138685 --> testing pass

Test environment and result as below:

+----------------------------------------+--------------------+
|              Environment               | dpdk_meson_compile |
+========================================+====================+
| Ubuntu 20.04 ARM SVE                   | PASS               |
+----------------------------------------+--------------------+
| Debian 12 with MUSDK                   | PASS               |
+----------------------------------------+--------------------+
| Ubuntu 20.04 ARM GCC Cross Compile     | PASS               |
+----------------------------------------+--------------------+
| Fedora 38 (ARM)                        | PASS               |
+----------------------------------------+--------------------+
| Fedora 37 (ARM)                        | PASS               |
+----------------------------------------+--------------------+
| Ubuntu 20.04 (ARM)                     | PASS               |
+----------------------------------------+--------------------+
| Debian 11 (Buster) (ARM)               | PASS               |
+----------------------------------------+--------------------+
| CentOS Stream 9 (ARM)                  | PASS               |
+----------------------------------------+--------------------+
| Debian 12 (arm)                        | PASS               |
+----------------------------------------+--------------------+
| Ubuntu 20.04 ARM Clang Cross Compile   | PASS               |
+----------------------------------------+--------------------+
| Ubuntu 20.04 aarch32 GCC Cross Compile | PASS               |
+----------------------------------------+--------------------+


Ubuntu 20.04 ARM SVE
	Kernel: 5.4.0-167-generic
	Compiler: gcc (Ubuntu 10.5.0-1ubuntu1~20.04) 10.5.0

Debian 12 with MUSDK
	Kernel: Container Host Kernel
	Compiler: gcc 12.2.0

Ubuntu 20.04 ARM GCC Cross Compile
	Kernel: 5.4.0-167-generic
	Compiler: aarch64-linux-gnu-gcc (Ubuntu 9.4.0-1ubuntu1~20.04.2) 9.4.0

Fedora 38 (ARM)
	Kernel: Depends on container host
	Compiler: gcc 13.2.1

Fedora 37 (ARM)
	Kernel: Depends on container host
	Compiler: gcc 12.3.1

Ubuntu 20.04 (ARM)
	Kernel: Container Host Kernel
	Compiler: gcc 9.4.0

Debian 11 (Buster) (ARM)
	Kernel: Container Host Kernel
	Compiler: gcc 10.2.1

CentOS Stream 9 (ARM)
	Kernel: Container Host Kernel
	Compiler: gcc 11.4.1

Debian 12 (arm)
	Kernel: Container Host Kernel
	Compiler: gcc 12.2.0

Ubuntu 20.04 ARM Clang Cross Compile
	Kernel: 5.4.0-72-generic
	Compiler: clang 10.0.0-4ubuntu1

Ubuntu 20.04 aarch32 GCC Cross Compile
	Kernel: 5.4.0-167-generic
	Compiler: gcc 9.4.0

To view detailed results, visit:
https://lab.dpdk.org/results/dashboard/patchsets/29627/

UNH-IOL DPDK Community Lab

To manage your email subscriptions, visit: 
https://lab.dpdk.org/results/dashboard/preferences/subscriptions/