From mboxrd@z Thu Jan  1 00:00:00 1970
Return-Path: <test-report-bounces@dpdk.org>
Received: from mails.dpdk.org (mails.dpdk.org [217.70.189.124])
	by inbox.dpdk.org (Postfix) with ESMTP id E0F7343D14
	for <public@inbox.dpdk.org>; Thu, 21 Mar 2024 20:53:49 +0100 (CET)
Received: from mails.dpdk.org (localhost [127.0.0.1])
	by mails.dpdk.org (Postfix) with ESMTP id DA5BE42830;
	Thu, 21 Mar 2024 20:53:49 +0100 (CET)
Received: from mail-ot1-f99.google.com (mail-ot1-f99.google.com
 [209.85.210.99]) by mails.dpdk.org (Postfix) with ESMTP id 8A9F8402C2
 for <test-report@dpdk.org>; Thu, 21 Mar 2024 20:53:48 +0100 (CET)
Received: by mail-ot1-f99.google.com with SMTP id
 46e09a7af769-6dc8b280155so824727a34.0
 for <test-report@dpdk.org>; Thu, 21 Mar 2024 12:53:48 -0700 (PDT)
DKIM-Signature: v=1; a=rsa-sha256; c=relaxed/relaxed;
 d=iol.unh.edu; s=unh-iol; t=1711050828; x=1711655628; darn=dpdk.org;
 h=references:in-reply-to:cc:to:from:subject:message-id:date:from:to
 :cc:subject:date:message-id:reply-to;
 bh=Ag/9AxZ/wWVIdEkdcZs7NvnH1hgbBZHPADCgDoRR6eo=;
 b=FKSAoesbgedTydUoabAAchZ8yy2p6iWpVrOef6n9cqulDjzaC77PYvR2Q47W7RGSqc
 OJNUf8sfoR61WqxaVxilYboIgTt7KThv4WbsaM4ce57zfYLPZEyAKCARP9ey5kKLnOe6
 ZHIiNTH9Hb1kyD/02vmF37iiRiPRKz5f5ERZo=
X-Google-DKIM-Signature: v=1; a=rsa-sha256; c=relaxed/relaxed;
 d=1e100.net; s=20230601; t=1711050828; x=1711655628;
 h=references:in-reply-to:cc:to:from:subject:message-id:date
 :x-gm-message-state:from:to:cc:subject:date:message-id:reply-to;
 bh=Ag/9AxZ/wWVIdEkdcZs7NvnH1hgbBZHPADCgDoRR6eo=;
 b=Dp50d/dFhZAIOLCt5ANNw2Ux7IgQ4zDMVxhWQspDw9+EVb4boFL9/cH+q6PazQmyCd
 Sn4OGNInHmwZkRmUivtXPenc309JNBlw/itLRREGcXSqSBreozL/a2TkQR7rC3+P8j+4
 L6G6p0uaGrcghpKmTMI8S7C6i7ht+keQuor74pQe6bzDftjBQcMI/viAxaZJmsibOH/j
 A7dQ1qTUBeWBhlZPx+fLuVod1ZmeszpJynImpD2NZ3vjpT7JJ32SpVIIOaVcDJojiHQa
 VbUVPwp3PfNbutcgiNiWdL0r5NcZVoNkvAx0cYnkmFWW//hN3qDui/ms/eQbMj/+IcjG
 PzCA==
X-Gm-Message-State: AOJu0Yxjiu0XEKXEgAGmvhzCJnjreLocG0iICR0iaeVoRtYHMMs5lqRv
 oa4J2mqSmiOmuoTizej+36Mh+qfhlQNfrhT3P4rZnlSfE09TEqMspPWdrGdZliKNYl93P0Lpdua
 RabtVIDdI9OlFwuhDpQ1KF2aqS0y7wKxH8+qzTZ5+
X-Google-Smtp-Source: AGHT+IFhrGLh8VgB0OmIG+EpLKT3858Wg4s7LPYQfgUyPmE+2oL9kTRuxg5mx6wD2x0jn7957VEmqUQXPSw5
X-Received: by 2002:a9d:61d8:0:b0:6e4:e51b:f73f with SMTP id
 h24-20020a9d61d8000000b006e4e51bf73fmr241815otk.36.1711050827868; 
 Thu, 21 Mar 2024 12:53:47 -0700 (PDT)
Received: from postal.iol.unh.edu (postal.iol.unh.edu. [132.177.123.84])
 by smtp-relay.gmail.com with ESMTPS id
 cs4-20020a056830678400b006e69e53de68sm55242otb.6.2024.03.21.12.53.47
 (version=TLS1_2 cipher=ECDHE-ECDSA-AES128-GCM-SHA256 bits=128/128);
 Thu, 21 Mar 2024 12:53:47 -0700 (PDT)
X-Relaying-Domain: iol.unh.edu
Date: Thu, 21 Mar 2024 12:53:47 -0700 (PDT)
Message-ID: <65fc904b.050a0220.88705.1bc3SMTPIN_ADDED_MISSING@mx.google.com>
Received: from [172.17.0.9] (unknown [172.18.0.217])
 by postal.iol.unh.edu (Postfix) with ESMTP id 3574D6052471;
 Thu, 21 Mar 2024 15:53:47 -0400 (EDT)
Subject: |SUCCESS| pw138673-138685 [PATCH] [v6,14/14] examples/ipsec-secgw: f
From: dpdklab@iol.unh.edu
To: Test Report <test-report@dpdk.org>
Cc: dpdk-test-reports@iol.unh.edu
In-Reply-To: <20240321184721.69040-15-sivaprasad.tummala@amd.com>
References: <20240321184721.69040-15-sivaprasad.tummala@amd.com>
Content-Type: text/plain
X-BeenThere: test-report@dpdk.org
X-Mailman-Version: 2.1.29
Precedence: list
List-Id: automatic DPDK test reports <test-report.dpdk.org>
List-Unsubscribe: <https://mails.dpdk.org/options/test-report>,
 <mailto:test-report-request@dpdk.org?subject=unsubscribe>
List-Archive: <http://mails.dpdk.org/archives/test-report/>
List-Post: <mailto:test-report@dpdk.org>
List-Help: <mailto:test-report-request@dpdk.org?subject=help>
List-Subscribe: <https://mails.dpdk.org/listinfo/test-report>,
 <mailto:test-report-request@dpdk.org?subject=subscribe>
Errors-To: test-report-bounces@dpdk.org

Test-Label: iol-unit-amd64-testing
Test-Status: SUCCESS
http://dpdk.org/patch/138685

_Testing PASS_

Submitter: Sivaprasad Tummala <Sivaprasad.Tummala@amd.com>
Date: Thursday, March 21 2024 18:47:20 
DPDK git baseline: Repo:dpdk
  Branch: master
  CommitID:c96e9ca312d9b32637bbdcfbfc1bca93a8629faa

138673-138685 --> testing pass

Test environment and result as below:

+---------------------+----------------+
|     Environment     | dpdk_unit_test |
+=====================+================+
| CentOS Stream 8     | PASS           |
+---------------------+----------------+
| Debian 11 (arm)     | PASS           |
+---------------------+----------------+
| CentOS Stream 9     | PASS           |
+---------------------+----------------+
| Fedora 37           | PASS           |
+---------------------+----------------+
| Debian Bullseye     | PASS           |
+---------------------+----------------+
| Fedora 38           | PASS           |
+---------------------+----------------+
| Windows Server 2019 | PASS           |
+---------------------+----------------+
| RHEL8               | PASS           |
+---------------------+----------------+
| openSUSE Leap 15    | PASS           |
+---------------------+----------------+
| Ubuntu 22.04        | PASS           |
+---------------------+----------------+


CentOS Stream 8
	Kernel: 5.4.0-167-generic
	Compiler: gcc 8.5.0 20210514

Debian 11 (arm)
	Kernel: Container Host Kernel
	Compiler: gcc 10.2.1

CentOS Stream 9
	Kernel: 5.4.0-167-generic
	Compiler: gcc 11.4.1 20230605

Fedora 37
	Kernel: Depends on container host system
	Compiler: gcc 12.3.1

Debian Bullseye
	Kernel: 5.4.0-167-generic
	Compiler: gcc 10.2.1-6

Fedora 38
	Kernel: Depends on container host
	Compiler: gcc 13.2.1

Windows Server 2019
	Kernel: 10.0.17763
	Compiler: clang 14.0 and gcc 8.1.0 (MinGW)

RHEL8
	Kernel: 5.4.0-167-generic
	Compiler: gcc 8.5.0 20210514 (Red Hat 8.5.0-20)

openSUSE Leap 15
	Kernel: 5.4.0-167-generic
	Compiler: gcc 7.5.0

Ubuntu 22.04
	Kernel: 5.4.0-167-generic
	Compiler: gcc 11.4.0

To view detailed results, visit:
https://lab.dpdk.org/results/dashboard/patchsets/29627/

UNH-IOL DPDK Community Lab

To manage your email subscriptions, visit: 
https://lab.dpdk.org/results/dashboard/preferences/subscriptions/