From mboxrd@z Thu Jan  1 00:00:00 1970
Return-Path: <test-report-bounces@dpdk.org>
Received: from mails.dpdk.org (mails.dpdk.org [217.70.189.124])
	by inbox.dpdk.org (Postfix) with ESMTP id DFAFB43D14
	for <public@inbox.dpdk.org>; Thu, 21 Mar 2024 21:08:50 +0100 (CET)
Received: from mails.dpdk.org (localhost [127.0.0.1])
	by mails.dpdk.org (Postfix) with ESMTP id D9F3742830;
	Thu, 21 Mar 2024 21:08:50 +0100 (CET)
Received: from mail-qk1-f228.google.com (mail-qk1-f228.google.com
 [209.85.222.228])
 by mails.dpdk.org (Postfix) with ESMTP id 34D81402C2
 for <test-report@dpdk.org>; Thu, 21 Mar 2024 21:08:49 +0100 (CET)
Received: by mail-qk1-f228.google.com with SMTP id
 af79cd13be357-789db18e24eso95117185a.1
 for <test-report@dpdk.org>; Thu, 21 Mar 2024 13:08:49 -0700 (PDT)
DKIM-Signature: v=1; a=rsa-sha256; c=relaxed/relaxed;
 d=iol.unh.edu; s=unh-iol; t=1711051728; x=1711656528; darn=dpdk.org;
 h=references:in-reply-to:cc:to:from:subject:message-id:date:from:to
 :cc:subject:date:message-id:reply-to;
 bh=o1cAuXkcFYA6JsxM6V1Jq/ayI2wevWk3MY4OLMc7rU0=;
 b=e4TjnxFSL+1CqApxY+sHYQl3hXJnyfHPuMxcBVIy/p2+7iabyZLtw1TuYAcDY2DhD+
 llL6nLn+RTPllr0DBl3e+Jl0cBIXPOmfJ2B8FmU0xlbktT8sh92kcEePGGhZtgJNd8SY
 Cirif9/IZS0NaII0P+PzwrucEQEno0iWhmjMI=
X-Google-DKIM-Signature: v=1; a=rsa-sha256; c=relaxed/relaxed;
 d=1e100.net; s=20230601; t=1711051728; x=1711656528;
 h=references:in-reply-to:cc:to:from:subject:message-id:date
 :x-gm-message-state:from:to:cc:subject:date:message-id:reply-to;
 bh=o1cAuXkcFYA6JsxM6V1Jq/ayI2wevWk3MY4OLMc7rU0=;
 b=dj1d32luTCs3fIbmAD1ZhLuoPVK6p+j4dixM7rKTyBWXcBC3kFZFZK4pKTaxMzuO1p
 mvQZDTs4RDFiKHRFy0fG19xiJ0kjb+VqELLmjz2Pwoh6Earo9lsMzY5RwUVRn+uODJzV
 AwrPx9pR1viea5WPa7CEvDXzm3yEnKjBVrV0rLf6hXgUEUCiN3o+BTruJSeYDYmixZYM
 OV+IrF3HqP2GfeCln3qQXgjuqos7vsM8VMexHI8s0TUPc+bsZDmdfA5L/EjQFul7XqQQ
 f6V9XW/y2S+/btM7d+UEpB7C9UNP996htbcusc68nXqHMplbWwORFvx3xh4STvXBWaKZ
 f14Q==
X-Gm-Message-State: AOJu0YwpLl9YTMMPEJWRLSFuxkxzWVYaLVilJChIO3hYBvNoTy0qLAVy
 bW2IbLmev2x+3xIqRa8M/Z+0EYlZgfPIGYtU6gzd2Jb5Ed6dZ5lkIk0YobmVJ7X3pYsWiW+050Y
 Neo1uiHNakFJWqKb4EvZ1ukk/C7r1Nk9oKY/aRoJRQY9Z9XO4ROG8urfA
X-Google-Smtp-Source: AGHT+IEaVJBS5Ng5jHoj3pKfvlR7W2odu8IusJGP3A90rjvXdctGd1SBC18mcbUQYlZKSx6YaovkX89kqmSh
X-Received: by 2002:a05:6358:7f8c:b0:17e:76a1:4dd3 with SMTP id
 c12-20020a0563587f8c00b0017e76a14dd3mr487425rwo.4.1711051328542; 
 Thu, 21 Mar 2024 13:02:08 -0700 (PDT)
Received: from postal.iol.unh.edu (postal.iol.unh.edu.
 [2606:4100:3880:1234::84]) by smtp-relay.gmail.com with ESMTPS id
 5-20020a631145000000b005af376e41c0sm22235pgr.19.2024.03.21.13.02.08
 (version=TLS1_2 cipher=ECDHE-ECDSA-AES128-GCM-SHA256 bits=128/128);
 Thu, 21 Mar 2024 13:02:08 -0700 (PDT)
X-Relaying-Domain: iol.unh.edu
Date: Thu, 21 Mar 2024 13:02:08 -0700 (PDT)
Message-ID: <65fc9240.630a0220.29b062.0443SMTPIN_ADDED_MISSING@mx.google.com>
Received: from [172.17.0.7] (unknown [172.18.0.217])
 by postal.iol.unh.edu (Postfix) with ESMTP id B3E0A6052471;
 Thu, 21 Mar 2024 16:02:07 -0400 (EDT)
Subject: |SUCCESS| pw138673-138685 [PATCH] [v6,14/14] examples/ipsec-secgw: f
From: dpdklab@iol.unh.edu
To: Test Report <test-report@dpdk.org>
Cc: dpdk-test-reports@iol.unh.edu
In-Reply-To: <20240321184721.69040-15-sivaprasad.tummala@amd.com>
References: <20240321184721.69040-15-sivaprasad.tummala@amd.com>
Content-Type: text/plain
X-BeenThere: test-report@dpdk.org
X-Mailman-Version: 2.1.29
Precedence: list
List-Id: automatic DPDK test reports <test-report.dpdk.org>
List-Unsubscribe: <https://mails.dpdk.org/options/test-report>,
 <mailto:test-report-request@dpdk.org?subject=unsubscribe>
List-Archive: <http://mails.dpdk.org/archives/test-report/>
List-Post: <mailto:test-report@dpdk.org>
List-Help: <mailto:test-report-request@dpdk.org?subject=help>
List-Subscribe: <https://mails.dpdk.org/listinfo/test-report>,
 <mailto:test-report-request@dpdk.org?subject=subscribe>
Errors-To: test-report-bounces@dpdk.org

Test-Label: iol-unit-amd64-testing
Test-Status: SUCCESS
http://dpdk.org/patch/138685

_Testing PASS_

Submitter: Sivaprasad Tummala <Sivaprasad.Tummala@amd.com>
Date: Thursday, March 21 2024 18:47:20 
DPDK git baseline: Repo:dpdk
  Branch: master
  CommitID:c96e9ca312d9b32637bbdcfbfc1bca93a8629faa

138673-138685 --> testing pass

Test environment and result as below:

+---------------------+----------------+
|     Environment     | dpdk_unit_test |
+=====================+================+
| CentOS Stream 8     | PASS           |
+---------------------+----------------+
| Debian 11 (arm)     | PASS           |
+---------------------+----------------+
| CentOS Stream 9     | PASS           |
+---------------------+----------------+
| Fedora 37           | PASS           |
+---------------------+----------------+
| Debian Bullseye     | PASS           |
+---------------------+----------------+
| Fedora 38           | PASS           |
+---------------------+----------------+
| Windows Server 2019 | PASS           |
+---------------------+----------------+
| RHEL8               | PASS           |
+---------------------+----------------+
| openSUSE Leap 15    | PASS           |
+---------------------+----------------+
| Ubuntu 22.04        | PASS           |
+---------------------+----------------+
| Ubuntu 20.04        | PASS           |
+---------------------+----------------+


CentOS Stream 8
	Kernel: 5.4.0-167-generic
	Compiler: gcc 8.5.0 20210514

Debian 11 (arm)
	Kernel: Container Host Kernel
	Compiler: gcc 10.2.1

CentOS Stream 9
	Kernel: 5.4.0-167-generic
	Compiler: gcc 11.4.1 20230605

Fedora 37
	Kernel: Depends on container host system
	Compiler: gcc 12.3.1

Debian Bullseye
	Kernel: 5.4.0-167-generic
	Compiler: gcc 10.2.1-6

Fedora 38
	Kernel: Depends on container host
	Compiler: gcc 13.2.1

Windows Server 2019
	Kernel: 10.0.17763
	Compiler: clang 14.0 and gcc 8.1.0 (MinGW)

RHEL8
	Kernel: 5.4.0-167-generic
	Compiler: gcc 8.5.0 20210514 (Red Hat 8.5.0-20)

openSUSE Leap 15
	Kernel: 5.4.0-167-generic
	Compiler: gcc 7.5.0

Ubuntu 22.04
	Kernel: 5.4.0-167-generic
	Compiler: gcc 11.4.0

Ubuntu 20.04
	Kernel: 5.4.0-167-generic
	Compiler: gcc 9.4.0-1ubuntu1~20.04.1

To view detailed results, visit:
https://lab.dpdk.org/results/dashboard/patchsets/29627/

UNH-IOL DPDK Community Lab

To manage your email subscriptions, visit: 
https://lab.dpdk.org/results/dashboard/preferences/subscriptions/