From mboxrd@z Thu Jan  1 00:00:00 1970
Return-Path: <test-report-bounces@dpdk.org>
Received: from mails.dpdk.org (mails.dpdk.org [217.70.189.124])
	by inbox.dpdk.org (Postfix) with ESMTP id 8CD4443D14
	for <public@inbox.dpdk.org>; Thu, 21 Mar 2024 21:06:58 +0100 (CET)
Received: from mails.dpdk.org (localhost [127.0.0.1])
	by mails.dpdk.org (Postfix) with ESMTP id 73D9342830;
	Thu, 21 Mar 2024 21:06:58 +0100 (CET)
Received: from mail-qk1-f228.google.com (mail-qk1-f228.google.com
 [209.85.222.228])
 by mails.dpdk.org (Postfix) with ESMTP id 7558C402C2
 for <test-report@dpdk.org>; Thu, 21 Mar 2024 21:06:56 +0100 (CET)
Received: by mail-qk1-f228.google.com with SMTP id
 af79cd13be357-789e4a4d3a5so95332885a.1
 for <test-report@dpdk.org>; Thu, 21 Mar 2024 13:06:56 -0700 (PDT)
DKIM-Signature: v=1; a=rsa-sha256; c=relaxed/relaxed;
 d=iol.unh.edu; s=unh-iol; t=1711051616; x=1711656416; darn=dpdk.org;
 h=references:in-reply-to:cc:to:from:subject:message-id:date:from:to
 :cc:subject:date:message-id:reply-to;
 bh=MUjkuyuLSFfDBiWxDVU+HEhYel0DX+hJVJ0lstgZC0Q=;
 b=e5J3rAHVnujSig7Ofzwaf6eOzqPxpJKz/ejA0dWeuMZIyC9qc8t+fuT8FlfjbgiKdX
 UIxMNvNCF4tC1RrXj0iI+2pJEC+hcxJcBxlMyP1oXdaGfLl3g220KL2jEyoTEDc2gYS3
 uRV8QLF1njCPI2BzBOJNiWpjfWLgCDqM+kuAc=
X-Google-DKIM-Signature: v=1; a=rsa-sha256; c=relaxed/relaxed;
 d=1e100.net; s=20230601; t=1711051616; x=1711656416;
 h=references:in-reply-to:cc:to:from:subject:message-id:date
 :x-gm-message-state:from:to:cc:subject:date:message-id:reply-to;
 bh=MUjkuyuLSFfDBiWxDVU+HEhYel0DX+hJVJ0lstgZC0Q=;
 b=r2cILfz6sdhs7Ba/ckULKp5CBdaMmmHULZZJCucFYggy8DHsy971sVyrXipHELuJbA
 lrB1cS7UpzNzhkZ0ZoMJ4J1Nch+8pE+WreEkO8VUOz1xD4uldAaaBFfK8dJm2U+0YvtB
 +1tu/O0GM1HSmBwL5X4XJzHIGLP/4iClf9k5uVwfzlYeBtDMdKyGOfG4IBPDJZrsTyjn
 voFtYPrub2OhxU1iR7uZA6t0b/aQe7Z8EeJdiSjvs4ULuV3X/j5gpXI4Y/qLsViKjOAu
 Vp3i1qVDJUWa5as/NXu1eFKvCbqJEnagtcJJajtrTkGb88iXKt0mZV3N98ArK2wx9Gy6
 Q9+Q==
X-Gm-Message-State: AOJu0YwexT05MqTRt60IWVGBBb3VkmqNDZBGoqKWICnm2Dk//gkIDriJ
 cnrEtyIssUGQXrT5uNfT8sJ0P2I5VcO3WSDNIFWH2BhERch9x3rJrd4XU94q5s3s2cITy3r6V/v
 lYbQCDn8jeHLYbrLvhFMJueTI0LrOJBKAow6QXIlcdem8EsqCbtG3G/iI
X-Google-Smtp-Source: AGHT+IEbeWyFjqFmRXKU1KdUTsUIEPVV54Ji8zC8X4Jcp9a5mF5nK9uuZzy3nePqIskgojTAOndfPj5It6Zc
X-Received: by 2002:a05:6214:1c0f:b0:691:6d13:1850 with SMTP id
 u15-20020a0562141c0f00b006916d131850mr149406qvc.30.1711051615882; 
 Thu, 21 Mar 2024 13:06:55 -0700 (PDT)
Received: from postal.iol.unh.edu (postal.iol.unh.edu.
 [2606:4100:3880:1234::84]) by smtp-relay.gmail.com with ESMTPS id
 gg14-20020a056214252e00b00691841445dcsm59228qvb.34.2024.03.21.13.06.55
 (version=TLS1_2 cipher=ECDHE-ECDSA-AES128-GCM-SHA256 bits=128/128);
 Thu, 21 Mar 2024 13:06:55 -0700 (PDT)
X-Relaying-Domain: iol.unh.edu
Date: Thu, 21 Mar 2024 13:06:55 -0700 (PDT)
Message-ID: <65fc935f.050a0220.a6d30.2043SMTPIN_ADDED_MISSING@mx.google.com>
Received: from [172.17.0.6] (unknown [172.18.0.217])
 by postal.iol.unh.edu (Postfix) with ESMTP id 838FF6052471;
 Thu, 21 Mar 2024 16:06:55 -0400 (EDT)
Subject: |SUCCESS| pw138673-138685 [PATCH] [v6,14/14] examples/ipsec-secgw: f
From: dpdklab@iol.unh.edu
To: Test Report <test-report@dpdk.org>
Cc: dpdk-test-reports@iol.unh.edu
In-Reply-To: <20240321184721.69040-15-sivaprasad.tummala@amd.com>
References: <20240321184721.69040-15-sivaprasad.tummala@amd.com>
Content-Type: text/plain
X-BeenThere: test-report@dpdk.org
X-Mailman-Version: 2.1.29
Precedence: list
List-Id: automatic DPDK test reports <test-report.dpdk.org>
List-Unsubscribe: <https://mails.dpdk.org/options/test-report>,
 <mailto:test-report-request@dpdk.org?subject=unsubscribe>
List-Archive: <http://mails.dpdk.org/archives/test-report/>
List-Post: <mailto:test-report@dpdk.org>
List-Help: <mailto:test-report-request@dpdk.org?subject=help>
List-Subscribe: <https://mails.dpdk.org/listinfo/test-report>,
 <mailto:test-report-request@dpdk.org?subject=subscribe>
Errors-To: test-report-bounces@dpdk.org

Test-Label: iol-abi-testing
Test-Status: SUCCESS
http://dpdk.org/patch/138685

_Testing PASS_

Submitter: Sivaprasad Tummala <Sivaprasad.Tummala@amd.com>
Date: Thursday, March 21 2024 18:47:20 
DPDK git baseline: Repo:dpdk
  Branch: master
  CommitID:c96e9ca312d9b32637bbdcfbfc1bca93a8629faa

138673-138685 --> testing pass

Test environment and result as below:

+------------------+----------+
|   Environment    | abi_test |
+==================+==========+
| Debian Bullseye  | PASS     |
+------------------+----------+
| Debian 11 (arm)  | PASS     |
+------------------+----------+
| CentOS Stream 8  | PASS     |
+------------------+----------+
| Fedora 38        | PASS     |
+------------------+----------+
| openSUSE Leap 15 | PASS     |
+------------------+----------+
| RHEL8            | PASS     |
+------------------+----------+
| Fedora 37        | PASS     |
+------------------+----------+
| CentOS Stream 9  | PASS     |
+------------------+----------+
| Ubuntu 22.04     | PASS     |
+------------------+----------+


Debian Bullseye
	Kernel: 5.4.0-167-generic
	Compiler: gcc 10.2.1-6

Debian 11 (arm)
	Kernel: Container Host Kernel
	Compiler: gcc 10.2.1

CentOS Stream 8
	Kernel: 5.4.0-167-generic
	Compiler: gcc 8.5.0 20210514

Fedora 38
	Kernel: Depends on container host
	Compiler: clang 16.0.6

openSUSE Leap 15
	Kernel: 5.4.0-167-generic
	Compiler: gcc 7.5.0

RHEL8
	Kernel: 5.4.0-167-generic
	Compiler: gcc 8.5.0 20210514 (Red Hat 8.5.0-20)

Fedora 37
	Kernel: Depends on container host system
	Compiler: gcc 12.3.1

CentOS Stream 9
	Kernel: 5.4.0-167-generic
	Compiler: gcc 11.4.1 20230605

Ubuntu 22.04
	Kernel: 5.4.0-167-generic
	Compiler: gcc 11.4.0

To view detailed results, visit:
https://lab.dpdk.org/results/dashboard/patchsets/29627/

UNH-IOL DPDK Community Lab

To manage your email subscriptions, visit: 
https://lab.dpdk.org/results/dashboard/preferences/subscriptions/