From mboxrd@z Thu Jan  1 00:00:00 1970
Return-Path: <test-report-bounces@dpdk.org>
Received: from mails.dpdk.org (mails.dpdk.org [217.70.189.124])
	by inbox.dpdk.org (Postfix) with ESMTP id C739C43D14
	for <public@inbox.dpdk.org>; Thu, 21 Mar 2024 21:08:33 +0100 (CET)
Received: from mails.dpdk.org (localhost [127.0.0.1])
	by mails.dpdk.org (Postfix) with ESMTP id C008D42E5B;
	Thu, 21 Mar 2024 21:08:33 +0100 (CET)
Received: from mail-il1-f227.google.com (mail-il1-f227.google.com
 [209.85.166.227])
 by mails.dpdk.org (Postfix) with ESMTP id B9C7D42E59
 for <test-report@dpdk.org>; Thu, 21 Mar 2024 21:08:27 +0100 (CET)
Received: by mail-il1-f227.google.com with SMTP id
 e9e14a558f8ab-3684320a751so7410415ab.1
 for <test-report@dpdk.org>; Thu, 21 Mar 2024 13:08:27 -0700 (PDT)
DKIM-Signature: v=1; a=rsa-sha256; c=relaxed/relaxed;
 d=iol.unh.edu; s=unh-iol; t=1711051707; x=1711656507; darn=dpdk.org;
 h=references:in-reply-to:cc:to:from:subject:message-id:date:from:to
 :cc:subject:date:message-id:reply-to;
 bh=o1cAuXkcFYA6JsxM6V1Jq/ayI2wevWk3MY4OLMc7rU0=;
 b=dJ9ge2GL3YauckDi9jmgwTu+JXDNL8bOqhfFi1Yc711OmKdkroXs1D9oy5aWKzZ1VJ
 20xspoPTvkCelbopBpg+aKBkFa8YhRbyUGGshtG3WLPO0nC29CLAYsDPyCEvgwCLGrwD
 4P3kauVKepS/GWd1RcZZ03MFMPZ950ftpE8l8=
X-Google-DKIM-Signature: v=1; a=rsa-sha256; c=relaxed/relaxed;
 d=1e100.net; s=20230601; t=1711051707; x=1711656507;
 h=references:in-reply-to:cc:to:from:subject:message-id:date
 :x-gm-message-state:from:to:cc:subject:date:message-id:reply-to;
 bh=o1cAuXkcFYA6JsxM6V1Jq/ayI2wevWk3MY4OLMc7rU0=;
 b=K+ll7QLoT7rcOCNvKMQG7iRgHLJW02W0jbn5x1rriyvmYIBfyvDxP0DBJgY2SL5/J5
 XoiXz0Cze+YwInaT/PlswmnAjW9S5cVa4QFCj76GtNL7xxT+fnU7U0hm4Hsp7FUjHB+s
 niupcE84TjYpFn77kPE3c7KWwXDjplDK4xO3aci1Nz2Zx6wu/jwjafUMPt/forCFefDW
 yk8PrnKfEVxsk7T1xKNNe36V9f5meoeEG/NJc4YZ3zvaaIjgbChTW9dzaV6cBCj8iNJl
 bYLpxyB+qkY2LUdvrc5oayMhy27Clf8nZLkBm0hhrm0t6CiHL6rY4OkMX3zq3ev0DbgA
 NpNA==
X-Gm-Message-State: AOJu0YwUcB7hBb7nRT3UFBoGT+1C1hVA32YkucJEbKfMpFvkCdYR7+2O
 Xs6qUxeY/Gp/ram265/1y0/pXuCcjXLyWfMIc2zbTPScEVnmVY0qR0rSwKOaYZQSb66/vOxgDlp
 38ybsJ0lfLVTBlKkNXJrG1o2K6gqd4x4OVLqbTLlqIUtixPWVIWbeoiI/
X-Google-Smtp-Source: AGHT+IHoW1vhuMy0U2eW0UDINr04z/TQjsIuc/KCknfgr19dUc4O25NgVPzjOP1daMFR1EKMoLS8b9qyOgg+
X-Received: by 2002:a92:cc49:0:b0:368:627a:ba82 with SMTP id
 t9-20020a92cc49000000b00368627aba82mr36406ilq.9.1711051707130; 
 Thu, 21 Mar 2024 13:08:27 -0700 (PDT)
Received: from postal.iol.unh.edu (postal.iol.unh.edu.
 [2606:4100:3880:1234::84]) by smtp-relay.gmail.com with ESMTPS id
 x14-20020a056e021cae00b00363cbbd7ff5sm42595ill.15.2024.03.21.13.08.27
 (version=TLS1_2 cipher=ECDHE-ECDSA-AES128-GCM-SHA256 bits=128/128);
 Thu, 21 Mar 2024 13:08:27 -0700 (PDT)
X-Relaying-Domain: iol.unh.edu
Date: Thu, 21 Mar 2024 13:08:27 -0700 (PDT)
Message-ID: <65fc93bb.050a0220.e718e.1393SMTPIN_ADDED_MISSING@mx.google.com>
Received: from [172.21.0.6] (unknown [172.18.0.240])
 by postal.iol.unh.edu (Postfix) with ESMTP id 9821A6052471;
 Thu, 21 Mar 2024 16:08:26 -0400 (EDT)
Subject: |SUCCESS| pw138673-138685 [PATCH] [v6,14/14] examples/ipsec-secgw: f
From: dpdklab@iol.unh.edu
To: Test Report <test-report@dpdk.org>
Cc: dpdk-test-reports@iol.unh.edu
In-Reply-To: <20240321184721.69040-15-sivaprasad.tummala@amd.com>
References: <20240321184721.69040-15-sivaprasad.tummala@amd.com>
Content-Type: text/plain
X-BeenThere: test-report@dpdk.org
X-Mailman-Version: 2.1.29
Precedence: list
List-Id: automatic DPDK test reports <test-report.dpdk.org>
List-Unsubscribe: <https://mails.dpdk.org/options/test-report>,
 <mailto:test-report-request@dpdk.org?subject=unsubscribe>
List-Archive: <http://mails.dpdk.org/archives/test-report/>
List-Post: <mailto:test-report@dpdk.org>
List-Help: <mailto:test-report-request@dpdk.org?subject=help>
List-Subscribe: <https://mails.dpdk.org/listinfo/test-report>,
 <mailto:test-report-request@dpdk.org?subject=subscribe>
Errors-To: test-report-bounces@dpdk.org

Test-Label: iol-unit-amd64-testing
Test-Status: SUCCESS
http://dpdk.org/patch/138685

_Testing PASS_

Submitter: Sivaprasad Tummala <Sivaprasad.Tummala@amd.com>
Date: Thursday, March 21 2024 18:47:20 
DPDK git baseline: Repo:dpdk
  Branch: master
  CommitID:c96e9ca312d9b32637bbdcfbfc1bca93a8629faa

138673-138685 --> testing pass

Test environment and result as below:

+---------------------+----------------+
|     Environment     | dpdk_unit_test |
+=====================+================+
| CentOS Stream 8     | PASS           |
+---------------------+----------------+
| Debian 11 (arm)     | PASS           |
+---------------------+----------------+
| CentOS Stream 9     | PASS           |
+---------------------+----------------+
| Fedora 37           | PASS           |
+---------------------+----------------+
| Debian Bullseye     | PASS           |
+---------------------+----------------+
| Fedora 38           | PASS           |
+---------------------+----------------+
| Windows Server 2019 | PASS           |
+---------------------+----------------+
| RHEL8               | PASS           |
+---------------------+----------------+
| openSUSE Leap 15    | PASS           |
+---------------------+----------------+
| Ubuntu 22.04        | PASS           |
+---------------------+----------------+
| Ubuntu 20.04        | PASS           |
+---------------------+----------------+


CentOS Stream 8
	Kernel: 5.4.0-167-generic
	Compiler: gcc 8.5.0 20210514

Debian 11 (arm)
	Kernel: Container Host Kernel
	Compiler: gcc 10.2.1

CentOS Stream 9
	Kernel: 5.4.0-167-generic
	Compiler: gcc 11.4.1 20230605

Fedora 37
	Kernel: Depends on container host system
	Compiler: gcc 12.3.1

Debian Bullseye
	Kernel: 5.4.0-167-generic
	Compiler: gcc 10.2.1-6

Fedora 38
	Kernel: Depends on container host
	Compiler: gcc 13.2.1

Windows Server 2019
	Kernel: 10.0.17763
	Compiler: clang 14.0 and gcc 8.1.0 (MinGW)

RHEL8
	Kernel: 5.4.0-167-generic
	Compiler: gcc 8.5.0 20210514 (Red Hat 8.5.0-20)

openSUSE Leap 15
	Kernel: 5.4.0-167-generic
	Compiler: gcc 7.5.0

Ubuntu 22.04
	Kernel: 5.4.0-167-generic
	Compiler: gcc 11.4.0

Ubuntu 20.04
	Kernel: 5.4.0-167-generic
	Compiler: gcc 9.4.0-1ubuntu1~20.04.1

To view detailed results, visit:
https://lab.dpdk.org/results/dashboard/patchsets/29627/

UNH-IOL DPDK Community Lab

To manage your email subscriptions, visit: 
https://lab.dpdk.org/results/dashboard/preferences/subscriptions/