From mboxrd@z Thu Jan  1 00:00:00 1970
Return-Path: <test-report-bounces@dpdk.org>
Received: from mails.dpdk.org (mails.dpdk.org [217.70.189.124])
	by inbox.dpdk.org (Postfix) with ESMTP id E1C0743D18
	for <public@inbox.dpdk.org>; Thu, 21 Mar 2024 22:00:56 +0100 (CET)
Received: from mails.dpdk.org (localhost [127.0.0.1])
	by mails.dpdk.org (Postfix) with ESMTP id DB4FE427E6;
	Thu, 21 Mar 2024 22:00:56 +0100 (CET)
Received: from mail-io1-f99.google.com (mail-io1-f99.google.com
 [209.85.166.99]) by mails.dpdk.org (Postfix) with ESMTP id D7222402C2
 for <test-report@dpdk.org>; Thu, 21 Mar 2024 22:00:55 +0100 (CET)
Received: by mail-io1-f99.google.com with SMTP id
 ca18e2360f4ac-7cf01066448so56496739f.1
 for <test-report@dpdk.org>; Thu, 21 Mar 2024 14:00:55 -0700 (PDT)
DKIM-Signature: v=1; a=rsa-sha256; c=relaxed/relaxed;
 d=iol.unh.edu; s=unh-iol; t=1711054855; x=1711659655; darn=dpdk.org;
 h=references:in-reply-to:cc:to:from:subject:message-id:date:from:to
 :cc:subject:date:message-id:reply-to;
 bh=Zxe61nV8zZIqsBtnme88tzZI11sra7t8C/UEtRNGKbc=;
 b=XGBBLRqc0rmbnX5kcFmRvGlCFnUUbjZht7xSr1C7RLwl1d7yttIWdY4+pQRj2nUlfX
 t/4JQ2QiaC13J/YQAtDGedA7eousbf5OVNA1vqyLaEhgCBwJ2nswXbwbETD7livoMBj8
 SQl0B8Ri/OATLM/BDc6ilnGyZHiEsa+N2smPQ=
X-Google-DKIM-Signature: v=1; a=rsa-sha256; c=relaxed/relaxed;
 d=1e100.net; s=20230601; t=1711054855; x=1711659655;
 h=references:in-reply-to:cc:to:from:subject:message-id:date
 :x-gm-message-state:from:to:cc:subject:date:message-id:reply-to;
 bh=Zxe61nV8zZIqsBtnme88tzZI11sra7t8C/UEtRNGKbc=;
 b=hUG+LFzH2P9TSVmsLNq5XvcAl4Ynh9qXlZVvne+S5ujN4Bjg1OrSWLnKAhfUFFjpBB
 rxIhEs1GgqP7SaKjt2zAcmobirzP7MLwDtCB2udA+3cASb5Ueht8Q6Q/nDYiII6iEttH
 CyxhocgMkGJPEvS8b/yv6uPAPgICjNcVwgBudC5I/knZqYZRaEh1VdoNWc22JMY7xNw8
 Hp/64OHAbbV4xsa1nlk8gKuuT8CotVOx6cKKFRCZXf6GK4bmaMHA6YNxIM3yNAgUBG+c
 +GfC3TSa325t3Jg4RG33DCnmQEPz6ocMM/TKyfw43cBGkMeSHVHovvS7t7+k8KvqqoJU
 /fkw==
X-Gm-Message-State: AOJu0YyujSUF0U/Eq30QRwU3OgA95XkCxKusOkrYoL/dBR+M3DRhASWf
 KIVgdqjnzfBlpFAVNZWsW8gOKnBC9a1tfhqdNEK4w0ZPWlKXbw/vQR7hJC1D9POKSJzUGo2D3/E
 4PZ+L/7nzRJmS8Sk5tSJgq5hjn5t723dwqtWrxhJP
X-Google-Smtp-Source: AGHT+IECaa/Tx5CUqsMxAcEW2nLgvnfc54jcWrXCX16e2Z+6KvHRtB8tZYT4bbAUSBduHam4AX0EUbQX//Wi
X-Received: by 2002:a92:1905:0:b0:366:46d1:ccc3 with SMTP id
 5-20020a921905000000b0036646d1ccc3mr707162ilz.29.1711054855281; 
 Thu, 21 Mar 2024 14:00:55 -0700 (PDT)
Received: from postal.iol.unh.edu (postal.iol.unh.edu. [132.177.123.84])
 by smtp-relay.gmail.com with ESMTPS id
 t13-20020a056638204d00b00474b3f646c5sm37677jaj.70.2024.03.21.14.00.55
 (version=TLS1_2 cipher=ECDHE-ECDSA-AES128-GCM-SHA256 bits=128/128);
 Thu, 21 Mar 2024 14:00:55 -0700 (PDT)
X-Relaying-Domain: iol.unh.edu
Date: Thu, 21 Mar 2024 14:00:55 -0700 (PDT)
Message-ID: <65fca007.050a0220.b16dd.0befSMTPIN_ADDED_MISSING@mx.google.com>
Received: from [172.21.0.6] (unknown [172.18.0.240])
 by postal.iol.unh.edu (Postfix) with ESMTP id DF8E66052471;
 Thu, 21 Mar 2024 17:00:54 -0400 (EDT)
Subject: |SUCCESS| pw138660-138661 [PATCH] [2/2] net/mlx5/hws: fix port ID fo
From: dpdklab@iol.unh.edu
To: Test Report <test-report@dpdk.org>
Cc: dpdk-test-reports@iol.unh.edu
In-Reply-To: <20240321142414.1573453-2-kliteyn@nvidia.com>
References: <20240321142414.1573453-2-kliteyn@nvidia.com>
Content-Type: text/plain
X-BeenThere: test-report@dpdk.org
X-Mailman-Version: 2.1.29
Precedence: list
List-Id: automatic DPDK test reports <test-report.dpdk.org>
List-Unsubscribe: <https://mails.dpdk.org/options/test-report>,
 <mailto:test-report-request@dpdk.org?subject=unsubscribe>
List-Archive: <http://mails.dpdk.org/archives/test-report/>
List-Post: <mailto:test-report@dpdk.org>
List-Help: <mailto:test-report-request@dpdk.org?subject=help>
List-Subscribe: <https://mails.dpdk.org/listinfo/test-report>,
 <mailto:test-report-request@dpdk.org?subject=subscribe>
Errors-To: test-report-bounces@dpdk.org

Test-Label: iol-abi-testing
Test-Status: SUCCESS
http://dpdk.org/patch/138661

_Testing PASS_

Submitter: Yevgeny Kliteynik <kliteyn@nvidia.com>
Date: Thursday, March 21 2024 14:24:14 
DPDK git baseline: Repo:dpdk
  Branch: master
  CommitID:80ecef6d1f71fcebc0a51d7cabc51f73ee142ff2

138660-138661 --> testing pass

Test environment and result as below:

+------------------+----------+
|   Environment    | abi_test |
+==================+==========+
| Fedora 37        | PASS     |
+------------------+----------+
| CentOS Stream 8  | PASS     |
+------------------+----------+
| Fedora 38        | PASS     |
+------------------+----------+
| openSUSE Leap 15 | PASS     |
+------------------+----------+
| Debian Bullseye  | PASS     |
+------------------+----------+
| Ubuntu 22.04     | PASS     |
+------------------+----------+
| CentOS Stream 9  | PASS     |
+------------------+----------+
| RHEL8            | PASS     |
+------------------+----------+
| Debian 11 (arm)  | PASS     |
+------------------+----------+


Fedora 37
	Kernel: Depends on container host system
	Compiler: gcc 12.3.1

CentOS Stream 8
	Kernel: 5.4.0-167-generic
	Compiler: gcc 8.5.0 20210514

Fedora 38
	Kernel: Depends on container host
	Compiler: clang 16.0.6

openSUSE Leap 15
	Kernel: 5.4.0-167-generic
	Compiler: gcc 7.5.0

Debian Bullseye
	Kernel: 5.4.0-167-generic
	Compiler: gcc 10.2.1-6

Ubuntu 22.04
	Kernel: 5.4.0-167-generic
	Compiler: gcc 11.4.0

CentOS Stream 9
	Kernel: 5.4.0-167-generic
	Compiler: gcc 11.4.1 20230605

RHEL8
	Kernel: 5.4.0-167-generic
	Compiler: gcc 8.5.0 20210514 (Red Hat 8.5.0-20)

Debian 11 (arm)
	Kernel: Container Host Kernel
	Compiler: gcc 10.2.1

To view detailed results, visit:
https://lab.dpdk.org/results/dashboard/patchsets/29624/

UNH-IOL DPDK Community Lab

To manage your email subscriptions, visit: 
https://lab.dpdk.org/results/dashboard/preferences/subscriptions/