From mboxrd@z Thu Jan  1 00:00:00 1970
Return-Path: <test-report-bounces@dpdk.org>
Received: from mails.dpdk.org (mails.dpdk.org [217.70.189.124])
	by inbox.dpdk.org (Postfix) with ESMTP id 9400F43D18
	for <public@inbox.dpdk.org>; Thu, 21 Mar 2024 23:07:12 +0100 (CET)
Received: from mails.dpdk.org (localhost [127.0.0.1])
	by mails.dpdk.org (Postfix) with ESMTP id 905FD42830;
	Thu, 21 Mar 2024 23:07:12 +0100 (CET)
Received: from mail-oa1-f97.google.com (mail-oa1-f97.google.com
 [209.85.160.97]) by mails.dpdk.org (Postfix) with ESMTP id 99612402C2
 for <test-report@dpdk.org>; Thu, 21 Mar 2024 23:07:11 +0100 (CET)
Received: by mail-oa1-f97.google.com with SMTP id
 586e51a60fabf-2226572ccf8so934517fac.2
 for <test-report@dpdk.org>; Thu, 21 Mar 2024 15:07:11 -0700 (PDT)
DKIM-Signature: v=1; a=rsa-sha256; c=relaxed/relaxed;
 d=iol.unh.edu; s=unh-iol; t=1711058831; x=1711663631; darn=dpdk.org;
 h=references:in-reply-to:cc:to:from:subject:message-id:date:from:to
 :cc:subject:date:message-id:reply-to;
 bh=J1RDN4wR6GCVdJASHHwswjjE+ZnWWzW0gLY+NFB4auo=;
 b=Nea8HB7htEyGrV2dNSBiaJrm7YjpZlP2MBYSES/KJOTNbhoHDjJ7UNL51KzPpClCbA
 Q3zW+zqzg86E7tApf3/ZpxudfFsfKDLQ9qxkeyMcrpW5dB+tTYVz3fESNfTn7u5T41g5
 stq99/2eZa/DKJnbEbdg6XVc32dbsq09Zwm3g=
X-Google-DKIM-Signature: v=1; a=rsa-sha256; c=relaxed/relaxed;
 d=1e100.net; s=20230601; t=1711058831; x=1711663631;
 h=references:in-reply-to:cc:to:from:subject:message-id:date
 :x-gm-message-state:from:to:cc:subject:date:message-id:reply-to;
 bh=J1RDN4wR6GCVdJASHHwswjjE+ZnWWzW0gLY+NFB4auo=;
 b=bsroCzsVicvTXjZTktAftp+3mGPoC73iIEaD+4pb6DAJMIjUaKcnTw2nDJsTWCBM9L
 vpI8B/N7n2gFh3vk8sfo7gOQzZXVs2yFD9hU2yb+Vs1sNTI8sNa/qZ4Nn6gkrLUncsvC
 lU0ctxAskStN1CQG5Gj8Q9uLtx/ETiB8Vvflzpxz6Vx49ZH+Z5506+bNy6yHjvUdUMex
 +fIt+CiBLZwJ1PSAliRp0xtpO0FOPKd7C8Xhi+//fMm3m3MBHCj6+8v5Hjig2iLyjlX6
 n/VADAQ5PWQhj9MKaTybpdpypgKJDBQ1fHwenF2ros+2K4fzM5ACeyJWHXRKi3MhsZ3j
 nEtg==
X-Gm-Message-State: AOJu0YwR6AN+f3lCj+XYeqhRJuQADCm6ixioC0WRPzpebyllBYXbQpD0
 ijcVVbpLecKPzqqPDUenJt5fwIOTp93GGce8sTZPOjfn0sSuFrJ05F2nAcMx4+kv36RsfkMvvrg
 8h0oHlh9EaYEcrJesYNyfrSVqqWYUUNwo8cZ/8E9qtIpELyTIGUEasGEf
X-Google-Smtp-Source: AGHT+IGB9A1JdGyBNq8RifZi8OQL7WXKVbt7so0X6C1eswOqkGn1Aj6btV8Un3gArwOiGWYHMZ94InpsWVcw
X-Received: by 2002:a05:6870:224e:b0:229:7fa8:f4c4 with SMTP id
 j14-20020a056870224e00b002297fa8f4c4mr556931oaf.36.1711058830874; 
 Thu, 21 Mar 2024 15:07:10 -0700 (PDT)
Received: from postal.iol.unh.edu (postal.iol.unh.edu.
 [2606:4100:3880:1234::84]) by smtp-relay.gmail.com with ESMTPS id
 ea45-20020a056870072d00b0021e4850d3bdsm51705oab.7.2024.03.21.15.07.10
 (version=TLS1_2 cipher=ECDHE-ECDSA-AES128-GCM-SHA256 bits=128/128);
 Thu, 21 Mar 2024 15:07:10 -0700 (PDT)
X-Relaying-Domain: iol.unh.edu
Date: Thu, 21 Mar 2024 15:07:10 -0700 (PDT)
Message-ID: <65fcaf8e.050a0220.9df66.17e1SMTPIN_ADDED_MISSING@mx.google.com>
Received: from [172.21.0.6] (unknown [172.18.0.240])
 by postal.iol.unh.edu (Postfix) with ESMTP id 56D4B6052471;
 Thu, 21 Mar 2024 18:07:10 -0400 (EDT)
Subject: |SUCCESS| pw138660-138661 [PATCH] [2/2] net/mlx5/hws: fix port ID fo
From: dpdklab@iol.unh.edu
To: Test Report <test-report@dpdk.org>
Cc: dpdk-test-reports@iol.unh.edu
In-Reply-To: <20240321142414.1573453-2-kliteyn@nvidia.com>
References: <20240321142414.1573453-2-kliteyn@nvidia.com>
Content-Type: text/plain
X-BeenThere: test-report@dpdk.org
X-Mailman-Version: 2.1.29
Precedence: list
List-Id: automatic DPDK test reports <test-report.dpdk.org>
List-Unsubscribe: <https://mails.dpdk.org/options/test-report>,
 <mailto:test-report-request@dpdk.org?subject=unsubscribe>
List-Archive: <http://mails.dpdk.org/archives/test-report/>
List-Post: <mailto:test-report@dpdk.org>
List-Help: <mailto:test-report-request@dpdk.org?subject=help>
List-Subscribe: <https://mails.dpdk.org/listinfo/test-report>,
 <mailto:test-report-request@dpdk.org?subject=subscribe>
Errors-To: test-report-bounces@dpdk.org

Test-Label: iol-compile-arm64-testing
Test-Status: SUCCESS
http://dpdk.org/patch/138661

_Testing PASS_

Submitter: Yevgeny Kliteynik <kliteyn@nvidia.com>
Date: Thursday, March 21 2024 14:24:14 
DPDK git baseline: Repo:dpdk
  Branch: master
  CommitID:80ecef6d1f71fcebc0a51d7cabc51f73ee142ff2

138660-138661 --> testing pass

Test environment and result as below:

+----------------------------------------+--------------------+
|              Environment               | dpdk_meson_compile |
+========================================+====================+
| Ubuntu 20.04 ARM SVE                   | PASS               |
+----------------------------------------+--------------------+
| Debian 12 with MUSDK                   | PASS               |
+----------------------------------------+--------------------+
| Fedora 38 (ARM)                        | PASS               |
+----------------------------------------+--------------------+
| Ubuntu 20.04 aarch32 GCC Cross Compile | PASS               |
+----------------------------------------+--------------------+
| Fedora 37 (ARM)                        | PASS               |
+----------------------------------------+--------------------+
| Ubuntu 20.04 ARM GCC Cross Compile     | PASS               |
+----------------------------------------+--------------------+
| Debian 12 (arm)                        | PASS               |
+----------------------------------------+--------------------+
| Ubuntu 20.04 ARM Clang Cross Compile   | PASS               |
+----------------------------------------+--------------------+
| CentOS Stream 9 (ARM)                  | PASS               |
+----------------------------------------+--------------------+
| Ubuntu 20.04 (ARM)                     | PASS               |
+----------------------------------------+--------------------+
| Debian 11 (Buster) (ARM)               | PASS               |
+----------------------------------------+--------------------+


Ubuntu 20.04 ARM SVE
	Kernel: 5.4.0-167-generic
	Compiler: gcc (Ubuntu 10.5.0-1ubuntu1~20.04) 10.5.0

Debian 12 with MUSDK
	Kernel: Container Host Kernel
	Compiler: gcc 12.2.0

Fedora 38 (ARM)
	Kernel: Depends on container host
	Compiler: gcc 13.2.1

Ubuntu 20.04 aarch32 GCC Cross Compile
	Kernel: 5.4.0-167-generic
	Compiler: gcc 9.4.0

Fedora 37 (ARM)
	Kernel: Depends on container host
	Compiler: gcc 12.3.1

Ubuntu 20.04 ARM GCC Cross Compile
	Kernel: 5.4.0-167-generic
	Compiler: aarch64-linux-gnu-gcc (Ubuntu 9.4.0-1ubuntu1~20.04.2) 9.4.0

Debian 12 (arm)
	Kernel: Container Host Kernel
	Compiler: gcc 12.2.0

Ubuntu 20.04 ARM Clang Cross Compile
	Kernel: 5.4.0-72-generic
	Compiler: clang 10.0.0-4ubuntu1

CentOS Stream 9 (ARM)
	Kernel: Container Host Kernel
	Compiler: gcc 11.4.1

Ubuntu 20.04 (ARM)
	Kernel: Container Host Kernel
	Compiler: gcc 9.4.0

Debian 11 (Buster) (ARM)
	Kernel: Container Host Kernel
	Compiler: gcc 10.2.1

To view detailed results, visit:
https://lab.dpdk.org/results/dashboard/patchsets/29624/

UNH-IOL DPDK Community Lab

To manage your email subscriptions, visit: 
https://lab.dpdk.org/results/dashboard/preferences/subscriptions/