From mboxrd@z Thu Jan  1 00:00:00 1970
Return-Path: <test-report-bounces@dpdk.org>
Received: from mails.dpdk.org (mails.dpdk.org [217.70.189.124])
	by inbox.dpdk.org (Postfix) with ESMTP id 263DF43D18
	for <public@inbox.dpdk.org>; Thu, 21 Mar 2024 23:09:28 +0100 (CET)
Received: from mails.dpdk.org (localhost [127.0.0.1])
	by mails.dpdk.org (Postfix) with ESMTP id 1E33942830;
	Thu, 21 Mar 2024 23:09:28 +0100 (CET)
Received: from mail-ot1-f97.google.com (mail-ot1-f97.google.com
 [209.85.210.97]) by mails.dpdk.org (Postfix) with ESMTP id 5E3C7402C2
 for <test-report@dpdk.org>; Thu, 21 Mar 2024 23:09:27 +0100 (CET)
Received: by mail-ot1-f97.google.com with SMTP id
 46e09a7af769-6e675181ceaso812107a34.2
 for <test-report@dpdk.org>; Thu, 21 Mar 2024 15:09:27 -0700 (PDT)
DKIM-Signature: v=1; a=rsa-sha256; c=relaxed/relaxed;
 d=iol.unh.edu; s=unh-iol; t=1711058966; x=1711663766; darn=dpdk.org;
 h=references:in-reply-to:cc:to:from:subject:message-id:date:from:to
 :cc:subject:date:message-id:reply-to;
 bh=J1RDN4wR6GCVdJASHHwswjjE+ZnWWzW0gLY+NFB4auo=;
 b=MpMYojAuthj1DUDaO7b9CECKq8sR/4s1n8h21ivuJyVYL6Go5F9B2ahGlBquq94JBR
 R46o9Jr8WqMDj4DDHaQ26EuRq7UyE2y31ItuEOMcsCCs0zyC2kIsXweZj/+XJlPwx3nY
 HgyOhd8NpKFTOZWWHoT3crjL8X0RtHgDqShF0=
X-Google-DKIM-Signature: v=1; a=rsa-sha256; c=relaxed/relaxed;
 d=1e100.net; s=20230601; t=1711058966; x=1711663766;
 h=references:in-reply-to:cc:to:from:subject:message-id:date
 :x-gm-message-state:from:to:cc:subject:date:message-id:reply-to;
 bh=J1RDN4wR6GCVdJASHHwswjjE+ZnWWzW0gLY+NFB4auo=;
 b=pBvULPZB/J3sW9GUStvvkOUMkqVwT+0+7YrzqLolxILSONsDC9CerY1hOB5zZmT0J5
 fdMc/EVd0ohqxA2VjuoO1fuq80HJi46tzDjNke+56e2IBdiRuk+sLLtDDTj85uee6Z6y
 DBG1BixwixvomP3hjnzwm1VIAql0HUL7ndTT8uKA3L4OPHoU03KBdvDyPSHyGJLDAyDu
 lfTUvhCebt31iTaEKu6Npcsowrxsxnx5k8zraX7ppS2TtlLEti1ZdHNuu1yXWAoTK8BH
 25OU5OJHCIZxaewxYFfj+V4jsIwsQXgb+/yg1CjCyIK6VfKzh4etKXNEVX15dyFrFKtM
 +QQw==
X-Gm-Message-State: AOJu0YymGhyryhU25R8Khx8RRocPI4cDOqjbqad/ilRM3IiUvFfZI2uD
 /6xrEEJgcvbhnS/t4eQHv7FvSZw9ezkhzfQwi9bUfXDI+LzALbOKcUw9KI2VatxYUcYCHXFnCyK
 wPMsW9BYbAwznH7DXZXh2eOJsedgEd1aAwqF+1ZQwT+ntlR67kXX2dCMT
X-Google-Smtp-Source: AGHT+IHq1mxRrOsFpwGyhAe3/vPzbxe4iU6jDJI9xSjkLmky9Y7acXvySf1cy2l/fs3mp3Fnehf+PNGaohC3
X-Received: by 2002:a05:6870:4c03:b0:221:51c1:3284 with SMTP id
 pk3-20020a0568704c0300b0022151c13284mr564926oab.12.1711058966554; 
 Thu, 21 Mar 2024 15:09:26 -0700 (PDT)
Received: from postal.iol.unh.edu (postal.iol.unh.edu.
 [2606:4100:3880:1234::84]) by smtp-relay.gmail.com with ESMTPS id
 5-20020a056870004500b0022281d88526sm50752oaz.8.2024.03.21.15.09.26
 (version=TLS1_2 cipher=ECDHE-ECDSA-AES128-GCM-SHA256 bits=128/128);
 Thu, 21 Mar 2024 15:09:26 -0700 (PDT)
X-Relaying-Domain: iol.unh.edu
Date: Thu, 21 Mar 2024 15:09:26 -0700 (PDT)
Message-ID: <65fcb016.050a0220.6f584.16f8SMTPIN_ADDED_MISSING@mx.google.com>
Received: from [172.21.0.6] (unknown [172.18.0.240])
 by postal.iol.unh.edu (Postfix) with ESMTP id 0D22D6052471;
 Thu, 21 Mar 2024 18:09:26 -0400 (EDT)
Subject: |SUCCESS| pw138660-138661 [PATCH] [2/2] net/mlx5/hws: fix port ID fo
From: dpdklab@iol.unh.edu
To: Test Report <test-report@dpdk.org>
Cc: dpdk-test-reports@iol.unh.edu
In-Reply-To: <20240321142414.1573453-2-kliteyn@nvidia.com>
References: <20240321142414.1573453-2-kliteyn@nvidia.com>
Content-Type: text/plain
X-BeenThere: test-report@dpdk.org
X-Mailman-Version: 2.1.29
Precedence: list
List-Id: automatic DPDK test reports <test-report.dpdk.org>
List-Unsubscribe: <https://mails.dpdk.org/options/test-report>,
 <mailto:test-report-request@dpdk.org?subject=unsubscribe>
List-Archive: <http://mails.dpdk.org/archives/test-report/>
List-Post: <mailto:test-report@dpdk.org>
List-Help: <mailto:test-report-request@dpdk.org?subject=help>
List-Subscribe: <https://mails.dpdk.org/listinfo/test-report>,
 <mailto:test-report-request@dpdk.org?subject=subscribe>
Errors-To: test-report-bounces@dpdk.org

Test-Label: iol-compile-arm64-testing
Test-Status: SUCCESS
http://dpdk.org/patch/138661

_Testing PASS_

Submitter: Yevgeny Kliteynik <kliteyn@nvidia.com>
Date: Thursday, March 21 2024 14:24:14 
DPDK git baseline: Repo:dpdk
  Branch: master
  CommitID:80ecef6d1f71fcebc0a51d7cabc51f73ee142ff2

138660-138661 --> testing pass

Test environment and result as below:

+----------------------------------------+--------------------+
|              Environment               | dpdk_meson_compile |
+========================================+====================+
| Ubuntu 20.04 ARM SVE                   | PASS               |
+----------------------------------------+--------------------+
| Debian 12 with MUSDK                   | PASS               |
+----------------------------------------+--------------------+
| Fedora 38 (ARM)                        | PASS               |
+----------------------------------------+--------------------+
| Ubuntu 20.04 aarch32 GCC Cross Compile | PASS               |
+----------------------------------------+--------------------+
| Fedora 37 (ARM)                        | PASS               |
+----------------------------------------+--------------------+
| Ubuntu 20.04 ARM GCC Cross Compile     | PASS               |
+----------------------------------------+--------------------+
| Debian 12 (arm)                        | PASS               |
+----------------------------------------+--------------------+
| Ubuntu 20.04 ARM Clang Cross Compile   | PASS               |
+----------------------------------------+--------------------+
| CentOS Stream 9 (ARM)                  | PASS               |
+----------------------------------------+--------------------+
| Ubuntu 20.04 (ARM)                     | PASS               |
+----------------------------------------+--------------------+
| Debian 11 (Buster) (ARM)               | PASS               |
+----------------------------------------+--------------------+


Ubuntu 20.04 ARM SVE
	Kernel: 5.4.0-167-generic
	Compiler: gcc (Ubuntu 10.5.0-1ubuntu1~20.04) 10.5.0

Debian 12 with MUSDK
	Kernel: Container Host Kernel
	Compiler: gcc 12.2.0

Fedora 38 (ARM)
	Kernel: Depends on container host
	Compiler: gcc 13.2.1

Ubuntu 20.04 aarch32 GCC Cross Compile
	Kernel: 5.4.0-167-generic
	Compiler: gcc 9.4.0

Fedora 37 (ARM)
	Kernel: Depends on container host
	Compiler: gcc 12.3.1

Ubuntu 20.04 ARM GCC Cross Compile
	Kernel: 5.4.0-167-generic
	Compiler: aarch64-linux-gnu-gcc (Ubuntu 9.4.0-1ubuntu1~20.04.2) 9.4.0

Debian 12 (arm)
	Kernel: Container Host Kernel
	Compiler: gcc 12.2.0

Ubuntu 20.04 ARM Clang Cross Compile
	Kernel: 5.4.0-72-generic
	Compiler: clang 10.0.0-4ubuntu1

CentOS Stream 9 (ARM)
	Kernel: Container Host Kernel
	Compiler: gcc 11.4.1

Ubuntu 20.04 (ARM)
	Kernel: Container Host Kernel
	Compiler: gcc 9.4.0

Debian 11 (Buster) (ARM)
	Kernel: Container Host Kernel
	Compiler: gcc 10.2.1

To view detailed results, visit:
https://lab.dpdk.org/results/dashboard/patchsets/29624/

UNH-IOL DPDK Community Lab

To manage your email subscriptions, visit: 
https://lab.dpdk.org/results/dashboard/preferences/subscriptions/