From mboxrd@z Thu Jan  1 00:00:00 1970
Return-Path: <test-report-bounces@dpdk.org>
Received: from mails.dpdk.org (mails.dpdk.org [217.70.189.124])
	by inbox.dpdk.org (Postfix) with ESMTP id F126143D18
	for <public@inbox.dpdk.org>; Thu, 21 Mar 2024 23:13:40 +0100 (CET)
Received: from mails.dpdk.org (localhost [127.0.0.1])
	by mails.dpdk.org (Postfix) with ESMTP id ED04E42830;
	Thu, 21 Mar 2024 23:13:40 +0100 (CET)
Received: from mail-yw1-f225.google.com (mail-yw1-f225.google.com
 [209.85.128.225])
 by mails.dpdk.org (Postfix) with ESMTP id 4C584402C2
 for <test-report@dpdk.org>; Thu, 21 Mar 2024 23:13:40 +0100 (CET)
Received: by mail-yw1-f225.google.com with SMTP id
 00721157ae682-609fd5fbe50so16216927b3.0
 for <test-report@dpdk.org>; Thu, 21 Mar 2024 15:13:40 -0700 (PDT)
DKIM-Signature: v=1; a=rsa-sha256; c=relaxed/relaxed;
 d=iol.unh.edu; s=unh-iol; t=1711059219; x=1711664019; darn=dpdk.org;
 h=references:in-reply-to:cc:to:from:subject:message-id:date:from:to
 :cc:subject:date:message-id:reply-to;
 bh=J1RDN4wR6GCVdJASHHwswjjE+ZnWWzW0gLY+NFB4auo=;
 b=HN+vnAgguZ+ru7jI0/TPtyEGG2OLYGGOV5RwkE6lvGb44xz4B0ww6tOZ1XW86Yqsfj
 GWOlO3x84p9QBWiSADOIFtax1DaUOqcMgodLnV7amIu7PbloIXHO1qXIJhOO+ObAi4Zz
 zcNiufqhfxtUqCF2vFGrC8glrugm3h9ZzNG3w=
X-Google-DKIM-Signature: v=1; a=rsa-sha256; c=relaxed/relaxed;
 d=1e100.net; s=20230601; t=1711059219; x=1711664019;
 h=references:in-reply-to:cc:to:from:subject:message-id:date
 :x-gm-message-state:from:to:cc:subject:date:message-id:reply-to;
 bh=J1RDN4wR6GCVdJASHHwswjjE+ZnWWzW0gLY+NFB4auo=;
 b=oChZcUhEyD/xsvrYGlmHpS/JWlPzYIoCpGJJGw38iUBTMcgmY405a+BoI7s1OfOvGB
 8gDO1hJDKXS+JpU9dvGMyYq3G7GfkBX56InDyGuy/OVaHKGrkdzXz7MPQM3EFt/DBfkx
 JekAZnHo7R29uFSuLvmBQkQ9q1qnlJXY3hsI2pAcZlqtsHzwz9wVPzSNafttTTMIjps4
 s5HJHnybt8DVTuJXGnvpRuMKhDdt0lZTMMojoO+JaLUhptm7MR7eBIyzyFX/zigBwyi7
 I66lZkw/CALCKNxhr7dtyJSg8RBYIM2mW69Mxgc/K/M9lKUPco/p2z1yTv7NFfQu3HLZ
 dfvw==
X-Gm-Message-State: AOJu0Yw2IwXXy04f/UXgM139Hk1BMfvRSdYUx53OMrhW4Oy3JsOYIQeO
 UYF14RbjVM7EpOqJ8oWu733RpDgX0yuFvOW3YZ9Ea144CvMAqGGePDqQ2gR3yqTQDLfgRZxd9Xa
 6GPkBi+mWSWiK7ROvsQEsrad1f9IjnboPZGFjXu2b
X-Google-Smtp-Source: AGHT+IHuKR3/nyss6tPCUTYBONo6a5IQlWR99e9e8XO4vk74TyhsoWE/Ky/kA+SBc8xJPtGss3be+29SwGRZ
X-Received: by 2002:a0d:c9c4:0:b0:60c:c997:308e with SMTP id
 l187-20020a0dc9c4000000b0060cc997308emr725481ywd.0.1711059219569; 
 Thu, 21 Mar 2024 15:13:39 -0700 (PDT)
Received: from postal.iol.unh.edu (postal.iol.unh.edu. [132.177.123.84])
 by smtp-relay.gmail.com with ESMTPS id
 dc2-20020a05690c0f0200b00609ff622e75sm49624ywb.17.2024.03.21.15.13.39
 (version=TLS1_2 cipher=ECDHE-ECDSA-AES128-GCM-SHA256 bits=128/128);
 Thu, 21 Mar 2024 15:13:39 -0700 (PDT)
X-Relaying-Domain: iol.unh.edu
Date: Thu, 21 Mar 2024 15:13:39 -0700 (PDT)
Message-ID: <65fcb113.050a0220.920c.0f46SMTPIN_ADDED_MISSING@mx.google.com>
Received: from [172.21.0.6] (unknown [172.18.0.240])
 by postal.iol.unh.edu (Postfix) with ESMTP id 4808F6052471;
 Thu, 21 Mar 2024 18:13:39 -0400 (EDT)
Subject: |SUCCESS| pw138660-138661 [PATCH] [2/2] net/mlx5/hws: fix port ID fo
From: dpdklab@iol.unh.edu
To: Test Report <test-report@dpdk.org>
Cc: dpdk-test-reports@iol.unh.edu
In-Reply-To: <20240321142414.1573453-2-kliteyn@nvidia.com>
References: <20240321142414.1573453-2-kliteyn@nvidia.com>
Content-Type: text/plain
X-BeenThere: test-report@dpdk.org
X-Mailman-Version: 2.1.29
Precedence: list
List-Id: automatic DPDK test reports <test-report.dpdk.org>
List-Unsubscribe: <https://mails.dpdk.org/options/test-report>,
 <mailto:test-report-request@dpdk.org?subject=unsubscribe>
List-Archive: <http://mails.dpdk.org/archives/test-report/>
List-Post: <mailto:test-report@dpdk.org>
List-Help: <mailto:test-report-request@dpdk.org?subject=help>
List-Subscribe: <https://mails.dpdk.org/listinfo/test-report>,
 <mailto:test-report-request@dpdk.org?subject=subscribe>
Errors-To: test-report-bounces@dpdk.org

Test-Label: iol-compile-arm64-testing
Test-Status: SUCCESS
http://dpdk.org/patch/138661

_Testing PASS_

Submitter: Yevgeny Kliteynik <kliteyn@nvidia.com>
Date: Thursday, March 21 2024 14:24:14 
DPDK git baseline: Repo:dpdk
  Branch: master
  CommitID:80ecef6d1f71fcebc0a51d7cabc51f73ee142ff2

138660-138661 --> testing pass

Test environment and result as below:

+----------------------------------------+--------------------+
|              Environment               | dpdk_meson_compile |
+========================================+====================+
| Ubuntu 20.04 ARM SVE                   | PASS               |
+----------------------------------------+--------------------+
| Debian 12 with MUSDK                   | PASS               |
+----------------------------------------+--------------------+
| Fedora 38 (ARM)                        | PASS               |
+----------------------------------------+--------------------+
| Ubuntu 20.04 aarch32 GCC Cross Compile | PASS               |
+----------------------------------------+--------------------+
| Fedora 37 (ARM)                        | PASS               |
+----------------------------------------+--------------------+
| Ubuntu 20.04 ARM GCC Cross Compile     | PASS               |
+----------------------------------------+--------------------+
| Debian 12 (arm)                        | PASS               |
+----------------------------------------+--------------------+
| Ubuntu 20.04 ARM Clang Cross Compile   | PASS               |
+----------------------------------------+--------------------+
| CentOS Stream 9 (ARM)                  | PASS               |
+----------------------------------------+--------------------+
| Ubuntu 20.04 (ARM)                     | PASS               |
+----------------------------------------+--------------------+
| Debian 11 (Buster) (ARM)               | PASS               |
+----------------------------------------+--------------------+


Ubuntu 20.04 ARM SVE
	Kernel: 5.4.0-167-generic
	Compiler: gcc (Ubuntu 10.5.0-1ubuntu1~20.04) 10.5.0

Debian 12 with MUSDK
	Kernel: Container Host Kernel
	Compiler: gcc 12.2.0

Fedora 38 (ARM)
	Kernel: Depends on container host
	Compiler: gcc 13.2.1

Ubuntu 20.04 aarch32 GCC Cross Compile
	Kernel: 5.4.0-167-generic
	Compiler: gcc 9.4.0

Fedora 37 (ARM)
	Kernel: Depends on container host
	Compiler: gcc 12.3.1

Ubuntu 20.04 ARM GCC Cross Compile
	Kernel: 5.4.0-167-generic
	Compiler: aarch64-linux-gnu-gcc (Ubuntu 9.4.0-1ubuntu1~20.04.2) 9.4.0

Debian 12 (arm)
	Kernel: Container Host Kernel
	Compiler: gcc 12.2.0

Ubuntu 20.04 ARM Clang Cross Compile
	Kernel: 5.4.0-72-generic
	Compiler: clang 10.0.0-4ubuntu1

CentOS Stream 9 (ARM)
	Kernel: Container Host Kernel
	Compiler: gcc 11.4.1

Ubuntu 20.04 (ARM)
	Kernel: Container Host Kernel
	Compiler: gcc 9.4.0

Debian 11 (Buster) (ARM)
	Kernel: Container Host Kernel
	Compiler: gcc 10.2.1

To view detailed results, visit:
https://lab.dpdk.org/results/dashboard/patchsets/29624/

UNH-IOL DPDK Community Lab

To manage your email subscriptions, visit: 
https://lab.dpdk.org/results/dashboard/preferences/subscriptions/