From mboxrd@z Thu Jan  1 00:00:00 1970
Return-Path: <test-report-bounces@dpdk.org>
Received: from mails.dpdk.org (mails.dpdk.org [217.70.189.124])
	by inbox.dpdk.org (Postfix) with ESMTP id 8B93543D19
	for <public@inbox.dpdk.org>; Thu, 21 Mar 2024 23:15:57 +0100 (CET)
Received: from mails.dpdk.org (localhost [127.0.0.1])
	by mails.dpdk.org (Postfix) with ESMTP id 8828B42E5B;
	Thu, 21 Mar 2024 23:15:57 +0100 (CET)
Received: from mail-vs1-f97.google.com (mail-vs1-f97.google.com
 [209.85.217.97]) by mails.dpdk.org (Postfix) with ESMTP id BCFE7402C2
 for <test-report@dpdk.org>; Thu, 21 Mar 2024 23:15:43 +0100 (CET)
Received: by mail-vs1-f97.google.com with SMTP id
 ada2fe7eead31-476d13e405fso73962137.0
 for <test-report@dpdk.org>; Thu, 21 Mar 2024 15:15:43 -0700 (PDT)
DKIM-Signature: v=1; a=rsa-sha256; c=relaxed/relaxed;
 d=iol.unh.edu; s=unh-iol; t=1711059343; x=1711664143; darn=dpdk.org;
 h=references:in-reply-to:cc:to:from:subject:message-id:date:from:to
 :cc:subject:date:message-id:reply-to;
 bh=J1RDN4wR6GCVdJASHHwswjjE+ZnWWzW0gLY+NFB4auo=;
 b=ZO/IgLUH8aI5891TT5RFAMgzTuRiITvYMSyoIDgnWdZQPyIlWXE6YFL8sn6webTw8u
 ph0LcYl0GnxKjTWn1RM9OR4rrJe4UVDukof1S+KJTs/Pg9Y76OsA0DRBPoY7koE/n0ZH
 hmrfMqRZnAIqaaOo6aYvgi/rj9xAKym9PPKmU=
X-Google-DKIM-Signature: v=1; a=rsa-sha256; c=relaxed/relaxed;
 d=1e100.net; s=20230601; t=1711059343; x=1711664143;
 h=references:in-reply-to:cc:to:from:subject:message-id:date
 :x-gm-message-state:from:to:cc:subject:date:message-id:reply-to;
 bh=J1RDN4wR6GCVdJASHHwswjjE+ZnWWzW0gLY+NFB4auo=;
 b=ITMYgEXJbpCtrUit3nAkXqtp3Ii37L/p1KqGBSTiejsyLxmnKHcAIeSRPNIqz4JGBw
 WK5ek8T/TQMsO1XY283fODi8AHK231TOxSG/Ds95nif2Lraa9tqFSEOEiN9I1wf/cVGD
 LvH4rFRNPX6fU7+uRjVi70QRWRwA0Ks/Rc6q6WuRxLPVEETaBdEWvRiY4rlFFrvMPWap
 yYZiqhwwXyRK/QeddtYgmq/3rSWmUlqk+AcBSEtRWQ+XEHHd2kKe5tMsmJ2c6Fn9JEzc
 KVRD8jz2kGR5PAR2sY+06lLW++nj9bzSe1f6ax/F3TTx3fHubCljKfqV09/gVLOSCOJB
 dfVg==
X-Gm-Message-State: AOJu0Yy88WL57Ffddux6GJm23WzeAGRdEAkabbmmzkQvxp9/07RNuU9y
 mlAvPFBszyRKu4BFPL0ogH6L92HFTHMOCiUQmX2w/aumz31jOrxaMXIPNR7b4Z0dZWNI9XKw+RG
 q0onYrVkiRc5+da1rOh4723oT3Z4td2FV48GS6jMFJ4vGk4MUkKZaWP7a
X-Google-Smtp-Source: AGHT+IEbBQzGrHR6ETUczJzuFL+WIP1KPxKH8F7YoZvai8ffZbGc4HWAng7Qwi0NSBH9AElqTPmw5Rj2aStb
X-Received: by 2002:a05:6102:5124:b0:476:c78c:748 with SMTP id
 bm36-20020a056102512400b00476c78c0748mr1040029vsb.23.1711059342509; 
 Thu, 21 Mar 2024 15:15:42 -0700 (PDT)
Received: from postal.iol.unh.edu (postal.iol.unh.edu.
 [2606:4100:3880:1234::84]) by smtp-relay.gmail.com with ESMTPS id
 u6-20020ab05b06000000b007e09427d5c9sm73513uae.17.2024.03.21.15.15.42
 (version=TLS1_2 cipher=ECDHE-ECDSA-AES128-GCM-SHA256 bits=128/128);
 Thu, 21 Mar 2024 15:15:42 -0700 (PDT)
X-Relaying-Domain: iol.unh.edu
Date: Thu, 21 Mar 2024 15:15:42 -0700 (PDT)
Message-ID: <65fcb18e.b00a0220.0d3b.2144SMTPIN_ADDED_MISSING@mx.google.com>
Received: from [172.21.0.6] (unknown [172.18.0.240])
 by postal.iol.unh.edu (Postfix) with ESMTP id 2BBCE6052471;
 Thu, 21 Mar 2024 18:15:42 -0400 (EDT)
Subject: |SUCCESS| pw138660-138661 [PATCH] [2/2] net/mlx5/hws: fix port ID fo
From: dpdklab@iol.unh.edu
To: Test Report <test-report@dpdk.org>
Cc: dpdk-test-reports@iol.unh.edu
In-Reply-To: <20240321142414.1573453-2-kliteyn@nvidia.com>
References: <20240321142414.1573453-2-kliteyn@nvidia.com>
Content-Type: text/plain
X-BeenThere: test-report@dpdk.org
X-Mailman-Version: 2.1.29
Precedence: list
List-Id: automatic DPDK test reports <test-report.dpdk.org>
List-Unsubscribe: <https://mails.dpdk.org/options/test-report>,
 <mailto:test-report-request@dpdk.org?subject=unsubscribe>
List-Archive: <http://mails.dpdk.org/archives/test-report/>
List-Post: <mailto:test-report@dpdk.org>
List-Help: <mailto:test-report-request@dpdk.org?subject=help>
List-Subscribe: <https://mails.dpdk.org/listinfo/test-report>,
 <mailto:test-report-request@dpdk.org?subject=subscribe>
Errors-To: test-report-bounces@dpdk.org

Test-Label: iol-compile-arm64-testing
Test-Status: SUCCESS
http://dpdk.org/patch/138661

_Testing PASS_

Submitter: Yevgeny Kliteynik <kliteyn@nvidia.com>
Date: Thursday, March 21 2024 14:24:14 
DPDK git baseline: Repo:dpdk
  Branch: master
  CommitID:80ecef6d1f71fcebc0a51d7cabc51f73ee142ff2

138660-138661 --> testing pass

Test environment and result as below:

+----------------------------------------+--------------------+
|              Environment               | dpdk_meson_compile |
+========================================+====================+
| Ubuntu 20.04 ARM SVE                   | PASS               |
+----------------------------------------+--------------------+
| Debian 12 with MUSDK                   | PASS               |
+----------------------------------------+--------------------+
| Fedora 38 (ARM)                        | PASS               |
+----------------------------------------+--------------------+
| Ubuntu 20.04 aarch32 GCC Cross Compile | PASS               |
+----------------------------------------+--------------------+
| Fedora 37 (ARM)                        | PASS               |
+----------------------------------------+--------------------+
| Ubuntu 20.04 ARM GCC Cross Compile     | PASS               |
+----------------------------------------+--------------------+
| Debian 12 (arm)                        | PASS               |
+----------------------------------------+--------------------+
| Ubuntu 20.04 ARM Clang Cross Compile   | PASS               |
+----------------------------------------+--------------------+
| CentOS Stream 9 (ARM)                  | PASS               |
+----------------------------------------+--------------------+
| Ubuntu 20.04 (ARM)                     | PASS               |
+----------------------------------------+--------------------+
| Debian 11 (Buster) (ARM)               | PASS               |
+----------------------------------------+--------------------+


Ubuntu 20.04 ARM SVE
	Kernel: 5.4.0-167-generic
	Compiler: gcc (Ubuntu 10.5.0-1ubuntu1~20.04) 10.5.0

Debian 12 with MUSDK
	Kernel: Container Host Kernel
	Compiler: gcc 12.2.0

Fedora 38 (ARM)
	Kernel: Depends on container host
	Compiler: gcc 13.2.1

Ubuntu 20.04 aarch32 GCC Cross Compile
	Kernel: 5.4.0-167-generic
	Compiler: gcc 9.4.0

Fedora 37 (ARM)
	Kernel: Depends on container host
	Compiler: gcc 12.3.1

Ubuntu 20.04 ARM GCC Cross Compile
	Kernel: 5.4.0-167-generic
	Compiler: aarch64-linux-gnu-gcc (Ubuntu 9.4.0-1ubuntu1~20.04.2) 9.4.0

Debian 12 (arm)
	Kernel: Container Host Kernel
	Compiler: gcc 12.2.0

Ubuntu 20.04 ARM Clang Cross Compile
	Kernel: 5.4.0-72-generic
	Compiler: clang 10.0.0-4ubuntu1

CentOS Stream 9 (ARM)
	Kernel: Container Host Kernel
	Compiler: gcc 11.4.1

Ubuntu 20.04 (ARM)
	Kernel: Container Host Kernel
	Compiler: gcc 9.4.0

Debian 11 (Buster) (ARM)
	Kernel: Container Host Kernel
	Compiler: gcc 10.2.1

To view detailed results, visit:
https://lab.dpdk.org/results/dashboard/patchsets/29624/

UNH-IOL DPDK Community Lab

To manage your email subscriptions, visit: 
https://lab.dpdk.org/results/dashboard/preferences/subscriptions/