From mboxrd@z Thu Jan  1 00:00:00 1970
Return-Path: <test-report-bounces@dpdk.org>
Received: from mails.dpdk.org (mails.dpdk.org [217.70.189.124])
	by inbox.dpdk.org (Postfix) with ESMTP id BF78643D19
	for <public@inbox.dpdk.org>; Thu, 21 Mar 2024 23:19:30 +0100 (CET)
Received: from mails.dpdk.org (localhost [127.0.0.1])
	by mails.dpdk.org (Postfix) with ESMTP id BB0FB42E80;
	Thu, 21 Mar 2024 23:19:30 +0100 (CET)
Received: from mail-qv1-f99.google.com (mail-qv1-f99.google.com
 [209.85.219.99]) by mails.dpdk.org (Postfix) with ESMTP id 2C9EE402C2
 for <test-report@dpdk.org>; Thu, 21 Mar 2024 23:19:25 +0100 (CET)
Received: by mail-qv1-f99.google.com with SMTP id
 6a1803df08f44-690cf6ecd3cso9487736d6.2
 for <test-report@dpdk.org>; Thu, 21 Mar 2024 15:19:25 -0700 (PDT)
DKIM-Signature: v=1; a=rsa-sha256; c=relaxed/relaxed;
 d=iol.unh.edu; s=unh-iol; t=1711059564; x=1711664364; darn=dpdk.org;
 h=references:in-reply-to:cc:to:from:subject:message-id:date:from:to
 :cc:subject:date:message-id:reply-to;
 bh=GCIyB2YTBltBTMQ+f+GPmzFWYt8DVuWor/JMwUUWRTA=;
 b=QXUrlFT86zVjQv7m0U/8tkNGfY61Mb/pMGVBvpkMXCvSA6wIFnQBOgNgh0TPxpstp3
 LpdUZQfydXaIn6XuYhPFN0r+eC1DZmIliBBJWSmgbA23SdCejChTRf2L/RSzHGcbRJuw
 O8IMEHqiqerRPjIQpc+qlcwsbJAHG/t2HoP6I=
X-Google-DKIM-Signature: v=1; a=rsa-sha256; c=relaxed/relaxed;
 d=1e100.net; s=20230601; t=1711059564; x=1711664364;
 h=references:in-reply-to:cc:to:from:subject:message-id:date
 :x-gm-message-state:from:to:cc:subject:date:message-id:reply-to;
 bh=GCIyB2YTBltBTMQ+f+GPmzFWYt8DVuWor/JMwUUWRTA=;
 b=itFdbxFkCAThhYku8GhFJSHPhehT8DPljeiDxBGqvucdwJiiKR9siNoRNeMmIybHPu
 DnbKZvKG6YXGeTSXCmwQpyggYu7hjqJrUJQZwhX5Wq+EoCqI4qVCRPFzuEcAuFhVihWO
 21RWC/HVbosulSD8o2WGj+wGj50S9zbLg8WKFCi3cYy4/OjE0xTAAXQsVjCOlXOJ2l5v
 otblIma52pYW3IFahEYWYxm7jbt7YWc0yTzNcJdDZKwL4kUN8zPA1n8EDpr3v1Y2cm1S
 PPJa9GXdG/CwpqPUtQ8R5Fm93q28hshUt5eLy03cfrQ9D05x2V3OwYTXozOnVYhPBvqk
 UGwA==
X-Gm-Message-State: AOJu0YwKFmg/br8AHWG6/Ivvcthg1hdeIBchjjO4bERNw2/Ny43J0VX5
 hXuqUBUqR2zrljkJ29r6t95y1lWuix7RgkzcddAd5bk6pKMn5aYjutVvBn3ORI/fzfqqR9lj07G
 QOorOpBIPy1Co07K1j3SYLqBXxU09tneqYtHi//4C
X-Google-Smtp-Source: AGHT+IEDKWhNfTfWxy+MVr27fYlfde7slTDEaabci8/cC3ija9/RDL9ceBbwl+jky0Cwn2i7vd34KBcDuDwU
X-Received: by 2002:a05:6214:c88:b0:690:8a01:eb2e with SMTP id
 r8-20020a0562140c8800b006908a01eb2emr535969qvr.54.1711059564655; 
 Thu, 21 Mar 2024 15:19:24 -0700 (PDT)
Received: from postal.iol.unh.edu (postal.iol.unh.edu. [132.177.123.84])
 by smtp-relay.gmail.com with ESMTPS id
 kl4-20020a056214518400b0068fa448a122sm80114qvb.63.2024.03.21.15.19.24
 (version=TLS1_2 cipher=ECDHE-ECDSA-AES128-GCM-SHA256 bits=128/128);
 Thu, 21 Mar 2024 15:19:24 -0700 (PDT)
X-Relaying-Domain: iol.unh.edu
Date: Thu, 21 Mar 2024 15:19:24 -0700 (PDT)
Message-ID: <65fcb26c.050a0220.45daa.26adSMTPIN_ADDED_MISSING@mx.google.com>
Received: from [172.21.0.6] (unknown [172.18.0.240])
 by postal.iol.unh.edu (Postfix) with ESMTP id 5AEBD6052471;
 Thu, 21 Mar 2024 18:19:24 -0400 (EDT)
Subject: |SUCCESS| pw138660-138661 [PATCH] [2/2] net/mlx5/hws: fix port ID fo
From: dpdklab@iol.unh.edu
To: Test Report <test-report@dpdk.org>
Cc: dpdk-test-reports@iol.unh.edu
In-Reply-To: <20240321142414.1573453-2-kliteyn@nvidia.com>
References: <20240321142414.1573453-2-kliteyn@nvidia.com>
Content-Type: text/plain
X-BeenThere: test-report@dpdk.org
X-Mailman-Version: 2.1.29
Precedence: list
List-Id: automatic DPDK test reports <test-report.dpdk.org>
List-Unsubscribe: <https://mails.dpdk.org/options/test-report>,
 <mailto:test-report-request@dpdk.org?subject=unsubscribe>
List-Archive: <http://mails.dpdk.org/archives/test-report/>
List-Post: <mailto:test-report@dpdk.org>
List-Help: <mailto:test-report-request@dpdk.org?subject=help>
List-Subscribe: <https://mails.dpdk.org/listinfo/test-report>,
 <mailto:test-report-request@dpdk.org?subject=subscribe>
Errors-To: test-report-bounces@dpdk.org

Test-Label: iol-unit-amd64-testing
Test-Status: SUCCESS
http://dpdk.org/patch/138661

_Testing PASS_

Submitter: Yevgeny Kliteynik <kliteyn@nvidia.com>
Date: Thursday, March 21 2024 14:24:14 
DPDK git baseline: Repo:dpdk
  Branch: master
  CommitID:80ecef6d1f71fcebc0a51d7cabc51f73ee142ff2

138660-138661 --> testing pass

Test environment and result as below:

+---------------------+----------------+
|     Environment     | dpdk_unit_test |
+=====================+================+
| CentOS Stream 9     | PASS           |
+---------------------+----------------+
| CentOS Stream 8     | PASS           |
+---------------------+----------------+
| Debian Bullseye     | PASS           |
+---------------------+----------------+
| Debian 11 (arm)     | PASS           |
+---------------------+----------------+
| Fedora 38           | PASS           |
+---------------------+----------------+
| Ubuntu 22.04        | PASS           |
+---------------------+----------------+
| Fedora 37           | PASS           |
+---------------------+----------------+
| RHEL8               | PASS           |
+---------------------+----------------+
| openSUSE Leap 15    | PASS           |
+---------------------+----------------+
| Ubuntu 20.04        | PASS           |
+---------------------+----------------+
| Windows Server 2019 | PASS           |
+---------------------+----------------+


CentOS Stream 9
	Kernel: 5.4.0-167-generic
	Compiler: gcc 11.4.1 20230605

CentOS Stream 8
	Kernel: 5.4.0-167-generic
	Compiler: gcc 8.5.0 20210514

Debian Bullseye
	Kernel: 5.4.0-167-generic
	Compiler: gcc 10.2.1-6

Debian 11 (arm)
	Kernel: Container Host Kernel
	Compiler: gcc 10.2.1

Fedora 38
	Kernel: Depends on container host
	Compiler: gcc 13.2.1

Ubuntu 22.04
	Kernel: 5.4.0-167-generic
	Compiler: gcc 11.4.0

Fedora 37
	Kernel: Depends on container host system
	Compiler: gcc 12.3.1

RHEL8
	Kernel: 5.4.0-167-generic
	Compiler: gcc 8.5.0 20210514 (Red Hat 8.5.0-20)

openSUSE Leap 15
	Kernel: 5.4.0-167-generic
	Compiler: gcc 7.5.0

Ubuntu 20.04
	Kernel: 5.4.0-167-generic
	Compiler: gcc 9.4.0-1ubuntu1~20.04.1

Windows Server 2019
	Kernel: 10.0.17763
	Compiler: clang 14.0 and gcc 8.1.0 (MinGW)

To view detailed results, visit:
https://lab.dpdk.org/results/dashboard/patchsets/29624/

UNH-IOL DPDK Community Lab

To manage your email subscriptions, visit: 
https://lab.dpdk.org/results/dashboard/preferences/subscriptions/