From mboxrd@z Thu Jan  1 00:00:00 1970
Return-Path: <test-report-bounces@dpdk.org>
Received: from mails.dpdk.org (mails.dpdk.org [217.70.189.124])
	by inbox.dpdk.org (Postfix) with ESMTP id D732F43D1E
	for <public@inbox.dpdk.org>; Fri, 22 Mar 2024 09:21:36 +0100 (CET)
Received: from mails.dpdk.org (localhost [127.0.0.1])
	by mails.dpdk.org (Postfix) with ESMTP id CE338402CB;
	Fri, 22 Mar 2024 09:21:36 +0100 (CET)
Received: from mail-qv1-f100.google.com (mail-qv1-f100.google.com
 [209.85.219.100])
 by mails.dpdk.org (Postfix) with ESMTP id 10C864003C
 for <test-report@dpdk.org>; Fri, 22 Mar 2024 09:21:35 +0100 (CET)
Received: by mail-qv1-f100.google.com with SMTP id
 6a1803df08f44-690bd329df2so10240866d6.2
 for <test-report@dpdk.org>; Fri, 22 Mar 2024 01:21:35 -0700 (PDT)
DKIM-Signature: v=1; a=rsa-sha256; c=relaxed/relaxed;
 d=iol.unh.edu; s=unh-iol; t=1711095694; x=1711700494; darn=dpdk.org;
 h=references:in-reply-to:cc:to:from:subject:message-id:date:from:to
 :cc:subject:date:message-id:reply-to;
 bh=NjvwzGXzvGNNhB3tSxyPx/AOCzfQkfLCau+t/10U2Js=;
 b=XgOmabG43SLUxadxzVZQ77XXYuCjWqhI/zL5wKGNt75p9M84alPHEcVePMRGGJc25O
 VfxuhEWxeK6coMlw1Uj5cLan4mUaGTkuLsLKXOir1hWGdzIj7HY28e+95V6wCIkcm8sl
 p1dIT+FgL4Sxg5YiIDhd/CTNPSRsmeQEJIbJs=
X-Google-DKIM-Signature: v=1; a=rsa-sha256; c=relaxed/relaxed;
 d=1e100.net; s=20230601; t=1711095694; x=1711700494;
 h=references:in-reply-to:cc:to:from:subject:message-id:date
 :x-gm-message-state:from:to:cc:subject:date:message-id:reply-to;
 bh=NjvwzGXzvGNNhB3tSxyPx/AOCzfQkfLCau+t/10U2Js=;
 b=DWf5zpv1pQYwwoGFtKG4GYUB5ZbLG5Cf4aWGWnVJE791iRbeDe5dYGaocJKCuVWlNM
 0r7Z4YngZsvZH9gXfOEH2B+Sq6Hcdxk/HlULbWlAN6bpa+nQ7vHnykxMWQecpBVlPOYb
 z5opI40PDFKGDJFpDqlhWqxjnh8XkaKfwQQ+CJCLP8503YwAoD33LomvQ/IuCtwLI1b0
 GQFAeWnbqOrGy7cfhASkXSv1v3ydaDwEDrkYdxN3fJJPPoP0+ploapFjuOIyStt4ilL8
 89/btImeHkpcXq+H2IYBqhBBkE6PM8Ec/5rzVScZ8gQY8V0QnahRDACBxjzoE5hnyLsf
 OkJQ==
X-Gm-Message-State: AOJu0Yyx6VGEzeByqASuGOT91fS6LHnBMRxU8qG2gm8gntnUUAGEW9g5
 7xmcXY+pIOQumuGtgEO9LQI5aMezcLS+DBmivEws55guiYYdDfbm5fJFvE+Vvt6bGCKtjbfoaLV
 hNCZo0vGPSR7G9pE9N3k67JnJwwQ1HuyvqMfQrcTx
X-Google-Smtp-Source: AGHT+IEfLZ1JdNyJnyEA14FBW1/zabnUJ8RxdLo/lqpQPVYM7PwTwa/QE50eEOONtVPIGyT2+whuIWB1+dle
X-Received: by 2002:a05:6214:5195:b0:696:1a23:8b6d with SMTP id
 kl21-20020a056214519500b006961a238b6dmr1651546qvb.9.1711095694571; 
 Fri, 22 Mar 2024 01:21:34 -0700 (PDT)
Received: from postal.iol.unh.edu (postal.iol.unh.edu. [132.177.123.84])
 by smtp-relay.gmail.com with ESMTPS id
 a3-20020ad45c43000000b00690a67a6d55sm149475qva.65.2024.03.22.01.21.34
 (version=TLS1_2 cipher=ECDHE-ECDSA-AES128-GCM-SHA256 bits=128/128);
 Fri, 22 Mar 2024 01:21:34 -0700 (PDT)
X-Relaying-Domain: iol.unh.edu
Date: Fri, 22 Mar 2024 01:21:34 -0700 (PDT)
Message-ID: <65fd3f8e.d40a0220.ed31b.71d1SMTPIN_ADDED_MISSING@mx.google.com>
Received: from [172.17.0.7] (unknown [172.18.0.217])
 by postal.iol.unh.edu (Postfix) with ESMTP id 47ABC6052471;
 Fri, 22 Mar 2024 04:21:34 -0400 (EDT)
Subject: |SUCCESS| pw138688-138731 [PATCH] [v2,45/45] app/test-bbdev: use rte
From: dpdklab@iol.unh.edu
To: Test Report <test-report@dpdk.org>
Cc: dpdk-test-reports@iol.unh.edu
In-Reply-To: <1711048652-7512-46-git-send-email-roretzla@linux.microsoft.com>
References: <1711048652-7512-46-git-send-email-roretzla@linux.microsoft.com>
Content-Type: text/plain
X-BeenThere: test-report@dpdk.org
X-Mailman-Version: 2.1.29
Precedence: list
List-Id: automatic DPDK test reports <test-report.dpdk.org>
List-Unsubscribe: <https://mails.dpdk.org/options/test-report>,
 <mailto:test-report-request@dpdk.org?subject=unsubscribe>
List-Archive: <http://mails.dpdk.org/archives/test-report/>
List-Post: <mailto:test-report@dpdk.org>
List-Help: <mailto:test-report-request@dpdk.org?subject=help>
List-Subscribe: <https://mails.dpdk.org/listinfo/test-report>,
 <mailto:test-report-request@dpdk.org?subject=subscribe>
Errors-To: test-report-bounces@dpdk.org

Test-Label: iol-abi-testing
Test-Status: SUCCESS
http://dpdk.org/patch/138731

_Testing PASS_

Submitter: Tyler Retzlaff <roretzla@linux.microsoft.com>
Date: Thursday, March 21 2024 19:17:32 
DPDK git baseline: Repo:dpdk
  Branch: master
  CommitID:0219d467bcb1d19b386b5bae8eecd3514ba13fdb

138688-138731 --> testing pass

Test environment and result as below:

+------------------+----------+
|   Environment    | abi_test |
+==================+==========+
| Ubuntu 22.04     | PASS     |
+------------------+----------+
| openSUSE Leap 15 | PASS     |
+------------------+----------+
| Debian Bullseye  | PASS     |
+------------------+----------+
| CentOS Stream 8  | PASS     |
+------------------+----------+
| Fedora 38        | PASS     |
+------------------+----------+
| CentOS Stream 9  | PASS     |
+------------------+----------+
| Fedora 37        | PASS     |
+------------------+----------+
| RHEL8            | PASS     |
+------------------+----------+
| Debian 11 (arm)  | PASS     |
+------------------+----------+


Ubuntu 22.04
	Kernel: 5.4.0-167-generic
	Compiler: gcc 11.4.0

openSUSE Leap 15
	Kernel: 5.4.0-167-generic
	Compiler: gcc 7.5.0

Debian Bullseye
	Kernel: 5.4.0-167-generic
	Compiler: gcc 10.2.1-6

CentOS Stream 8
	Kernel: 5.4.0-167-generic
	Compiler: gcc 8.5.0 20210514

Fedora 38
	Kernel: Depends on container host
	Compiler: clang 16.0.6

CentOS Stream 9
	Kernel: 5.4.0-167-generic
	Compiler: gcc 11.4.1 20230605

Fedora 37
	Kernel: Depends on container host system
	Compiler: gcc 12.3.1

RHEL8
	Kernel: 5.4.0-167-generic
	Compiler: gcc 8.5.0 20210514 (Red Hat 8.5.0-20)

Debian 11 (arm)
	Kernel: Container Host Kernel
	Compiler: gcc 10.2.1

To view detailed results, visit:
https://lab.dpdk.org/results/dashboard/patchsets/29628/

UNH-IOL DPDK Community Lab

To manage your email subscriptions, visit: 
https://lab.dpdk.org/results/dashboard/preferences/subscriptions/