From mboxrd@z Thu Jan  1 00:00:00 1970
Return-Path: <test-report-bounces@dpdk.org>
Received: from mails.dpdk.org (mails.dpdk.org [217.70.189.124])
	by inbox.dpdk.org (Postfix) with ESMTP id BBB5743D1E
	for <public@inbox.dpdk.org>; Fri, 22 Mar 2024 09:26:47 +0100 (CET)
Received: from mails.dpdk.org (localhost [127.0.0.1])
	by mails.dpdk.org (Postfix) with ESMTP id B3F04402CB;
	Fri, 22 Mar 2024 09:26:47 +0100 (CET)
Received: from mail-io1-f97.google.com (mail-io1-f97.google.com
 [209.85.166.97]) by mails.dpdk.org (Postfix) with ESMTP id 82D864003C
 for <test-report@dpdk.org>; Fri, 22 Mar 2024 09:26:46 +0100 (CET)
Received: by mail-io1-f97.google.com with SMTP id
 ca18e2360f4ac-7d0262036afso55862539f.3
 for <test-report@dpdk.org>; Fri, 22 Mar 2024 01:26:46 -0700 (PDT)
DKIM-Signature: v=1; a=rsa-sha256; c=relaxed/relaxed;
 d=iol.unh.edu; s=unh-iol; t=1711096006; x=1711700806; darn=dpdk.org;
 h=references:in-reply-to:cc:to:from:subject:message-id:date:from:to
 :cc:subject:date:message-id:reply-to;
 bh=HQYkEv6Pu/P3e8zZ02NIF7w7yu2uQH9Lz87uQXtNp2Y=;
 b=jq+z1+yfPe8soSxTbihgUtc7VIBDXUKlR53xCfB82jX+Y1I5qDYm4kP8NS0q8UQbo0
 TXOd/a8UcagfoU2M0vSEH+bHmmoocMnyDmwYsSWFOaAzamHJGeVvajdoduGggQrD53J1
 As0+A7I9lUWfEshxQXYawuC3jth+CQupWdapQ=
X-Google-DKIM-Signature: v=1; a=rsa-sha256; c=relaxed/relaxed;
 d=1e100.net; s=20230601; t=1711096006; x=1711700806;
 h=references:in-reply-to:cc:to:from:subject:message-id:date
 :x-gm-message-state:from:to:cc:subject:date:message-id:reply-to;
 bh=HQYkEv6Pu/P3e8zZ02NIF7w7yu2uQH9Lz87uQXtNp2Y=;
 b=VjzNV6ZZggYGZx9OpFI0Qs4qgSSFXyooQUwxqBnOh5fz3TyGZnhnHYHV3IIE5TJjwu
 a21UKcAuHKjIjTFX0ctFCLBSwomSDJdSFIXx2mq73qP4HPDfGESK6EymNR2NUMjaEfP9
 7qKXHQUIu3UNO5pmPuNbWel/NF+LRNuZwYdLcE7npyzX64HHD6+ufS61uHa6pQezzxHo
 tHFHvoV3QL75EDKLHMhCFKEeILH/wixJ0Z4PMxcThrAmwHVVtyiiaXe6QP4ztmXWN7OF
 NcwuDE4djX1Jcw3gWHviMcF73pfIpE3/hAqmdgDnBR8xt0jRcBI/hEJnCyfEKdFTq6ex
 mwYw==
X-Gm-Message-State: AOJu0YzJCgvLzjqeF7WuhoCAxeSHP41I3fmkPlzud9nXFGY9dYTWbIjb
 sIgPBRlgGXCXg99QSaYrqttFk2SNx2dGyh4E2IXGgQZFvbG9E+WeNI4UgVW4YS+j5cJLjZBcR65
 zdw/QQg/r1207L8sOfap/PxYy9Euuy3cvqdx8JC16iuOOBr+nLD+5uOs2
X-Google-Smtp-Source: AGHT+IEFjLuWifw+DdEuUBQjfDIp+6PFIFalpKohBGkqg24Svh9R+cpBEYavd/nmK0IX4yLPIhSXxXaUxXx8
X-Received: by 2002:a5e:8b04:0:b0:7d0:2e8b:f4df with SMTP id
 g4-20020a5e8b04000000b007d02e8bf4dfmr1258667iok.1.1711096005911; 
 Fri, 22 Mar 2024 01:26:45 -0700 (PDT)
Received: from postal.iol.unh.edu (postal.iol.unh.edu.
 [2606:4100:3880:1234::84]) by smtp-relay.gmail.com with ESMTPS id
 g8-20020a6b7608000000b007cc6b02aeccsm88698iom.8.2024.03.22.01.26.45
 (version=TLS1_2 cipher=ECDHE-ECDSA-AES128-GCM-SHA256 bits=128/128);
 Fri, 22 Mar 2024 01:26:45 -0700 (PDT)
X-Relaying-Domain: iol.unh.edu
Date: Fri, 22 Mar 2024 01:26:45 -0700 (PDT)
Message-ID: <65fd40c5.6b0a0220.8f2b8.3cc0SMTPIN_ADDED_MISSING@mx.google.com>
Received: from [172.17.0.8] (unknown [172.18.0.217])
 by postal.iol.unh.edu (Postfix) with ESMTP id 2890F6052471;
 Fri, 22 Mar 2024 04:26:45 -0400 (EDT)
Subject: |SUCCESS| pw138688-138731 [PATCH] [v2,45/45] app/test-bbdev: use rte
From: dpdklab@iol.unh.edu
To: Test Report <test-report@dpdk.org>
Cc: dpdk-test-reports@iol.unh.edu
In-Reply-To: <1711048652-7512-46-git-send-email-roretzla@linux.microsoft.com>
References: <1711048652-7512-46-git-send-email-roretzla@linux.microsoft.com>
Content-Type: text/plain
X-BeenThere: test-report@dpdk.org
X-Mailman-Version: 2.1.29
Precedence: list
List-Id: automatic DPDK test reports <test-report.dpdk.org>
List-Unsubscribe: <https://mails.dpdk.org/options/test-report>,
 <mailto:test-report-request@dpdk.org?subject=unsubscribe>
List-Archive: <http://mails.dpdk.org/archives/test-report/>
List-Post: <mailto:test-report@dpdk.org>
List-Help: <mailto:test-report-request@dpdk.org?subject=help>
List-Subscribe: <https://mails.dpdk.org/listinfo/test-report>,
 <mailto:test-report-request@dpdk.org?subject=subscribe>
Errors-To: test-report-bounces@dpdk.org

Test-Label: iol-compile-amd64-testing
Test-Status: SUCCESS
http://dpdk.org/patch/138731

_Testing PASS_

Submitter: Tyler Retzlaff <roretzla@linux.microsoft.com>
Date: Thursday, March 21 2024 19:17:32 
DPDK git baseline: Repo:dpdk
  Branch: master
  CommitID:0219d467bcb1d19b386b5bae8eecd3514ba13fdb

138688-138731 --> testing pass

Test environment and result as below:

+---------------------+-------------------+--------------------+----------------------+
|     Environment     | dpdk_msvc_compile | dpdk_meson_compile | dpdk_mingw64_compile |
+=====================+===================+====================+======================+
| Windows Server 2022 | PASS              | PASS               | PASS                 |
+---------------------+-------------------+--------------------+----------------------+
| FreeBSD 13.2        | SKIPPED           | PASS               | SKIPPED              |
+---------------------+-------------------+--------------------+----------------------+
| CentOS Stream 9     | SKIPPED           | PASS               | SKIPPED              |
+---------------------+-------------------+--------------------+----------------------+
| CentOS Stream 8     | SKIPPED           | PASS               | SKIPPED              |
+---------------------+-------------------+--------------------+----------------------+
| Fedora 37           | SKIPPED           | PASS               | SKIPPED              |
+---------------------+-------------------+--------------------+----------------------+
| Ubuntu 20.04        | SKIPPED           | PASS               | SKIPPED              |
+---------------------+-------------------+--------------------+----------------------+
| Windows Server 2019 | SKIPPED           | PASS               | PASS                 |
+---------------------+-------------------+--------------------+----------------------+
| Debian 11 (arm)     | SKIPPED           | PASS               | SKIPPED              |
+---------------------+-------------------+--------------------+----------------------+
| Fedora 38           | SKIPPED           | PASS               | SKIPPED              |
+---------------------+-------------------+--------------------+----------------------+
| Debian Bullseye     | SKIPPED           | PASS               | SKIPPED              |
+---------------------+-------------------+--------------------+----------------------+
| RHEL8               | SKIPPED           | PASS               | SKIPPED              |
+---------------------+-------------------+--------------------+----------------------+
| Alpine              | SKIPPED           | PASS               | SKIPPED              |
+---------------------+-------------------+--------------------+----------------------+
| openSUSE Leap 15    | SKIPPED           | PASS               | SKIPPED              |
+---------------------+-------------------+--------------------+----------------------+
| Ubuntu 22.04        | SKIPPED           | PASS               | SKIPPED              |
+---------------------+-------------------+--------------------+----------------------+


Windows Server 2022
	Kernel: 10.0.20348.2031
	Compiler: clang 15.0.7, gcc 8.1.0 (MinGW), and MSVC VS 17.9

FreeBSD 13.2
	Kernel: 13.2
	Compiler: clang 14.0.5

CentOS Stream 9
	Kernel: 5.4.0-167-generic
	Compiler: gcc 11.4.1 20230605

CentOS Stream 8
	Kernel: 5.4.0-167-generic
	Compiler: gcc 8.5.0 20210514

Fedora 37
	Kernel: Depends on container host system
	Compiler: gcc 12.3.1

Ubuntu 20.04
	Kernel: 5.4.0-167-generic
	Compiler: gcc 9.4.0-1ubuntu1~20.04.1

Windows Server 2019
	Kernel: 10.0.17763
	Compiler: clang 14.0 and gcc 8.1.0 (MinGW)

Debian 11 (arm)
	Kernel: Container Host Kernel
	Compiler: gcc 10.2.1

Fedora 38
	Kernel: Depends on container host
	Compiler: gcc 13.2.1

Debian Bullseye
	Kernel: 5.4.0-167-generic
	Compiler: gcc 10.2.1-6

RHEL8
	Kernel: 5.4.0-167-generic
	Compiler: gcc 8.5.0 20210514 (Red Hat 8.5.0-20)

Alpine
	Kernel: 5.4.0-167-generic
	Compiler: gcc (Alpine 12.2.1_git20220924-r10) 12.2.1 20220924

openSUSE Leap 15
	Kernel: 5.4.0-167-generic
	Compiler: gcc 7.5.0

Ubuntu 22.04
	Kernel: 5.4.0-167-generic
	Compiler: gcc 11.4.0

To view detailed results, visit:
https://lab.dpdk.org/results/dashboard/patchsets/29628/

UNH-IOL DPDK Community Lab

To manage your email subscriptions, visit: 
https://lab.dpdk.org/results/dashboard/preferences/subscriptions/