From mboxrd@z Thu Jan  1 00:00:00 1970
Return-Path: <test-report-bounces@dpdk.org>
Received: from mails.dpdk.org (mails.dpdk.org [217.70.189.124])
	by inbox.dpdk.org (Postfix) with ESMTP id 5F34743D1E
	for <public@inbox.dpdk.org>; Fri, 22 Mar 2024 09:29:49 +0100 (CET)
Received: from mails.dpdk.org (localhost [127.0.0.1])
	by mails.dpdk.org (Postfix) with ESMTP id 5B50F402CB;
	Fri, 22 Mar 2024 09:29:49 +0100 (CET)
Received: from mail-vk1-f227.google.com (mail-vk1-f227.google.com
 [209.85.221.227])
 by mails.dpdk.org (Postfix) with ESMTP id 8CB7E4003C
 for <test-report@dpdk.org>; Fri, 22 Mar 2024 09:29:48 +0100 (CET)
Received: by mail-vk1-f227.google.com with SMTP id
 71dfb90a1353d-4d42ac6a0bcso715934e0c.2
 for <test-report@dpdk.org>; Fri, 22 Mar 2024 01:29:48 -0700 (PDT)
DKIM-Signature: v=1; a=rsa-sha256; c=relaxed/relaxed;
 d=iol.unh.edu; s=unh-iol; t=1711096188; x=1711700988; darn=dpdk.org;
 h=references:in-reply-to:cc:to:from:subject:message-id:date:from:to
 :cc:subject:date:message-id:reply-to;
 bh=HQYkEv6Pu/P3e8zZ02NIF7w7yu2uQH9Lz87uQXtNp2Y=;
 b=RU2xlqGdjLiHOWqvLDGSmBf1I6lH6GFvvfOul0CCmf2q1BvfdJUYxFsE7xBV9fs3pL
 DdFILyhyIlr0+W6NkAPjwQCowPgge1Cf2oP9axn6K4nmPaDNNpyzlL3lJCTmy4/lxaEc
 zoYMtC9fHeM2diLNsThZbV+2H4h5ireEG7BMI=
X-Google-DKIM-Signature: v=1; a=rsa-sha256; c=relaxed/relaxed;
 d=1e100.net; s=20230601; t=1711096188; x=1711700988;
 h=references:in-reply-to:cc:to:from:subject:message-id:date
 :x-gm-message-state:from:to:cc:subject:date:message-id:reply-to;
 bh=HQYkEv6Pu/P3e8zZ02NIF7w7yu2uQH9Lz87uQXtNp2Y=;
 b=rHfyGAe9U4zHaQGE8QLtFgs0+JokY0OX8OR2X7KO53i6e/54m4873D8h2uBqUngaFM
 DIAUHfLAB0Lh/dhdlQHC7YaCnVj0awcJBdQBSeJO1mnLrOkyEz7KhZvLVhW7atCEPWrE
 hZDlOq+iRekUeAYpJ7dWPNC4iNXsOr65Q+PiCJNBhrTsVULUB7q17ek7vXdI52Pya5tL
 UklPCU3ivT0ViZS2LYZ3T4ArSBeLtVcvj1owysfxVHRK0JobE1hvB8CelaMY12Ti+mFW
 NAE8RK/7ECEWtIParvVSbO9Z6IKIDHmObSc8q9D/eDyiZddGit9uD+q+SkYrFC5SiO3b
 UqjA==
X-Gm-Message-State: AOJu0Yw9RSriIGKgZuX2lzy/8+pQD8AOWHcCAHGUL/8XFHlFBHK+tvzx
 U7nD7fUbL5fMh6oGda7i2bmP4ETTt66i3WHTyHaEzahazNRNI9wP20s2hjMo2bMGrlTnk67Mogm
 Vuwz9z15ou6HBkYU6HEG8cBO5A70j/ZSwkAIiXHD0
X-Google-Smtp-Source: AGHT+IFyu+XW+dVRRzAlw2WqKGQTa38Y94l4skEizgxvsrr/pEdrOm3X/5t06/7SPtT3QO+Po4eQ6wIpn2uW
X-Received: by 2002:a05:6122:720:b0:4d4:1cb7:f57a with SMTP id
 32-20020a056122072000b004d41cb7f57amr1646275vki.9.1711096187955; 
 Fri, 22 Mar 2024 01:29:47 -0700 (PDT)
Received: from postal.iol.unh.edu (postal.iol.unh.edu. [132.177.123.84])
 by smtp-relay.gmail.com with ESMTPS id
 6-20020ad45ba6000000b0069151d47708sm143302qvq.23.2024.03.22.01.29.47
 (version=TLS1_2 cipher=ECDHE-ECDSA-AES128-GCM-SHA256 bits=128/128);
 Fri, 22 Mar 2024 01:29:47 -0700 (PDT)
X-Relaying-Domain: iol.unh.edu
Date: Fri, 22 Mar 2024 01:29:47 -0700 (PDT)
Message-ID: <65fd417b.d40a0220.2ba51.70a4SMTPIN_ADDED_MISSING@mx.google.com>
Received: from [172.17.0.6] (unknown [172.18.0.217])
 by postal.iol.unh.edu (Postfix) with ESMTP id 6F5A56052471;
 Fri, 22 Mar 2024 04:29:47 -0400 (EDT)
Subject: |SUCCESS| pw138688-138731 [PATCH] [v2,45/45] app/test-bbdev: use rte
From: dpdklab@iol.unh.edu
To: Test Report <test-report@dpdk.org>
Cc: dpdk-test-reports@iol.unh.edu
In-Reply-To: <1711048652-7512-46-git-send-email-roretzla@linux.microsoft.com>
References: <1711048652-7512-46-git-send-email-roretzla@linux.microsoft.com>
Content-Type: text/plain
X-BeenThere: test-report@dpdk.org
X-Mailman-Version: 2.1.29
Precedence: list
List-Id: automatic DPDK test reports <test-report.dpdk.org>
List-Unsubscribe: <https://mails.dpdk.org/options/test-report>,
 <mailto:test-report-request@dpdk.org?subject=unsubscribe>
List-Archive: <http://mails.dpdk.org/archives/test-report/>
List-Post: <mailto:test-report@dpdk.org>
List-Help: <mailto:test-report-request@dpdk.org?subject=help>
List-Subscribe: <https://mails.dpdk.org/listinfo/test-report>,
 <mailto:test-report-request@dpdk.org?subject=subscribe>
Errors-To: test-report-bounces@dpdk.org

Test-Label: iol-compile-amd64-testing
Test-Status: SUCCESS
http://dpdk.org/patch/138731

_Testing PASS_

Submitter: Tyler Retzlaff <roretzla@linux.microsoft.com>
Date: Thursday, March 21 2024 19:17:32 
DPDK git baseline: Repo:dpdk
  Branch: master
  CommitID:0219d467bcb1d19b386b5bae8eecd3514ba13fdb

138688-138731 --> testing pass

Test environment and result as below:

+---------------------+-------------------+--------------------+----------------------+
|     Environment     | dpdk_msvc_compile | dpdk_meson_compile | dpdk_mingw64_compile |
+=====================+===================+====================+======================+
| Windows Server 2022 | PASS              | PASS               | PASS                 |
+---------------------+-------------------+--------------------+----------------------+
| FreeBSD 13.2        | SKIPPED           | PASS               | SKIPPED              |
+---------------------+-------------------+--------------------+----------------------+
| CentOS Stream 9     | SKIPPED           | PASS               | SKIPPED              |
+---------------------+-------------------+--------------------+----------------------+
| CentOS Stream 8     | SKIPPED           | PASS               | SKIPPED              |
+---------------------+-------------------+--------------------+----------------------+
| Fedora 37           | SKIPPED           | PASS               | SKIPPED              |
+---------------------+-------------------+--------------------+----------------------+
| Ubuntu 20.04        | SKIPPED           | PASS               | SKIPPED              |
+---------------------+-------------------+--------------------+----------------------+
| Windows Server 2019 | SKIPPED           | PASS               | PASS                 |
+---------------------+-------------------+--------------------+----------------------+
| Debian 11 (arm)     | SKIPPED           | PASS               | SKIPPED              |
+---------------------+-------------------+--------------------+----------------------+
| Fedora 38           | SKIPPED           | PASS               | SKIPPED              |
+---------------------+-------------------+--------------------+----------------------+
| Debian Bullseye     | SKIPPED           | PASS               | SKIPPED              |
+---------------------+-------------------+--------------------+----------------------+
| RHEL8               | SKIPPED           | PASS               | SKIPPED              |
+---------------------+-------------------+--------------------+----------------------+
| Alpine              | SKIPPED           | PASS               | SKIPPED              |
+---------------------+-------------------+--------------------+----------------------+
| openSUSE Leap 15    | SKIPPED           | PASS               | SKIPPED              |
+---------------------+-------------------+--------------------+----------------------+
| Ubuntu 22.04        | SKIPPED           | PASS               | SKIPPED              |
+---------------------+-------------------+--------------------+----------------------+


Windows Server 2022
	Kernel: 10.0.20348.2031
	Compiler: clang 15.0.7, gcc 8.1.0 (MinGW), and MSVC VS 17.9

FreeBSD 13.2
	Kernel: 13.2
	Compiler: clang 14.0.5

CentOS Stream 9
	Kernel: 5.4.0-167-generic
	Compiler: gcc 11.4.1 20230605

CentOS Stream 8
	Kernel: 5.4.0-167-generic
	Compiler: gcc 8.5.0 20210514

Fedora 37
	Kernel: Depends on container host system
	Compiler: gcc 12.3.1

Ubuntu 20.04
	Kernel: 5.4.0-167-generic
	Compiler: gcc 9.4.0-1ubuntu1~20.04.1

Windows Server 2019
	Kernel: 10.0.17763
	Compiler: clang 14.0 and gcc 8.1.0 (MinGW)

Debian 11 (arm)
	Kernel: Container Host Kernel
	Compiler: gcc 10.2.1

Fedora 38
	Kernel: Depends on container host
	Compiler: gcc 13.2.1

Debian Bullseye
	Kernel: 5.4.0-167-generic
	Compiler: gcc 10.2.1-6

RHEL8
	Kernel: 5.4.0-167-generic
	Compiler: gcc 8.5.0 20210514 (Red Hat 8.5.0-20)

Alpine
	Kernel: 5.4.0-167-generic
	Compiler: gcc (Alpine 12.2.1_git20220924-r10) 12.2.1 20220924

openSUSE Leap 15
	Kernel: 5.4.0-167-generic
	Compiler: gcc 7.5.0

Ubuntu 22.04
	Kernel: 5.4.0-167-generic
	Compiler: gcc 11.4.0

To view detailed results, visit:
https://lab.dpdk.org/results/dashboard/patchsets/29628/

UNH-IOL DPDK Community Lab

To manage your email subscriptions, visit: 
https://lab.dpdk.org/results/dashboard/preferences/subscriptions/