From mboxrd@z Thu Jan  1 00:00:00 1970
Return-Path: <test-report-bounces@dpdk.org>
Received: from mails.dpdk.org (mails.dpdk.org [217.70.189.124])
	by inbox.dpdk.org (Postfix) with ESMTP id E1EE143D1E
	for <public@inbox.dpdk.org>; Fri, 22 Mar 2024 09:31:13 +0100 (CET)
Received: from mails.dpdk.org (localhost [127.0.0.1])
	by mails.dpdk.org (Postfix) with ESMTP id D65D1402CB;
	Fri, 22 Mar 2024 09:31:13 +0100 (CET)
Received: from mail-vs1-f100.google.com (mail-vs1-f100.google.com
 [209.85.217.100])
 by mails.dpdk.org (Postfix) with ESMTP id 1D0F64003C
 for <test-report@dpdk.org>; Fri, 22 Mar 2024 09:31:12 +0100 (CET)
Received: by mail-vs1-f100.google.com with SMTP id
 ada2fe7eead31-475ffc62cbaso645036137.1
 for <test-report@dpdk.org>; Fri, 22 Mar 2024 01:31:12 -0700 (PDT)
DKIM-Signature: v=1; a=rsa-sha256; c=relaxed/relaxed;
 d=iol.unh.edu; s=unh-iol; t=1711096271; x=1711701071; darn=dpdk.org;
 h=references:in-reply-to:cc:to:from:subject:message-id:date:from:to
 :cc:subject:date:message-id:reply-to;
 bh=HQYkEv6Pu/P3e8zZ02NIF7w7yu2uQH9Lz87uQXtNp2Y=;
 b=TM2uiVuINQjyfwxCMqH+/5GiuxF4rRoUwJS0aIeLnokW5Iq+xL7ErSN78loNaT0KfP
 zYro81/eDsuyH7NPlAOz8Ac+Ct19PgWkQ4jxFXi2DEOs5QIdJcLFBAg/eIKkW+xIajQI
 ae1ZjVP8GWsUUm4gSFTQUqzIg2olZ+c9sLJ5Y=
X-Google-DKIM-Signature: v=1; a=rsa-sha256; c=relaxed/relaxed;
 d=1e100.net; s=20230601; t=1711096271; x=1711701071;
 h=references:in-reply-to:cc:to:from:subject:message-id:date
 :x-gm-message-state:from:to:cc:subject:date:message-id:reply-to;
 bh=HQYkEv6Pu/P3e8zZ02NIF7w7yu2uQH9Lz87uQXtNp2Y=;
 b=DhnQhIecfVIPmtvSKpFM8yw4pbtde8LjhZIP4KXTSKNZGV53woG+B9Z1t4cvcqQF2V
 9HLIte+Al8ZDCCiizrMXkCAneOifIuIvRyh7NzTyTLIlklbddc16nyRWL47b9h3oYBAa
 1vs1MlxorcK9SPu6nNLbDpGy4G3Df+OnXVQlOGO7zoUQmygG0kqu2ipkHVPuScj6zqOs
 m3ajWlkTCqaO6itY5Ou2GHKSCdH/Oo5Yf3AGi5u+0Y8/B5bASwzHLuKCYLumC8J1bAsl
 j+faJxD+pSNoihFtBJbiaaowRLwQqk09KNnFCRMgTU15SFM4LB6LMSNelJ+ghR6qBGL8
 L5zw==
X-Gm-Message-State: AOJu0YxyBAlX6BDQW9j/Ba05mxF3tQU2a4xOF35DNER3bLpysRupVn4M
 J3NIyiWutWdh8ysY904BP9nuBQvUWHtpgC5kaFe1oxvDQ5Zf2Yu71fth2E/BTSTV7CI+14PiYGn
 N2pq4/MU5SikJGuA9DOw8uIZMeDVI6h42PMIBEAnLvuuf4m4JS1VEFvNF
X-Google-Smtp-Source: AGHT+IGeIXpYJJVO1zEHFwPUdXmvOA85BDhiNYm+OfiexuZp3nFzqvBnN5sXD0gZpg20qd7oicYTZZFeHenM
X-Received: by 2002:a67:f2c1:0:b0:476:b180:5cf0 with SMTP id
 a1-20020a67f2c1000000b00476b1805cf0mr1790559vsn.34.1711096271575; 
 Fri, 22 Mar 2024 01:31:11 -0700 (PDT)
Received: from postal.iol.unh.edu (postal.iol.unh.edu.
 [2606:4100:3880:1234::84]) by smtp-relay.gmail.com with ESMTPS id
 m30-20020a9f311e000000b007e03bea0f06sm118819uab.5.2024.03.22.01.31.11
 (version=TLS1_2 cipher=ECDHE-ECDSA-AES128-GCM-SHA256 bits=128/128);
 Fri, 22 Mar 2024 01:31:11 -0700 (PDT)
X-Relaying-Domain: iol.unh.edu
Date: Fri, 22 Mar 2024 01:31:11 -0700 (PDT)
Message-ID: <65fd41cf.9f0a0220.c7e41.4a18SMTPIN_ADDED_MISSING@mx.google.com>
Received: from [172.17.0.6] (unknown [172.18.0.217])
 by postal.iol.unh.edu (Postfix) with ESMTP id 023A66052471;
 Fri, 22 Mar 2024 04:31:11 -0400 (EDT)
Subject: |SUCCESS| pw138688-138731 [PATCH] [v2,45/45] app/test-bbdev: use rte
From: dpdklab@iol.unh.edu
To: Test Report <test-report@dpdk.org>
Cc: dpdk-test-reports@iol.unh.edu
In-Reply-To: <1711048652-7512-46-git-send-email-roretzla@linux.microsoft.com>
References: <1711048652-7512-46-git-send-email-roretzla@linux.microsoft.com>
Content-Type: text/plain
X-BeenThere: test-report@dpdk.org
X-Mailman-Version: 2.1.29
Precedence: list
List-Id: automatic DPDK test reports <test-report.dpdk.org>
List-Unsubscribe: <https://mails.dpdk.org/options/test-report>,
 <mailto:test-report-request@dpdk.org?subject=unsubscribe>
List-Archive: <http://mails.dpdk.org/archives/test-report/>
List-Post: <mailto:test-report@dpdk.org>
List-Help: <mailto:test-report-request@dpdk.org?subject=help>
List-Subscribe: <https://mails.dpdk.org/listinfo/test-report>,
 <mailto:test-report-request@dpdk.org?subject=subscribe>
Errors-To: test-report-bounces@dpdk.org

Test-Label: iol-compile-amd64-testing
Test-Status: SUCCESS
http://dpdk.org/patch/138731

_Testing PASS_

Submitter: Tyler Retzlaff <roretzla@linux.microsoft.com>
Date: Thursday, March 21 2024 19:17:32 
DPDK git baseline: Repo:dpdk
  Branch: master
  CommitID:0219d467bcb1d19b386b5bae8eecd3514ba13fdb

138688-138731 --> testing pass

Test environment and result as below:

+---------------------+-------------------+--------------------+----------------------+
|     Environment     | dpdk_msvc_compile | dpdk_meson_compile | dpdk_mingw64_compile |
+=====================+===================+====================+======================+
| Windows Server 2022 | PASS              | PASS               | PASS                 |
+---------------------+-------------------+--------------------+----------------------+
| FreeBSD 13.2        | SKIPPED           | PASS               | SKIPPED              |
+---------------------+-------------------+--------------------+----------------------+
| CentOS Stream 9     | SKIPPED           | PASS               | SKIPPED              |
+---------------------+-------------------+--------------------+----------------------+
| CentOS Stream 8     | SKIPPED           | PASS               | SKIPPED              |
+---------------------+-------------------+--------------------+----------------------+
| Fedora 37           | SKIPPED           | PASS               | SKIPPED              |
+---------------------+-------------------+--------------------+----------------------+
| Ubuntu 20.04        | SKIPPED           | PASS               | SKIPPED              |
+---------------------+-------------------+--------------------+----------------------+
| Windows Server 2019 | SKIPPED           | PASS               | PASS                 |
+---------------------+-------------------+--------------------+----------------------+
| Debian 11 (arm)     | SKIPPED           | PASS               | SKIPPED              |
+---------------------+-------------------+--------------------+----------------------+
| Fedora 38           | SKIPPED           | PASS               | SKIPPED              |
+---------------------+-------------------+--------------------+----------------------+
| Debian Bullseye     | SKIPPED           | PASS               | SKIPPED              |
+---------------------+-------------------+--------------------+----------------------+
| RHEL8               | SKIPPED           | PASS               | SKIPPED              |
+---------------------+-------------------+--------------------+----------------------+
| Alpine              | SKIPPED           | PASS               | SKIPPED              |
+---------------------+-------------------+--------------------+----------------------+
| openSUSE Leap 15    | SKIPPED           | PASS               | SKIPPED              |
+---------------------+-------------------+--------------------+----------------------+
| Ubuntu 22.04        | SKIPPED           | PASS               | SKIPPED              |
+---------------------+-------------------+--------------------+----------------------+


Windows Server 2022
	Kernel: 10.0.20348.2031
	Compiler: clang 15.0.7, gcc 8.1.0 (MinGW), and MSVC VS 17.9

FreeBSD 13.2
	Kernel: 13.2
	Compiler: clang 14.0.5

CentOS Stream 9
	Kernel: 5.4.0-167-generic
	Compiler: gcc 11.4.1 20230605

CentOS Stream 8
	Kernel: 5.4.0-167-generic
	Compiler: gcc 8.5.0 20210514

Fedora 37
	Kernel: Depends on container host system
	Compiler: gcc 12.3.1

Ubuntu 20.04
	Kernel: 5.4.0-167-generic
	Compiler: gcc 9.4.0-1ubuntu1~20.04.1

Windows Server 2019
	Kernel: 10.0.17763
	Compiler: clang 14.0 and gcc 8.1.0 (MinGW)

Debian 11 (arm)
	Kernel: Container Host Kernel
	Compiler: gcc 10.2.1

Fedora 38
	Kernel: Depends on container host
	Compiler: gcc 13.2.1

Debian Bullseye
	Kernel: 5.4.0-167-generic
	Compiler: gcc 10.2.1-6

RHEL8
	Kernel: 5.4.0-167-generic
	Compiler: gcc 8.5.0 20210514 (Red Hat 8.5.0-20)

Alpine
	Kernel: 5.4.0-167-generic
	Compiler: gcc (Alpine 12.2.1_git20220924-r10) 12.2.1 20220924

openSUSE Leap 15
	Kernel: 5.4.0-167-generic
	Compiler: gcc 7.5.0

Ubuntu 22.04
	Kernel: 5.4.0-167-generic
	Compiler: gcc 11.4.0

To view detailed results, visit:
https://lab.dpdk.org/results/dashboard/patchsets/29628/

UNH-IOL DPDK Community Lab

To manage your email subscriptions, visit: 
https://lab.dpdk.org/results/dashboard/preferences/subscriptions/