From mboxrd@z Thu Jan  1 00:00:00 1970
Return-Path: <test-report-bounces@dpdk.org>
Received: from mails.dpdk.org (mails.dpdk.org [217.70.189.124])
	by inbox.dpdk.org (Postfix) with ESMTP id 016DC43D1E
	for <public@inbox.dpdk.org>; Fri, 22 Mar 2024 09:57:17 +0100 (CET)
Received: from mails.dpdk.org (localhost [127.0.0.1])
	by mails.dpdk.org (Postfix) with ESMTP id D654D402CB;
	Fri, 22 Mar 2024 09:57:17 +0100 (CET)
Received: from mail-pl1-f227.google.com (mail-pl1-f227.google.com
 [209.85.214.227])
 by mails.dpdk.org (Postfix) with ESMTP id 7C40D4003C
 for <test-report@dpdk.org>; Fri, 22 Mar 2024 09:57:16 +0100 (CET)
Received: by mail-pl1-f227.google.com with SMTP id
 d9443c01a7336-1def3340682so14148325ad.1
 for <test-report@dpdk.org>; Fri, 22 Mar 2024 01:57:16 -0700 (PDT)
DKIM-Signature: v=1; a=rsa-sha256; c=relaxed/relaxed;
 d=iol.unh.edu; s=unh-iol; t=1711097835; x=1711702635; darn=dpdk.org;
 h=references:in-reply-to:cc:to:from:subject:message-id:date:from:to
 :cc:subject:date:message-id:reply-to;
 bh=nxGvYIjdJh5TAhFh5IQyJQCb2nAjfIOrBRiszdXosGM=;
 b=V515F/mpiPWqvA0BKscYYOtI1r584zj/EZ0CDg/wyXoSXrVFKEBvPmbEHijVoftxo7
 4iQTBGcQ5GNBIUCkaoal26gBwr10GL7asxJxzkLP/FJdO0EPib+kwI24SfBV8RCB6yo/
 J8ChwqNnj5iQ2bYvWOsH0bL6WL7f+0zjORc5k=
X-Google-DKIM-Signature: v=1; a=rsa-sha256; c=relaxed/relaxed;
 d=1e100.net; s=20230601; t=1711097835; x=1711702635;
 h=references:in-reply-to:cc:to:from:subject:message-id:date
 :x-gm-message-state:from:to:cc:subject:date:message-id:reply-to;
 bh=nxGvYIjdJh5TAhFh5IQyJQCb2nAjfIOrBRiszdXosGM=;
 b=FneDNq2oGdYu4a/fLJTug1FWFtXALFMmXCAyhV4I7lO+Mvzon2U3HHE+fxsZvNt93E
 Fs4MnPxKNQrJHkXO4Vfsa7KpsAlznyVLLnCl8dgoImdwDn/bkqHXQ/jPlnOQ963M/an3
 jNeHXDfET24kExUYFLBUGBq1OgEMIiOhWLyg3Qv84okdTH+Iui+d+rJFLaRXiGl8j3eE
 WjWrFjIxlOWw7TuhB5lnqajSX8wDa+VatK1Q3Y4x3AGGzzm5nKJbOeYwje0t+f/RKWp4
 j1Lt92S8bNPyDXGecyJcHtR36Lqfa88+39wBqynhzHchvNEaoK7qNM29X16WaeReV7p1
 q07w==
X-Gm-Message-State: AOJu0YyTE44jx2rnNpHiPU4GoPtri5OjZK/XJehBbiGTde+YsqJMShuX
 X3RaMW2NlvbEv1huB8ptnwZYWzULBCkMqTmJsOUvSAFP4DZNr9+WnbYNKigulteiClofpq2IzGs
 BnskdH+BjmZPVZNyXGCSUm2XLehH9wtFAIy0yRx8aqxAgQXJKo6GpY1rg
X-Google-Smtp-Source: AGHT+IGzc89LMBSVBNl3PRUi1Pokkaf2+L1T7FGobox/Sazp3qCXu8rh8SwCyvBVubqjLxUjCqjMzzDYBjfF
X-Received: by 2002:a05:6a20:4f16:b0:1a3:465d:395f with SMTP id
 gi22-20020a056a204f1600b001a3465d395fmr1626109pzb.31.1711096441297; 
 Fri, 22 Mar 2024 01:34:01 -0700 (PDT)
Received: from postal.iol.unh.edu (postal.iol.unh.edu.
 [2606:4100:3880:1234::84]) by smtp-relay.gmail.com with ESMTPS id
 jv13-20020a170903058d00b001d9c054a438sm67537plb.102.2024.03.22.01.34.01
 (version=TLS1_2 cipher=ECDHE-ECDSA-AES128-GCM-SHA256 bits=128/128);
 Fri, 22 Mar 2024 01:34:01 -0700 (PDT)
X-Relaying-Domain: iol.unh.edu
Date: Fri, 22 Mar 2024 01:34:01 -0700 (PDT)
Message-ID: <65fd4279.170a0220.ec8e.30bfSMTPIN_ADDED_MISSING@mx.google.com>
Received: from [172.17.0.6] (unknown [172.18.0.217])
 by postal.iol.unh.edu (Postfix) with ESMTP id B94296052471;
 Fri, 22 Mar 2024 04:34:00 -0400 (EDT)
Subject: |SUCCESS| pw138688-138731 [PATCH] [v2,45/45] app/test-bbdev: use rte
From: dpdklab@iol.unh.edu
To: Test Report <test-report@dpdk.org>
Cc: dpdk-test-reports@iol.unh.edu
In-Reply-To: <1711048652-7512-46-git-send-email-roretzla@linux.microsoft.com>
References: <1711048652-7512-46-git-send-email-roretzla@linux.microsoft.com>
Content-Type: text/plain
X-BeenThere: test-report@dpdk.org
X-Mailman-Version: 2.1.29
Precedence: list
List-Id: automatic DPDK test reports <test-report.dpdk.org>
List-Unsubscribe: <https://mails.dpdk.org/options/test-report>,
 <mailto:test-report-request@dpdk.org?subject=unsubscribe>
List-Archive: <http://mails.dpdk.org/archives/test-report/>
List-Post: <mailto:test-report@dpdk.org>
List-Help: <mailto:test-report-request@dpdk.org?subject=help>
List-Subscribe: <https://mails.dpdk.org/listinfo/test-report>,
 <mailto:test-report-request@dpdk.org?subject=subscribe>
Errors-To: test-report-bounces@dpdk.org

Test-Label: iol-unit-amd64-testing
Test-Status: SUCCESS
http://dpdk.org/patch/138731

_Testing PASS_

Submitter: Tyler Retzlaff <roretzla@linux.microsoft.com>
Date: Thursday, March 21 2024 19:17:32 
DPDK git baseline: Repo:dpdk
  Branch: master
  CommitID:0219d467bcb1d19b386b5bae8eecd3514ba13fdb

138688-138731 --> testing pass

Test environment and result as below:

+-----------------+----------------+
|   Environment   | dpdk_unit_test |
+=================+================+
| CentOS Stream 8 | PASS           |
+-----------------+----------------+
| Debian Bullseye | PASS           |
+-----------------+----------------+
| CentOS Stream 9 | PASS           |
+-----------------+----------------+
| Fedora 37       | PASS           |
+-----------------+----------------+
| Fedora 38       | PASS           |
+-----------------+----------------+
| Debian 11 (arm) | PASS           |
+-----------------+----------------+


CentOS Stream 8
	Kernel: 5.4.0-167-generic
	Compiler: gcc 8.5.0 20210514

Debian Bullseye
	Kernel: 5.4.0-167-generic
	Compiler: gcc 10.2.1-6

CentOS Stream 9
	Kernel: 5.4.0-167-generic
	Compiler: gcc 11.4.1 20230605

Fedora 37
	Kernel: Depends on container host system
	Compiler: gcc 12.3.1

Fedora 38
	Kernel: Depends on container host
	Compiler: gcc 13.2.1

Debian 11 (arm)
	Kernel: Container Host Kernel
	Compiler: gcc 10.2.1

To view detailed results, visit:
https://lab.dpdk.org/results/dashboard/patchsets/29628/

UNH-IOL DPDK Community Lab

To manage your email subscriptions, visit: 
https://lab.dpdk.org/results/dashboard/preferences/subscriptions/