From mboxrd@z Thu Jan  1 00:00:00 1970
Return-Path: <test-report-bounces@dpdk.org>
Received: from mails.dpdk.org (mails.dpdk.org [217.70.189.124])
	by inbox.dpdk.org (Postfix) with ESMTP id 5B2DC43D1E
	for <public@inbox.dpdk.org>; Fri, 22 Mar 2024 09:35:33 +0100 (CET)
Received: from mails.dpdk.org (localhost [127.0.0.1])
	by mails.dpdk.org (Postfix) with ESMTP id 5359B402CB;
	Fri, 22 Mar 2024 09:35:33 +0100 (CET)
Received: from mail-io1-f98.google.com (mail-io1-f98.google.com
 [209.85.166.98]) by mails.dpdk.org (Postfix) with ESMTP id 52F564003C
 for <test-report@dpdk.org>; Fri, 22 Mar 2024 09:35:32 +0100 (CET)
Received: by mail-io1-f98.google.com with SMTP id
 ca18e2360f4ac-7d03515dc4aso5367839f.2
 for <test-report@dpdk.org>; Fri, 22 Mar 2024 01:35:32 -0700 (PDT)
DKIM-Signature: v=1; a=rsa-sha256; c=relaxed/relaxed;
 d=iol.unh.edu; s=unh-iol; t=1711096531; x=1711701331; darn=dpdk.org;
 h=references:in-reply-to:cc:to:from:subject:message-id:date:from:to
 :cc:subject:date:message-id:reply-to;
 bh=oTNQsKqIbOyHfIJQyVi15tBNf9BIBscd4X9v2rku6N0=;
 b=c89evw98J+HZpJRQLd4jHLAl4DdE6UXNMuG+fAHdr45JcRgsTdSiUtOoqs5Ailspp2
 XejP/qYQV0xi06aj0tott7hCm/YwrmJ+GKxIhVq7qy2rSsUl6IsUT+iBs/aKq2XMpCiE
 GQkONnkHwpjm/qaieT2OQbp3yuEw1n+YkNxlU=
X-Google-DKIM-Signature: v=1; a=rsa-sha256; c=relaxed/relaxed;
 d=1e100.net; s=20230601; t=1711096531; x=1711701331;
 h=references:in-reply-to:cc:to:from:subject:message-id:date
 :x-gm-message-state:from:to:cc:subject:date:message-id:reply-to;
 bh=oTNQsKqIbOyHfIJQyVi15tBNf9BIBscd4X9v2rku6N0=;
 b=kniwCVhFSCz4NXiQAxhl/kjifFtyJ9nJopa9YXoT/rIlcPMME+JmbuzOjn3b+nxEcz
 UMOVc/CspeH+rF+LP7vs4KKa3vbp6AH40RxwwFWQIDc4pd1yOpbkzPUgEC9Jb0uYRtTA
 6AkntDVFgCrXrq/PcICe+XE0VZGOf3mCTntC/JfcNlksmj+EWb1blmYp0j7d3/hULXgv
 D7k9QENqWAdbA2ril46ptVjrJioYIurULg4O7NKzJokDrl9zffgEuLn/ZUxtwhoel4QJ
 iWHleaKHDXlqggE1wvnu+f5io/FMT+SQbcignpvWmYuGeTZt0I50TN+dw/lm2oMEtscE
 Nygg==
X-Gm-Message-State: AOJu0YzqDbF6KTgTjNa8OT++9CR2rcHzYVmgIRontRgQtAnLElh1k4L+
 jA8KG3CkprDyabjhD6AYKdZz5W8hD/Src02qY2a7SA+QnaLqX7tdrUCGniDbvr5063rCtCwHtds
 9Y4Vz46XIYhKVOkFUhOe+4mjcIvW6KgwAYWKQWTV/60FgCPPsea34qXpW
X-Google-Smtp-Source: AGHT+IE47QeF6r19jtKyKxlZv9C8a37Av19YjqSnztwlwwZrHftB43hpDaDFvnoLL0TjsKzhaFs4YEOqwxLV
X-Received: by 2002:a6b:730a:0:b0:7d0:2027:c987 with SMTP id
 e10-20020a6b730a000000b007d02027c987mr1636726ioh.21.1711096531720; 
 Fri, 22 Mar 2024 01:35:31 -0700 (PDT)
Received: from postal.iol.unh.edu (postal.iol.unh.edu.
 [2606:4100:3880:1234::84]) by smtp-relay.gmail.com with ESMTPS id
 f2-20020a05660215c200b007cc7a7861e4sm79115iow.18.2024.03.22.01.35.31
 (version=TLS1_2 cipher=ECDHE-ECDSA-AES128-GCM-SHA256 bits=128/128);
 Fri, 22 Mar 2024 01:35:31 -0700 (PDT)
X-Relaying-Domain: iol.unh.edu
Date: Fri, 22 Mar 2024 01:35:31 -0700 (PDT)
Message-ID: <65fd42d3.050a0220.4471a.35d0SMTPIN_ADDED_MISSING@mx.google.com>
Received: from [172.17.0.6] (unknown [172.18.0.217])
 by postal.iol.unh.edu (Postfix) with ESMTP id 336F26052471;
 Fri, 22 Mar 2024 04:35:31 -0400 (EDT)
Subject: |SUCCESS| pw138688-138731 [PATCH] [v2,45/45] app/test-bbdev: use rte
From: dpdklab@iol.unh.edu
To: Test Report <test-report@dpdk.org>
Cc: dpdk-test-reports@iol.unh.edu
In-Reply-To: <1711048652-7512-46-git-send-email-roretzla@linux.microsoft.com>
References: <1711048652-7512-46-git-send-email-roretzla@linux.microsoft.com>
Content-Type: text/plain
X-BeenThere: test-report@dpdk.org
X-Mailman-Version: 2.1.29
Precedence: list
List-Id: automatic DPDK test reports <test-report.dpdk.org>
List-Unsubscribe: <https://mails.dpdk.org/options/test-report>,
 <mailto:test-report-request@dpdk.org?subject=unsubscribe>
List-Archive: <http://mails.dpdk.org/archives/test-report/>
List-Post: <mailto:test-report@dpdk.org>
List-Help: <mailto:test-report-request@dpdk.org?subject=help>
List-Subscribe: <https://mails.dpdk.org/listinfo/test-report>,
 <mailto:test-report-request@dpdk.org?subject=subscribe>
Errors-To: test-report-bounces@dpdk.org

Test-Label: iol-unit-amd64-testing
Test-Status: SUCCESS
http://dpdk.org/patch/138731

_Testing PASS_

Submitter: Tyler Retzlaff <roretzla@linux.microsoft.com>
Date: Thursday, March 21 2024 19:17:32 
DPDK git baseline: Repo:dpdk
  Branch: master
  CommitID:0219d467bcb1d19b386b5bae8eecd3514ba13fdb

138688-138731 --> testing pass

Test environment and result as below:

+------------------+----------------+
|   Environment    | dpdk_unit_test |
+==================+================+
| CentOS Stream 8  | PASS           |
+------------------+----------------+
| Debian Bullseye  | PASS           |
+------------------+----------------+
| CentOS Stream 9  | PASS           |
+------------------+----------------+
| Fedora 37        | PASS           |
+------------------+----------------+
| Fedora 38        | PASS           |
+------------------+----------------+
| Debian 11 (arm)  | PASS           |
+------------------+----------------+
| openSUSE Leap 15 | PASS           |
+------------------+----------------+
| Ubuntu 22.04     | PASS           |
+------------------+----------------+
| RHEL8            | PASS           |
+------------------+----------------+


CentOS Stream 8
	Kernel: 5.4.0-167-generic
	Compiler: gcc 8.5.0 20210514

Debian Bullseye
	Kernel: 5.4.0-167-generic
	Compiler: gcc 10.2.1-6

CentOS Stream 9
	Kernel: 5.4.0-167-generic
	Compiler: gcc 11.4.1 20230605

Fedora 37
	Kernel: Depends on container host system
	Compiler: gcc 12.3.1

Fedora 38
	Kernel: Depends on container host
	Compiler: gcc 13.2.1

Debian 11 (arm)
	Kernel: Container Host Kernel
	Compiler: gcc 10.2.1

openSUSE Leap 15
	Kernel: 5.4.0-167-generic
	Compiler: gcc 7.5.0

Ubuntu 22.04
	Kernel: 5.4.0-167-generic
	Compiler: gcc 11.4.0

RHEL8
	Kernel: 5.4.0-167-generic
	Compiler: gcc 8.5.0 20210514 (Red Hat 8.5.0-20)

To view detailed results, visit:
https://lab.dpdk.org/results/dashboard/patchsets/29628/

UNH-IOL DPDK Community Lab

To manage your email subscriptions, visit: 
https://lab.dpdk.org/results/dashboard/preferences/subscriptions/