From mboxrd@z Thu Jan  1 00:00:00 1970
Return-Path: <test-report-bounces@dpdk.org>
Received: from mails.dpdk.org (mails.dpdk.org [217.70.189.124])
	by inbox.dpdk.org (Postfix) with ESMTP id 45C2943D1E
	for <public@inbox.dpdk.org>; Fri, 22 Mar 2024 09:38:15 +0100 (CET)
Received: from mails.dpdk.org (localhost [127.0.0.1])
	by mails.dpdk.org (Postfix) with ESMTP id 3D5E8402CB;
	Fri, 22 Mar 2024 09:38:15 +0100 (CET)
Received: from mail-yw1-f228.google.com (mail-yw1-f228.google.com
 [209.85.128.228])
 by mails.dpdk.org (Postfix) with ESMTP id 4506A42E6D
 for <test-report@dpdk.org>; Fri, 22 Mar 2024 09:38:03 +0100 (CET)
Received: by mail-yw1-f228.google.com with SMTP id
 00721157ae682-60a434ea806so19910737b3.3
 for <test-report@dpdk.org>; Fri, 22 Mar 2024 01:38:03 -0700 (PDT)
DKIM-Signature: v=1; a=rsa-sha256; c=relaxed/relaxed;
 d=iol.unh.edu; s=unh-iol; t=1711096682; x=1711701482; darn=dpdk.org;
 h=references:in-reply-to:cc:to:from:subject:message-id:date:from:to
 :cc:subject:date:message-id:reply-to;
 bh=oTNQsKqIbOyHfIJQyVi15tBNf9BIBscd4X9v2rku6N0=;
 b=WSFNQ0eQISEzLDX4UlFRUOVYWKWy5v9MmqCj9mZT0YhJC3k1goItuZ0tOEvUp4gHUA
 xlXgdUSIXOLgAw81+7E3KunSKPx5OrdG9E80MB4Ds3Q5CTiNRw1aOyzsIFqQQEt3+sfP
 ap1/aA6iJjjcm4CXXoHqDthPoDeNkIvQUbIRI=
X-Google-DKIM-Signature: v=1; a=rsa-sha256; c=relaxed/relaxed;
 d=1e100.net; s=20230601; t=1711096682; x=1711701482;
 h=references:in-reply-to:cc:to:from:subject:message-id:date
 :x-gm-message-state:from:to:cc:subject:date:message-id:reply-to;
 bh=oTNQsKqIbOyHfIJQyVi15tBNf9BIBscd4X9v2rku6N0=;
 b=Ibnjo2BkoTfJO1dcVETOSCnXV5VG6Pr+aLDv5Pi5xN3MDArEiwlSth5jggS0Ib8WZs
 ozdVQ+JZno6ge+Pq0BCgRC5amDJr2Nq5oDmBft7n3BJ9IE6wMIAgy2jXhoDVftrxrBKu
 eNakXFQWwOoUbuPMr44t09pR+gAfDpRO0GDG792gpSoJ0Z3vzcZZFZMGyV5Y455/1vsD
 7wAeAfXyVtyGdlQjKBqGavqvXmF9n2z9FLYUKaP2sdoe+o0d5jAYtvuyBEShUyvJwqaH
 K/kmBWkx47jPWM/2e9uDRAAp/5ut7lb6VJOrNkTRNPOuFbK82LtJur9JdvbcK0gqDDqu
 dqVg==
X-Gm-Message-State: AOJu0YwrUH5/bnkoG2mp3EoSyITeBNN5IvDIyNaYn2+FNkR/fAd6oQNB
 MOLZ04/bA1PmzdYP/vUSAn9XY3V9vnOpDND6zbxWZlTKKImpkmEfOz69iv6CqOzjSlHo4/PEgw2
 5wsoO4DWbdc/ZXlV7qCVSX/tqFfOm08o8C9aRxEBo
X-Google-Smtp-Source: AGHT+IHDyGYFkWJvgygz/KVIeZUCC+JXEhhRY6ELL8EwNW1ZFcljZPZTTk5iveOywEyV5PooDQkge9v9CuO4
X-Received: by 2002:a0d:cbd4:0:b0:60c:c20e:a714 with SMTP id
 n203-20020a0dcbd4000000b0060cc20ea714mr1964373ywd.1.1711096682755; 
 Fri, 22 Mar 2024 01:38:02 -0700 (PDT)
Received: from postal.iol.unh.edu (postal.iol.unh.edu. [132.177.123.84])
 by smtp-relay.gmail.com with ESMTPS id
 j189-20020a816ec6000000b0060b885d25eesm110896ywc.1.2024.03.22.01.38.02
 (version=TLS1_2 cipher=ECDHE-ECDSA-AES128-GCM-SHA256 bits=128/128);
 Fri, 22 Mar 2024 01:38:02 -0700 (PDT)
X-Relaying-Domain: iol.unh.edu
Date: Fri, 22 Mar 2024 01:38:02 -0700 (PDT)
Message-ID: <65fd436a.810a0220.6ba82.5281SMTPIN_ADDED_MISSING@mx.google.com>
Received: from [172.21.0.6] (unknown [172.18.0.240])
 by postal.iol.unh.edu (Postfix) with ESMTP id 704AF6052471;
 Fri, 22 Mar 2024 04:38:02 -0400 (EDT)
Subject: |SUCCESS| pw138688-138731 [PATCH] [v2,45/45] app/test-bbdev: use rte
From: dpdklab@iol.unh.edu
To: Test Report <test-report@dpdk.org>
Cc: dpdk-test-reports@iol.unh.edu
In-Reply-To: <1711048652-7512-46-git-send-email-roretzla@linux.microsoft.com>
References: <1711048652-7512-46-git-send-email-roretzla@linux.microsoft.com>
Content-Type: text/plain
X-BeenThere: test-report@dpdk.org
X-Mailman-Version: 2.1.29
Precedence: list
List-Id: automatic DPDK test reports <test-report.dpdk.org>
List-Unsubscribe: <https://mails.dpdk.org/options/test-report>,
 <mailto:test-report-request@dpdk.org?subject=unsubscribe>
List-Archive: <http://mails.dpdk.org/archives/test-report/>
List-Post: <mailto:test-report@dpdk.org>
List-Help: <mailto:test-report-request@dpdk.org?subject=help>
List-Subscribe: <https://mails.dpdk.org/listinfo/test-report>,
 <mailto:test-report-request@dpdk.org?subject=subscribe>
Errors-To: test-report-bounces@dpdk.org

Test-Label: iol-unit-amd64-testing
Test-Status: SUCCESS
http://dpdk.org/patch/138731

_Testing PASS_

Submitter: Tyler Retzlaff <roretzla@linux.microsoft.com>
Date: Thursday, March 21 2024 19:17:32 
DPDK git baseline: Repo:dpdk
  Branch: master
  CommitID:0219d467bcb1d19b386b5bae8eecd3514ba13fdb

138688-138731 --> testing pass

Test environment and result as below:

+------------------+----------------+
|   Environment    | dpdk_unit_test |
+==================+================+
| CentOS Stream 8  | PASS           |
+------------------+----------------+
| Debian Bullseye  | PASS           |
+------------------+----------------+
| CentOS Stream 9  | PASS           |
+------------------+----------------+
| Fedora 37        | PASS           |
+------------------+----------------+
| Fedora 38        | PASS           |
+------------------+----------------+
| Debian 11 (arm)  | PASS           |
+------------------+----------------+
| openSUSE Leap 15 | PASS           |
+------------------+----------------+
| Ubuntu 22.04     | PASS           |
+------------------+----------------+
| RHEL8            | PASS           |
+------------------+----------------+


CentOS Stream 8
	Kernel: 5.4.0-167-generic
	Compiler: gcc 8.5.0 20210514

Debian Bullseye
	Kernel: 5.4.0-167-generic
	Compiler: gcc 10.2.1-6

CentOS Stream 9
	Kernel: 5.4.0-167-generic
	Compiler: gcc 11.4.1 20230605

Fedora 37
	Kernel: Depends on container host system
	Compiler: gcc 12.3.1

Fedora 38
	Kernel: Depends on container host
	Compiler: gcc 13.2.1

Debian 11 (arm)
	Kernel: Container Host Kernel
	Compiler: gcc 10.2.1

openSUSE Leap 15
	Kernel: 5.4.0-167-generic
	Compiler: gcc 7.5.0

Ubuntu 22.04
	Kernel: 5.4.0-167-generic
	Compiler: gcc 11.4.0

RHEL8
	Kernel: 5.4.0-167-generic
	Compiler: gcc 8.5.0 20210514 (Red Hat 8.5.0-20)

To view detailed results, visit:
https://lab.dpdk.org/results/dashboard/patchsets/29628/

UNH-IOL DPDK Community Lab

To manage your email subscriptions, visit: 
https://lab.dpdk.org/results/dashboard/preferences/subscriptions/