From mboxrd@z Thu Jan  1 00:00:00 1970
Return-Path: <test-report-bounces@dpdk.org>
Received: from mails.dpdk.org (mails.dpdk.org [217.70.189.124])
	by inbox.dpdk.org (Postfix) with ESMTP id 841F943D23
	for <public@inbox.dpdk.org>; Fri, 22 Mar 2024 17:57:33 +0100 (CET)
Received: from mails.dpdk.org (localhost [127.0.0.1])
	by mails.dpdk.org (Postfix) with ESMTP id 7F59F40294;
	Fri, 22 Mar 2024 17:57:33 +0100 (CET)
Received: from mail-oa1-f100.google.com (mail-oa1-f100.google.com
 [209.85.160.100])
 by mails.dpdk.org (Postfix) with ESMTP id D5EDF40284
 for <test-report@dpdk.org>; Fri, 22 Mar 2024 17:57:32 +0100 (CET)
Received: by mail-oa1-f100.google.com with SMTP id
 586e51a60fabf-221a4f9557dso1373628fac.2
 for <test-report@dpdk.org>; Fri, 22 Mar 2024 09:57:32 -0700 (PDT)
DKIM-Signature: v=1; a=rsa-sha256; c=relaxed/relaxed;
 d=iol.unh.edu; s=unh-iol; t=1711126652; x=1711731452; darn=dpdk.org;
 h=references:in-reply-to:cc:to:from:subject:message-id:date:from:to
 :cc:subject:date:message-id:reply-to;
 bh=XxEzUngxYx/3uvaZ9L6yMv7YGMsmE1BxJwuwDwid0M0=;
 b=XL7BXMmO5CKs7h42oNU7xIgB26gKGvLhEjK4TlA9ZXZKv33PgIkCC/sUnXFS/8XYzh
 IrLjF+rAukaqj7kB3aitnBMXQ9MXEY0I+Q0PpbUajpnJCv2QrszO3RXME2qmz0RHBNYl
 oNs8MmgM1+FLCF2kYN8l90PgXGNsE42u2wTh8=
X-Google-DKIM-Signature: v=1; a=rsa-sha256; c=relaxed/relaxed;
 d=1e100.net; s=20230601; t=1711126652; x=1711731452;
 h=references:in-reply-to:cc:to:from:subject:message-id:date
 :x-gm-message-state:from:to:cc:subject:date:message-id:reply-to;
 bh=XxEzUngxYx/3uvaZ9L6yMv7YGMsmE1BxJwuwDwid0M0=;
 b=ZBrvMKwM5yNu6pVuDUwMdumyhhlMJmEuRhJJgd1HfNKi3reJMSOfaShDXH6lqp5hZP
 xnjssAvfY6U7wW0lJqAwykXA42YTw9ZjkPSZd3oCSN5izMYW6x1FsNj4wULorKY/gFGl
 fkl/qNhn7omar8fjGRKRM7dVY1cKBrp6rz1DdxyNhSNATs+6IEuCqDJ9o6Mehe+zwBZK
 cp6h2JbOL8YZRmJqc+0Co/cjFa7SCkdcinToSa7SQwODynZd9d93nQwWOfPI2C9bQtpz
 lC7w4cvYrlJhxgwehjq5Ml+i18tDUQFnoFEK7DSygd2Nbn6HTo4zQW89+eKao/rpdIVM
 i4sA==
X-Gm-Message-State: AOJu0Yxi8qUCSIse3h/8EJBxSis/q/ymjJq8KagpHSnrt1p5ut4IGplX
 sW3WB4gggzZbYcSjGTyt6PFfboFsVYqcgUTOeAkUIUFXmeY3s41plvsrPiWXcfDG35IdxL9Z6jr
 KIumenzHaqrSxNUbjXnPfJYWdMCJd1VYnyHkjET4D29DHeInFhG2sH/9t
X-Google-Smtp-Source: AGHT+IGmXw2HxDwLP7u4jYV+34bYPn7x8v/lo303GbWr4wd6dTSfllDwNrSC5evMC3WCzTKL7DZfUz8mC5bO
X-Received: by 2002:a05:6870:8445:b0:220:be34:7ee2 with SMTP id
 n5-20020a056870844500b00220be347ee2mr327778oak.26.1711126652187; 
 Fri, 22 Mar 2024 09:57:32 -0700 (PDT)
Received: from postal.iol.unh.edu (postal.iol.unh.edu.
 [2606:4100:3880:1234::84]) by smtp-relay.gmail.com with ESMTPS id
 ch14-20020a056871c40e00b001faeb3eb810sm707oac.46.2024.03.22.09.57.32
 (version=TLS1_2 cipher=ECDHE-ECDSA-AES128-GCM-SHA256 bits=128/128);
 Fri, 22 Mar 2024 09:57:32 -0700 (PDT)
X-Relaying-Domain: iol.unh.edu
Date: Fri, 22 Mar 2024 09:57:32 -0700 (PDT)
Message-ID: <65fdb87c.050a0220.94d0a.0491SMTPIN_ADDED_MISSING@mx.google.com>
Received: from [172.21.0.6] (unknown [172.18.0.240])
 by postal.iol.unh.edu (Postfix) with ESMTP id A52F86052471;
 Fri, 22 Mar 2024 12:57:31 -0400 (EDT)
Subject: |SUCCESS| pw138749-138750 [PATCH] [2/2] devtools: check that maintai
From: dpdklab@iol.unh.edu
To: Test Report <test-report@dpdk.org>
Cc: dpdk-test-reports@iol.unh.edu
In-Reply-To: <20240322161406.996890-2-david.marchand@redhat.com>
References: <20240322161406.996890-2-david.marchand@redhat.com>
Content-Type: text/plain
X-BeenThere: test-report@dpdk.org
X-Mailman-Version: 2.1.29
Precedence: list
List-Id: automatic DPDK test reports <test-report.dpdk.org>
List-Unsubscribe: <https://mails.dpdk.org/options/test-report>,
 <mailto:test-report-request@dpdk.org?subject=unsubscribe>
List-Archive: <http://mails.dpdk.org/archives/test-report/>
List-Post: <mailto:test-report@dpdk.org>
List-Help: <mailto:test-report-request@dpdk.org?subject=help>
List-Subscribe: <https://mails.dpdk.org/listinfo/test-report>,
 <mailto:test-report-request@dpdk.org?subject=subscribe>
Errors-To: test-report-bounces@dpdk.org

Test-Label: iol-compile-amd64-testing
Test-Status: SUCCESS
http://dpdk.org/patch/138750

_Testing PASS_

Submitter: David Marchand <david.marchand@redhat.com>
Date: Friday, March 22 2024 16:14:06 
DPDK git baseline: Repo:dpdk
  Branch: master
  CommitID:0219d467bcb1d19b386b5bae8eecd3514ba13fdb

138749-138750 --> testing pass

Test environment and result as below:

+---------------------+--------------------+----------------------+-------------------+
|     Environment     | dpdk_meson_compile | dpdk_mingw64_compile | dpdk_msvc_compile |
+=====================+====================+======================+===================+
| FreeBSD 13.2        | PASS               | SKIPPED              | SKIPPED           |
+---------------------+--------------------+----------------------+-------------------+
| CentOS Stream 9     | PASS               | SKIPPED              | SKIPPED           |
+---------------------+--------------------+----------------------+-------------------+
| CentOS Stream 8     | PASS               | SKIPPED              | SKIPPED           |
+---------------------+--------------------+----------------------+-------------------+
| Debian Bullseye     | PASS               | SKIPPED              | SKIPPED           |
+---------------------+--------------------+----------------------+-------------------+
| Debian 11 (arm)     | PASS               | SKIPPED              | SKIPPED           |
+---------------------+--------------------+----------------------+-------------------+
| Windows Server 2019 | PASS               | PASS                 | SKIPPED           |
+---------------------+--------------------+----------------------+-------------------+
| Windows Server 2022 | PASS               | PASS                 | PASS              |
+---------------------+--------------------+----------------------+-------------------+
| RHEL8               | PASS               | SKIPPED              | SKIPPED           |
+---------------------+--------------------+----------------------+-------------------+
| Fedora 37           | PASS               | SKIPPED              | SKIPPED           |
+---------------------+--------------------+----------------------+-------------------+
| openSUSE Leap 15    | PASS               | SKIPPED              | SKIPPED           |
+---------------------+--------------------+----------------------+-------------------+


FreeBSD 13.2
	Kernel: 13.2
	Compiler: clang 14.0.5

CentOS Stream 9
	Kernel: 5.4.0-167-generic
	Compiler: gcc 11.4.1 20230605

CentOS Stream 8
	Kernel: 5.4.0-167-generic
	Compiler: gcc 8.5.0 20210514

Debian Bullseye
	Kernel: 5.4.0-167-generic
	Compiler: gcc 10.2.1-6

Debian 11 (arm)
	Kernel: Container Host Kernel
	Compiler: gcc 10.2.1

Windows Server 2019
	Kernel: 10.0.17763
	Compiler: clang 14.0 and gcc 8.1.0 (MinGW)

Windows Server 2022
	Kernel: 10.0.20348.2031
	Compiler: clang 15.0.7, gcc 8.1.0 (MinGW), and MSVC VS 17.9

RHEL8
	Kernel: 5.4.0-167-generic
	Compiler: gcc 8.5.0 20210514 (Red Hat 8.5.0-20)

Fedora 37
	Kernel: Depends on container host system
	Compiler: gcc 12.3.1

openSUSE Leap 15
	Kernel: 5.4.0-167-generic
	Compiler: gcc 7.5.0

To view detailed results, visit:
https://lab.dpdk.org/results/dashboard/patchsets/29641/

UNH-IOL DPDK Community Lab

To manage your email subscriptions, visit: 
https://lab.dpdk.org/results/dashboard/preferences/subscriptions/