From mboxrd@z Thu Jan  1 00:00:00 1970
Return-Path: <test-report-bounces@dpdk.org>
Received: from mails.dpdk.org (mails.dpdk.org [217.70.189.124])
	by inbox.dpdk.org (Postfix) with ESMTP id 7AC7E43D24
	for <public@inbox.dpdk.org>; Fri, 22 Mar 2024 17:58:41 +0100 (CET)
Received: from mails.dpdk.org (localhost [127.0.0.1])
	by mails.dpdk.org (Postfix) with ESMTP id 7737242EC7;
	Fri, 22 Mar 2024 17:58:41 +0100 (CET)
Received: from mail-yw1-f228.google.com (mail-yw1-f228.google.com
 [209.85.128.228])
 by mails.dpdk.org (Postfix) with ESMTP id 94C9E40284
 for <test-report@dpdk.org>; Fri, 22 Mar 2024 17:58:38 +0100 (CET)
Received: by mail-yw1-f228.google.com with SMTP id
 00721157ae682-60fff981e2aso24151227b3.3
 for <test-report@dpdk.org>; Fri, 22 Mar 2024 09:58:38 -0700 (PDT)
DKIM-Signature: v=1; a=rsa-sha256; c=relaxed/relaxed;
 d=iol.unh.edu; s=unh-iol; t=1711126718; x=1711731518; darn=dpdk.org;
 h=references:in-reply-to:cc:to:from:subject:message-id:date:from:to
 :cc:subject:date:message-id:reply-to;
 bh=XxEzUngxYx/3uvaZ9L6yMv7YGMsmE1BxJwuwDwid0M0=;
 b=aX88lqs7GNRN8QhuaizxiHZREd2gJThVbRZaKLX5bsBYA4tfBK3r1UtEri9JLakQ8L
 qt1mrvmugk5l/qgeIye1DCWY9yNiRc6mzAYNvnhgD9UfaFnBZ1m9oCZCeWftMsg1iDF1
 jlmdqkiQl3E4vBh9yZ3vfU7c5ntR3s9eOUWuE=
X-Google-DKIM-Signature: v=1; a=rsa-sha256; c=relaxed/relaxed;
 d=1e100.net; s=20230601; t=1711126718; x=1711731518;
 h=references:in-reply-to:cc:to:from:subject:message-id:date
 :x-gm-message-state:from:to:cc:subject:date:message-id:reply-to;
 bh=XxEzUngxYx/3uvaZ9L6yMv7YGMsmE1BxJwuwDwid0M0=;
 b=A5v/V6YmLwvTOKz4YZ0WCJqN/84+7xk070DxA5GhNqynywjhQESr60SWFPg2ltqxCe
 sfczDg5xoCSK/kiWAbIAYlXET2BUJPAFujzQ+KwVV5422DFNsC8FGObQvF9XMLTzJBIF
 h87N7vkp6IZPKLQnQUtK0zhVGTxHjVMRtgZQbvEZ48mppbskxfxXi4+SXBesF/BgC8m3
 yEgEFhXOJg2y6NvYi3+SSeCeCpXhsfoQIDddS6ocl+0bWjXMPw+VKK4UYAM9If+ESNCw
 bzaBhkKMjlbWGz+cRq10TFkSB87Blioihl+mslXwNbCETZgx8ch2AvW0DBaYJvv8xC+X
 Xfcg==
X-Gm-Message-State: AOJu0Yy2QgvygZdD/cVz0XVOU/XiIvp+SmV+bYcmUQ/pH1kZMEwCUbWd
 wpAA1UraYfwY4cZNX7XAZ33J964h4iM521vf4sI+GerSETBEWqMFR9ci3YHulA/hqxkTMKNJftE
 eD+CtTVN6e++L127e7O17xnpitYwBdH7nHMiuL/HgYdoRNXBj+015870D
X-Google-Smtp-Source: AGHT+IGQmK3au02g8w5SGHg3dMnipFCZOsWYgiI7RRRLMhuexKzSpUMzlC17bajHfeW/ushEuIXAMv5Ptq7p
X-Received: by 2002:a81:4f97:0:b0:609:df59:79b9 with SMTP id
 d145-20020a814f97000000b00609df5979b9mr206484ywb.39.1711126718045; 
 Fri, 22 Mar 2024 09:58:38 -0700 (PDT)
Received: from postal.iol.unh.edu (postal.iol.unh.edu.
 [2606:4100:3880:1234::84]) by smtp-relay.gmail.com with ESMTPS id
 i5-20020a0df805000000b0060aa4f76b47sm164638ywf.44.2024.03.22.09.58.37
 (version=TLS1_2 cipher=ECDHE-ECDSA-AES128-GCM-SHA256 bits=128/128);
 Fri, 22 Mar 2024 09:58:38 -0700 (PDT)
X-Relaying-Domain: iol.unh.edu
Date: Fri, 22 Mar 2024 09:58:38 -0700 (PDT)
Message-ID: <65fdb8be.0d0a0220.3547f.90faSMTPIN_ADDED_MISSING@mx.google.com>
Received: from [172.21.0.6] (unknown [172.18.0.240])
 by postal.iol.unh.edu (Postfix) with ESMTP id B1D146052471;
 Fri, 22 Mar 2024 12:58:37 -0400 (EDT)
Subject: |SUCCESS| pw138749-138750 [PATCH] [2/2] devtools: check that maintai
From: dpdklab@iol.unh.edu
To: Test Report <test-report@dpdk.org>
Cc: dpdk-test-reports@iol.unh.edu
In-Reply-To: <20240322161406.996890-2-david.marchand@redhat.com>
References: <20240322161406.996890-2-david.marchand@redhat.com>
Content-Type: text/plain
X-BeenThere: test-report@dpdk.org
X-Mailman-Version: 2.1.29
Precedence: list
List-Id: automatic DPDK test reports <test-report.dpdk.org>
List-Unsubscribe: <https://mails.dpdk.org/options/test-report>,
 <mailto:test-report-request@dpdk.org?subject=unsubscribe>
List-Archive: <http://mails.dpdk.org/archives/test-report/>
List-Post: <mailto:test-report@dpdk.org>
List-Help: <mailto:test-report-request@dpdk.org?subject=help>
List-Subscribe: <https://mails.dpdk.org/listinfo/test-report>,
 <mailto:test-report-request@dpdk.org?subject=subscribe>
Errors-To: test-report-bounces@dpdk.org

Test-Label: iol-compile-amd64-testing
Test-Status: SUCCESS
http://dpdk.org/patch/138750

_Testing PASS_

Submitter: David Marchand <david.marchand@redhat.com>
Date: Friday, March 22 2024 16:14:06 
DPDK git baseline: Repo:dpdk
  Branch: master
  CommitID:0219d467bcb1d19b386b5bae8eecd3514ba13fdb

138749-138750 --> testing pass

Test environment and result as below:

+---------------------+--------------------+----------------------+-------------------+
|     Environment     | dpdk_meson_compile | dpdk_mingw64_compile | dpdk_msvc_compile |
+=====================+====================+======================+===================+
| FreeBSD 13.2        | PASS               | SKIPPED              | SKIPPED           |
+---------------------+--------------------+----------------------+-------------------+
| CentOS Stream 9     | PASS               | SKIPPED              | SKIPPED           |
+---------------------+--------------------+----------------------+-------------------+
| CentOS Stream 8     | PASS               | SKIPPED              | SKIPPED           |
+---------------------+--------------------+----------------------+-------------------+
| Debian Bullseye     | PASS               | SKIPPED              | SKIPPED           |
+---------------------+--------------------+----------------------+-------------------+
| Debian 11 (arm)     | PASS               | SKIPPED              | SKIPPED           |
+---------------------+--------------------+----------------------+-------------------+
| Windows Server 2019 | PASS               | PASS                 | SKIPPED           |
+---------------------+--------------------+----------------------+-------------------+
| Windows Server 2022 | PASS               | PASS                 | PASS              |
+---------------------+--------------------+----------------------+-------------------+
| RHEL8               | PASS               | SKIPPED              | SKIPPED           |
+---------------------+--------------------+----------------------+-------------------+
| Fedora 37           | PASS               | SKIPPED              | SKIPPED           |
+---------------------+--------------------+----------------------+-------------------+
| openSUSE Leap 15    | PASS               | SKIPPED              | SKIPPED           |
+---------------------+--------------------+----------------------+-------------------+


FreeBSD 13.2
	Kernel: 13.2
	Compiler: clang 14.0.5

CentOS Stream 9
	Kernel: 5.4.0-167-generic
	Compiler: gcc 11.4.1 20230605

CentOS Stream 8
	Kernel: 5.4.0-167-generic
	Compiler: gcc 8.5.0 20210514

Debian Bullseye
	Kernel: 5.4.0-167-generic
	Compiler: gcc 10.2.1-6

Debian 11 (arm)
	Kernel: Container Host Kernel
	Compiler: gcc 10.2.1

Windows Server 2019
	Kernel: 10.0.17763
	Compiler: clang 14.0 and gcc 8.1.0 (MinGW)

Windows Server 2022
	Kernel: 10.0.20348.2031
	Compiler: clang 15.0.7, gcc 8.1.0 (MinGW), and MSVC VS 17.9

RHEL8
	Kernel: 5.4.0-167-generic
	Compiler: gcc 8.5.0 20210514 (Red Hat 8.5.0-20)

Fedora 37
	Kernel: Depends on container host system
	Compiler: gcc 12.3.1

openSUSE Leap 15
	Kernel: 5.4.0-167-generic
	Compiler: gcc 7.5.0

To view detailed results, visit:
https://lab.dpdk.org/results/dashboard/patchsets/29641/

UNH-IOL DPDK Community Lab

To manage your email subscriptions, visit: 
https://lab.dpdk.org/results/dashboard/preferences/subscriptions/