From mboxrd@z Thu Jan  1 00:00:00 1970
Return-Path: <test-report-bounces@dpdk.org>
Received: from mails.dpdk.org (mails.dpdk.org [217.70.189.124])
	by inbox.dpdk.org (Postfix) with ESMTP id CD7F743D24
	for <public@inbox.dpdk.org>; Fri, 22 Mar 2024 18:04:29 +0100 (CET)
Received: from mails.dpdk.org (localhost [127.0.0.1])
	by mails.dpdk.org (Postfix) with ESMTP id C693740294;
	Fri, 22 Mar 2024 18:04:29 +0100 (CET)
Received: from mail-pl1-f228.google.com (mail-pl1-f228.google.com
 [209.85.214.228])
 by mails.dpdk.org (Postfix) with ESMTP id 0A0AC40284
 for <test-report@dpdk.org>; Fri, 22 Mar 2024 18:04:28 +0100 (CET)
Received: by mail-pl1-f228.google.com with SMTP id
 d9443c01a7336-1e04ac200a6so17270245ad.1
 for <test-report@dpdk.org>; Fri, 22 Mar 2024 10:04:27 -0700 (PDT)
DKIM-Signature: v=1; a=rsa-sha256; c=relaxed/relaxed;
 d=iol.unh.edu; s=unh-iol; t=1711127067; x=1711731867; darn=dpdk.org;
 h=references:in-reply-to:cc:to:from:subject:message-id:date:from:to
 :cc:subject:date:message-id:reply-to;
 bh=i9DtVFuCfC+ztWmFj9HJ1R3FvT23zcSGqWqqbwiMnSM=;
 b=FcTdbm0qXBmUFFQh86pcJTxXKuClVjjHIZ3I2bGF0JvQBA2MXQPw1BK6Liapb5pu5j
 waDS8koRMKnol2Eds8ONmHXdrh1kxEAZegVnw7iAiic3UzibaCNnq4C7BfCFiHxqs4mY
 XyHDkOTRQSdfXDWLC6Dimb5AbIhPTDDXEf834=
X-Google-DKIM-Signature: v=1; a=rsa-sha256; c=relaxed/relaxed;
 d=1e100.net; s=20230601; t=1711127067; x=1711731867;
 h=references:in-reply-to:cc:to:from:subject:message-id:date
 :x-gm-message-state:from:to:cc:subject:date:message-id:reply-to;
 bh=i9DtVFuCfC+ztWmFj9HJ1R3FvT23zcSGqWqqbwiMnSM=;
 b=blVmbW8ASGc6P7/+sUOy4m8cqcsXi4V3rXlMT6wvnMKQTb8KLiisfUWa7ELsgEEPeL
 lN5X2TiZi/bYHMSWZlHRxO/JE0Cx/HSXsp/mqdGTMeD8aM+jksTOToBiyhuQisa4KN9Y
 7LydlySpXRsErOy9DF9E8SAw/sm2WGVdmI0ZcGkHLlCdos+8PQCQkKjul9sfZYsQQHzO
 OW8z2iBb/1itMZMpgDloEuJtfOyGf/ZHMuzepgrPrxhXFgrS3JQAsP/iJA5bOBwdySwd
 Bf8Q+nMQLZ6VyyouPaZdEycVgH6ts+Fg4l380eraJ2NxDveQaVRR4vfJuojrUjD18aID
 k+lg==
X-Gm-Message-State: AOJu0Yz3g863TWqjfpCsKIO6V2j2sCdv5yZ711DyOd8yk9rVaQ66tcdt
 /L+rgLZ2uD0sPK8EDE87eHcojRnSbjVIOv2HuK2VHH0ZgiBVlaxLOjYkEPAZOt07WYfS+ohWWKe
 ox9ooo0vWgmnNzKr72FLBtBG4CvgIgGQan6CvDjmHucZDB1brg+LtcH8g
X-Google-Smtp-Source: AGHT+IEyYD9yjLGDBPBPrCBo0j/PFInDg2xdcFinBf5/76yjkuS5HkQavzFE6iAIxHHBIWHLSYSui2LUMbrS
X-Received: by 2002:a17:902:d507:b0:1e0:92ee:e9c with SMTP id
 b7-20020a170902d50700b001e092ee0e9cmr273399plg.2.1711127067224; 
 Fri, 22 Mar 2024 10:04:27 -0700 (PDT)
Received: from postal.iol.unh.edu (postal.iol.unh.edu.
 [2606:4100:3880:1234::84]) by smtp-relay.gmail.com with ESMTPS id
 iw13-20020a170903044d00b001dc4aa6c520sm19745plb.148.2024.03.22.10.04.27
 (version=TLS1_2 cipher=ECDHE-ECDSA-AES128-GCM-SHA256 bits=128/128);
 Fri, 22 Mar 2024 10:04:27 -0700 (PDT)
X-Relaying-Domain: iol.unh.edu
Date: Fri, 22 Mar 2024 10:04:27 -0700 (PDT)
Message-ID: <65fdba1b.170a0220.fa96.141fSMTPIN_ADDED_MISSING@mx.google.com>
Received: from [172.21.0.6] (unknown [172.18.0.240])
 by postal.iol.unh.edu (Postfix) with ESMTP id A83236052471;
 Fri, 22 Mar 2024 13:04:26 -0400 (EDT)
Subject: |SUCCESS| pw138749-138750 [PATCH] [2/2] devtools: check that maintai
From: dpdklab@iol.unh.edu
To: Test Report <test-report@dpdk.org>
Cc: dpdk-test-reports@iol.unh.edu
In-Reply-To: <20240322161406.996890-2-david.marchand@redhat.com>
References: <20240322161406.996890-2-david.marchand@redhat.com>
Content-Type: text/plain
X-BeenThere: test-report@dpdk.org
X-Mailman-Version: 2.1.29
Precedence: list
List-Id: automatic DPDK test reports <test-report.dpdk.org>
List-Unsubscribe: <https://mails.dpdk.org/options/test-report>,
 <mailto:test-report-request@dpdk.org?subject=unsubscribe>
List-Archive: <http://mails.dpdk.org/archives/test-report/>
List-Post: <mailto:test-report@dpdk.org>
List-Help: <mailto:test-report-request@dpdk.org?subject=help>
List-Subscribe: <https://mails.dpdk.org/listinfo/test-report>,
 <mailto:test-report-request@dpdk.org?subject=subscribe>
Errors-To: test-report-bounces@dpdk.org

Test-Label: iol-compile-amd64-testing
Test-Status: SUCCESS
http://dpdk.org/patch/138750

_Testing PASS_

Submitter: David Marchand <david.marchand@redhat.com>
Date: Friday, March 22 2024 16:14:06 
DPDK git baseline: Repo:dpdk
  Branch: master
  CommitID:0219d467bcb1d19b386b5bae8eecd3514ba13fdb

138749-138750 --> testing pass

Test environment and result as below:

+---------------------+--------------------+----------------------+-------------------+
|     Environment     | dpdk_meson_compile | dpdk_mingw64_compile | dpdk_msvc_compile |
+=====================+====================+======================+===================+
| FreeBSD 13.2        | PASS               | SKIPPED              | SKIPPED           |
+---------------------+--------------------+----------------------+-------------------+
| CentOS Stream 9     | PASS               | SKIPPED              | SKIPPED           |
+---------------------+--------------------+----------------------+-------------------+
| CentOS Stream 8     | PASS               | SKIPPED              | SKIPPED           |
+---------------------+--------------------+----------------------+-------------------+
| Debian Bullseye     | PASS               | SKIPPED              | SKIPPED           |
+---------------------+--------------------+----------------------+-------------------+
| Debian 11 (arm)     | PASS               | SKIPPED              | SKIPPED           |
+---------------------+--------------------+----------------------+-------------------+
| Windows Server 2019 | PASS               | PASS                 | SKIPPED           |
+---------------------+--------------------+----------------------+-------------------+
| Windows Server 2022 | PASS               | PASS                 | PASS              |
+---------------------+--------------------+----------------------+-------------------+
| RHEL8               | PASS               | SKIPPED              | SKIPPED           |
+---------------------+--------------------+----------------------+-------------------+
| Fedora 37           | PASS               | SKIPPED              | SKIPPED           |
+---------------------+--------------------+----------------------+-------------------+
| openSUSE Leap 15    | PASS               | SKIPPED              | SKIPPED           |
+---------------------+--------------------+----------------------+-------------------+
| Ubuntu 22.04        | PASS               | SKIPPED              | SKIPPED           |
+---------------------+--------------------+----------------------+-------------------+
| Ubuntu 20.04        | PASS               | SKIPPED              | SKIPPED           |
+---------------------+--------------------+----------------------+-------------------+


FreeBSD 13.2
	Kernel: 13.2
	Compiler: clang 14.0.5

CentOS Stream 9
	Kernel: 5.4.0-167-generic
	Compiler: gcc 11.4.1 20230605

CentOS Stream 8
	Kernel: 5.4.0-167-generic
	Compiler: gcc 8.5.0 20210514

Debian Bullseye
	Kernel: 5.4.0-167-generic
	Compiler: gcc 10.2.1-6

Debian 11 (arm)
	Kernel: Container Host Kernel
	Compiler: gcc 10.2.1

Windows Server 2019
	Kernel: 10.0.17763
	Compiler: clang 14.0 and gcc 8.1.0 (MinGW)

Windows Server 2022
	Kernel: 10.0.20348.2031
	Compiler: clang 15.0.7, gcc 8.1.0 (MinGW), and MSVC VS 17.9

RHEL8
	Kernel: 5.4.0-167-generic
	Compiler: gcc 8.5.0 20210514 (Red Hat 8.5.0-20)

Fedora 37
	Kernel: Depends on container host system
	Compiler: gcc 12.3.1

openSUSE Leap 15
	Kernel: 5.4.0-167-generic
	Compiler: gcc 7.5.0

Ubuntu 22.04
	Kernel: 5.4.0-167-generic
	Compiler: gcc 11.4.0

Ubuntu 20.04
	Kernel: 5.4.0-167-generic
	Compiler: gcc 9.4.0-1ubuntu1~20.04.1

To view detailed results, visit:
https://lab.dpdk.org/results/dashboard/patchsets/29641/

UNH-IOL DPDK Community Lab

To manage your email subscriptions, visit: 
https://lab.dpdk.org/results/dashboard/preferences/subscriptions/