From mboxrd@z Thu Jan  1 00:00:00 1970
Return-Path: <test-report-bounces@dpdk.org>
Received: from mails.dpdk.org (mails.dpdk.org [217.70.189.124])
	by inbox.dpdk.org (Postfix) with ESMTP id C235D43D24
	for <public@inbox.dpdk.org>; Fri, 22 Mar 2024 18:08:06 +0100 (CET)
Received: from mails.dpdk.org (localhost [127.0.0.1])
	by mails.dpdk.org (Postfix) with ESMTP id BDC7E40294;
	Fri, 22 Mar 2024 18:08:06 +0100 (CET)
Received: from mail-oa1-f97.google.com (mail-oa1-f97.google.com
 [209.85.160.97]) by mails.dpdk.org (Postfix) with ESMTP id 123E242EB6
 for <test-report@dpdk.org>; Fri, 22 Mar 2024 18:07:45 +0100 (CET)
Received: by mail-oa1-f97.google.com with SMTP id
 586e51a60fabf-220ee7342ddso937965fac.3
 for <test-report@dpdk.org>; Fri, 22 Mar 2024 10:07:45 -0700 (PDT)
DKIM-Signature: v=1; a=rsa-sha256; c=relaxed/relaxed;
 d=iol.unh.edu; s=unh-iol; t=1711127264; x=1711732064; darn=dpdk.org;
 h=references:in-reply-to:cc:to:from:subject:message-id:date:from:to
 :cc:subject:date:message-id:reply-to;
 bh=UTJEWjUHAk6vvhNq+W0QNFZj4l9G5L5WVMldrGoy2nI=;
 b=UnP46tbXUMaONxspVGZnrsrsKr7QUzUz/lOo0Iggz9au20XaUZIsSk419PY/dOPu12
 wDIy0CeNF2JMAqoeiWzw21eYfOJEOJ/JL3IzbIYJA6To+L/kM9aI3dleblMkWpffqMyT
 UqfpQ5wexWaarSFDy4Vx+ojbqD2yUxM+TcJOs=
X-Google-DKIM-Signature: v=1; a=rsa-sha256; c=relaxed/relaxed;
 d=1e100.net; s=20230601; t=1711127264; x=1711732064;
 h=references:in-reply-to:cc:to:from:subject:message-id:date
 :x-gm-message-state:from:to:cc:subject:date:message-id:reply-to;
 bh=UTJEWjUHAk6vvhNq+W0QNFZj4l9G5L5WVMldrGoy2nI=;
 b=Y98huZrUdrAK8BVFsshx6iof3vI//uzcx8C05GT1vKWZwxiSS5WxpD9nbzVcL2ozfI
 02il3w09GNu2d2ImmpC3CtJhhdLaWp5WxVH22AlKQVKhRm21rC516S2ng0aPIOuiCrHh
 JyeULPecFjH6SNQlOvpJKtYqlWc5KuIIAJhRluHlY7IYUZ40Or6Ia+5Pzzp81pKZC7M1
 ehUOZInFXggnogHW5nzb7BQTsJZ9rBtD7Mrn7QEZjoh2xSvQXUFkeS0CGsHhxmeyhnuh
 rkDiRmrxNvz4Wkqn51r8lYW/0E196+56RWhnxmuE7EwQSAy9m2lJKVax7dQZn+kJQw0X
 MIUg==
X-Gm-Message-State: AOJu0YzLY0u6iIDejuxnoXRtzkhz3OCSMvwcfi6Wql6tU9NU/f0bYQGN
 Y6K5OTlLHJwQnykxFc2BCTfu2CQWbN6jjTmXM7PEkJgcSQ0b1sSs1scREME4ZX7ZJYS+uJWbQN7
 2jCgf22s77tLWMHR/PrOjUKmcj+uDbNkeKHyjQyxn
X-Google-Smtp-Source: AGHT+IF0bDBVm4TNcoWHT6F9sZhKFYuPRNzAaxumQF5/IKHk//g7NHbZbA7ZC64CQ9HaT72PZ04qCt0q1C+8
X-Received: by 2002:a05:6870:1381:b0:229:f106:492d with SMTP id
 1-20020a056870138100b00229f106492dmr401208oas.12.1711127264355; 
 Fri, 22 Mar 2024 10:07:44 -0700 (PDT)
Received: from postal.iol.unh.edu (postal.iol.unh.edu. [132.177.123.84])
 by smtp-relay.gmail.com with ESMTPS id
 z6-20020a056870e14600b002184d729384sm1203oaa.48.2024.03.22.10.07.44
 (version=TLS1_2 cipher=ECDHE-ECDSA-AES128-GCM-SHA256 bits=128/128);
 Fri, 22 Mar 2024 10:07:44 -0700 (PDT)
X-Relaying-Domain: iol.unh.edu
Date: Fri, 22 Mar 2024 10:07:44 -0700 (PDT)
Message-ID: <65fdbae0.050a0220.f6614.0116SMTPIN_ADDED_MISSING@mx.google.com>
Received: from [172.21.0.8] (unknown [172.18.0.240])
 by postal.iol.unh.edu (Postfix) with ESMTP id F27C26052471;
 Fri, 22 Mar 2024 13:07:43 -0400 (EDT)
Subject: |SUCCESS| pw138749-138750 [PATCH] [2/2] devtools: check that maintai
From: dpdklab@iol.unh.edu
To: Test Report <test-report@dpdk.org>
Cc: dpdk-test-reports@iol.unh.edu
In-Reply-To: <20240322161406.996890-2-david.marchand@redhat.com>
References: <20240322161406.996890-2-david.marchand@redhat.com>
Content-Type: text/plain
X-BeenThere: test-report@dpdk.org
X-Mailman-Version: 2.1.29
Precedence: list
List-Id: automatic DPDK test reports <test-report.dpdk.org>
List-Unsubscribe: <https://mails.dpdk.org/options/test-report>,
 <mailto:test-report-request@dpdk.org?subject=unsubscribe>
List-Archive: <http://mails.dpdk.org/archives/test-report/>
List-Post: <mailto:test-report@dpdk.org>
List-Help: <mailto:test-report-request@dpdk.org?subject=help>
List-Subscribe: <https://mails.dpdk.org/listinfo/test-report>,
 <mailto:test-report-request@dpdk.org?subject=subscribe>
Errors-To: test-report-bounces@dpdk.org

Test-Label: iol-compile-amd64-testing
Test-Status: SUCCESS
http://dpdk.org/patch/138750

_Testing PASS_

Submitter: David Marchand <david.marchand@redhat.com>
Date: Friday, March 22 2024 16:14:06 
DPDK git baseline: Repo:dpdk
  Branch: master
  CommitID:0219d467bcb1d19b386b5bae8eecd3514ba13fdb

138749-138750 --> testing pass

Test environment and result as below:

+---------------------+--------------------+----------------------+-------------------+
|     Environment     | dpdk_meson_compile | dpdk_mingw64_compile | dpdk_msvc_compile |
+=====================+====================+======================+===================+
| FreeBSD 13.2        | PASS               | SKIPPED              | SKIPPED           |
+---------------------+--------------------+----------------------+-------------------+
| CentOS Stream 9     | PASS               | SKIPPED              | SKIPPED           |
+---------------------+--------------------+----------------------+-------------------+
| CentOS Stream 8     | PASS               | SKIPPED              | SKIPPED           |
+---------------------+--------------------+----------------------+-------------------+
| Debian Bullseye     | PASS               | SKIPPED              | SKIPPED           |
+---------------------+--------------------+----------------------+-------------------+
| Debian 11 (arm)     | PASS               | SKIPPED              | SKIPPED           |
+---------------------+--------------------+----------------------+-------------------+
| Windows Server 2019 | PASS               | PASS                 | SKIPPED           |
+---------------------+--------------------+----------------------+-------------------+
| Windows Server 2022 | PASS               | PASS                 | PASS              |
+---------------------+--------------------+----------------------+-------------------+
| RHEL8               | PASS               | SKIPPED              | SKIPPED           |
+---------------------+--------------------+----------------------+-------------------+
| Fedora 37           | PASS               | SKIPPED              | SKIPPED           |
+---------------------+--------------------+----------------------+-------------------+
| openSUSE Leap 15    | PASS               | SKIPPED              | SKIPPED           |
+---------------------+--------------------+----------------------+-------------------+
| Ubuntu 22.04        | PASS               | SKIPPED              | SKIPPED           |
+---------------------+--------------------+----------------------+-------------------+
| Ubuntu 20.04        | PASS               | SKIPPED              | SKIPPED           |
+---------------------+--------------------+----------------------+-------------------+
| Alpine              | PASS               | SKIPPED              | SKIPPED           |
+---------------------+--------------------+----------------------+-------------------+


FreeBSD 13.2
	Kernel: 13.2
	Compiler: clang 14.0.5

CentOS Stream 9
	Kernel: 5.4.0-167-generic
	Compiler: gcc 11.4.1 20230605

CentOS Stream 8
	Kernel: 5.4.0-167-generic
	Compiler: gcc 8.5.0 20210514

Debian Bullseye
	Kernel: 5.4.0-167-generic
	Compiler: gcc 10.2.1-6

Debian 11 (arm)
	Kernel: Container Host Kernel
	Compiler: gcc 10.2.1

Windows Server 2019
	Kernel: 10.0.17763
	Compiler: clang 14.0 and gcc 8.1.0 (MinGW)

Windows Server 2022
	Kernel: 10.0.20348.2031
	Compiler: clang 15.0.7, gcc 8.1.0 (MinGW), and MSVC VS 17.9

RHEL8
	Kernel: 5.4.0-167-generic
	Compiler: gcc 8.5.0 20210514 (Red Hat 8.5.0-20)

Fedora 37
	Kernel: Depends on container host system
	Compiler: gcc 12.3.1

openSUSE Leap 15
	Kernel: 5.4.0-167-generic
	Compiler: gcc 7.5.0

Ubuntu 22.04
	Kernel: 5.4.0-167-generic
	Compiler: gcc 11.4.0

Ubuntu 20.04
	Kernel: 5.4.0-167-generic
	Compiler: gcc 9.4.0-1ubuntu1~20.04.1

Alpine
	Kernel: 5.4.0-167-generic
	Compiler: gcc (Alpine 12.2.1_git20220924-r10) 12.2.1 20220924

To view detailed results, visit:
https://lab.dpdk.org/results/dashboard/patchsets/29641/

UNH-IOL DPDK Community Lab

To manage your email subscriptions, visit: 
https://lab.dpdk.org/results/dashboard/preferences/subscriptions/