From mboxrd@z Thu Jan  1 00:00:00 1970
Return-Path: <test-report-bounces@dpdk.org>
Received: from mails.dpdk.org (mails.dpdk.org [217.70.189.124])
	by inbox.dpdk.org (Postfix) with ESMTP id E0BA443D24
	for <public@inbox.dpdk.org>; Fri, 22 Mar 2024 18:26:03 +0100 (CET)
Received: from mails.dpdk.org (localhost [127.0.0.1])
	by mails.dpdk.org (Postfix) with ESMTP id DC29740294;
	Fri, 22 Mar 2024 18:26:03 +0100 (CET)
Received: from mail-yw1-f225.google.com (mail-yw1-f225.google.com
 [209.85.128.225])
 by mails.dpdk.org (Postfix) with ESMTP id E9F6440284
 for <test-report@dpdk.org>; Fri, 22 Mar 2024 18:26:02 +0100 (CET)
Received: by mail-yw1-f225.google.com with SMTP id
 00721157ae682-60a104601dcso26711047b3.2
 for <test-report@dpdk.org>; Fri, 22 Mar 2024 10:26:02 -0700 (PDT)
DKIM-Signature: v=1; a=rsa-sha256; c=relaxed/relaxed;
 d=iol.unh.edu; s=unh-iol; t=1711128362; x=1711733162; darn=dpdk.org;
 h=references:in-reply-to:cc:to:from:subject:message-id:date:from:to
 :cc:subject:date:message-id:reply-to;
 bh=LGuqOwBzqWl8C1xpmYmA0m/XR/NrLAQ4SA9xF14AkzY=;
 b=UgfrEJaoDzNhDqQ3ukdoa9CpWqfQwxmAV2XRfO9H0AIaOpD7C85SAawx0UVezoUP7y
 duwKzwX/Xd1vFpbxlAI3TNZlPeFFQNyie6R4BmlwuG9Vqay1+eDgiSXFpq2iMG6VJ2U8
 wFboBGK2P6lL0g1RUWX4+IpOalF5vdYg6btJw=
X-Google-DKIM-Signature: v=1; a=rsa-sha256; c=relaxed/relaxed;
 d=1e100.net; s=20230601; t=1711128362; x=1711733162;
 h=references:in-reply-to:cc:to:from:subject:message-id:date
 :x-gm-message-state:from:to:cc:subject:date:message-id:reply-to;
 bh=LGuqOwBzqWl8C1xpmYmA0m/XR/NrLAQ4SA9xF14AkzY=;
 b=USc6j+T/9S72nCgjht7gW6xm45yR4HyNm4PUlgOBcAbxjy2U2NM+0O9KvZctmw9nO5
 pnMFbDgwppoavEu5SADOeWHNhYTMVizjabJFMB8LZu+qcmdXjqiAjcMde/+RMGYYljtO
 gp2wIeDrBiU+m1uO/2O2oIn3wZBqHD29iJ9lfjDoaOLtZDORnRj//7B2nIAazd+jQI8F
 HaEnk1cPGYAfRjwjiKuQStp5rhvTVlU/DNH5duwBFNwGgLQDhGTIil08iax42F7ffnuv
 eG74KJm6BB8Hr89CpCQXR3ZeAtPqfBTnSTL6zgaHrwSGpynmJn4XIp7L1P3BToN9jX7u
 jixQ==
X-Gm-Message-State: AOJu0YxaDzTT97lC0NyMN6ZsVCYmWOtsF9VOkntRj5C1YHGIKHGCbfnk
 CqmPoG29sZq2oLd/hykIrsEcjcfol5QboT9Ro718U3IpCiVd0oRxQ4HcMBApbI2ETWi8OXj08u3
 nF4Y6uQ+uBfm23XjB8WVkminbq8CsMERZ6mzpPzWmfG+r8f7AI9jHRH+z
X-Google-Smtp-Source: AGHT+IEQrdIAd96HC6cPmc/k5SLzQ5qvhkVs5tzyo+Iu6G52D2dx52b3fOLyv9ZoYLUAd3mhVXzdt7iFGqN1
X-Received: by 2002:a25:8004:0:b0:dcf:2cfe:c82e with SMTP id
 m4-20020a258004000000b00dcf2cfec82emr2813530ybk.55.1711128362289; 
 Fri, 22 Mar 2024 10:26:02 -0700 (PDT)
Received: from postal.iol.unh.edu (postal.iol.unh.edu.
 [2606:4100:3880:1234::84]) by smtp-relay.gmail.com with ESMTPS id
 h191-20020a25d0c8000000b00dc749e40c9dsm131164ybg.23.2024.03.22.10.26.02
 (version=TLS1_2 cipher=ECDHE-ECDSA-AES128-GCM-SHA256 bits=128/128);
 Fri, 22 Mar 2024 10:26:02 -0700 (PDT)
X-Relaying-Domain: iol.unh.edu
Date: Fri, 22 Mar 2024 10:26:02 -0700 (PDT)
Message-ID: <65fdbf2a.250a0220.40c25.6ba6SMTPIN_ADDED_MISSING@mx.google.com>
Received: from [172.21.0.6] (unknown [172.18.0.240])
 by postal.iol.unh.edu (Postfix) with ESMTP id E492A6052471;
 Fri, 22 Mar 2024 13:26:01 -0400 (EDT)
Subject: |SUCCESS| pw138749-138750 [PATCH] [2/2] devtools: check that maintai
From: dpdklab@iol.unh.edu
To: Test Report <test-report@dpdk.org>
Cc: dpdk-test-reports@iol.unh.edu
In-Reply-To: <20240322161406.996890-2-david.marchand@redhat.com>
References: <20240322161406.996890-2-david.marchand@redhat.com>
Content-Type: text/plain
X-BeenThere: test-report@dpdk.org
X-Mailman-Version: 2.1.29
Precedence: list
List-Id: automatic DPDK test reports <test-report.dpdk.org>
List-Unsubscribe: <https://mails.dpdk.org/options/test-report>,
 <mailto:test-report-request@dpdk.org?subject=unsubscribe>
List-Archive: <http://mails.dpdk.org/archives/test-report/>
List-Post: <mailto:test-report@dpdk.org>
List-Help: <mailto:test-report-request@dpdk.org?subject=help>
List-Subscribe: <https://mails.dpdk.org/listinfo/test-report>,
 <mailto:test-report-request@dpdk.org?subject=subscribe>
Errors-To: test-report-bounces@dpdk.org

Test-Label: iol-abi-testing
Test-Status: SUCCESS
http://dpdk.org/patch/138750

_Testing PASS_

Submitter: David Marchand <david.marchand@redhat.com>
Date: Friday, March 22 2024 16:14:06 
DPDK git baseline: Repo:dpdk
  Branch: master
  CommitID:0219d467bcb1d19b386b5bae8eecd3514ba13fdb

138749-138750 --> testing pass

Test environment and result as below:

+------------------+----------+
|   Environment    | abi_test |
+==================+==========+
| openSUSE Leap 15 | PASS     |
+------------------+----------+
| RHEL8            | PASS     |
+------------------+----------+
| Debian Bullseye  | PASS     |
+------------------+----------+
| CentOS Stream 8  | PASS     |
+------------------+----------+
| CentOS Stream 9  | PASS     |
+------------------+----------+
| Fedora 38        | PASS     |
+------------------+----------+
| Fedora 37        | PASS     |
+------------------+----------+
| Ubuntu 22.04     | PASS     |
+------------------+----------+
| Debian 11 (arm)  | PASS     |
+------------------+----------+


openSUSE Leap 15
	Kernel: 5.4.0-167-generic
	Compiler: gcc 7.5.0

RHEL8
	Kernel: 5.4.0-167-generic
	Compiler: gcc 8.5.0 20210514 (Red Hat 8.5.0-20)

Debian Bullseye
	Kernel: 5.4.0-167-generic
	Compiler: gcc 10.2.1-6

CentOS Stream 8
	Kernel: 5.4.0-167-generic
	Compiler: gcc 8.5.0 20210514

CentOS Stream 9
	Kernel: 5.4.0-167-generic
	Compiler: gcc 11.4.1 20230605

Fedora 38
	Kernel: Depends on container host
	Compiler: clang 16.0.6

Fedora 37
	Kernel: Depends on container host system
	Compiler: gcc 12.3.1

Ubuntu 22.04
	Kernel: 5.4.0-167-generic
	Compiler: gcc 11.4.0

Debian 11 (arm)
	Kernel: Container Host Kernel
	Compiler: gcc 10.2.1

To view detailed results, visit:
https://lab.dpdk.org/results/dashboard/patchsets/29641/

UNH-IOL DPDK Community Lab

To manage your email subscriptions, visit: 
https://lab.dpdk.org/results/dashboard/preferences/subscriptions/