From mboxrd@z Thu Jan  1 00:00:00 1970
Return-Path: <test-report-bounces@dpdk.org>
Received: from mails.dpdk.org (mails.dpdk.org [217.70.189.124])
	by inbox.dpdk.org (Postfix) with ESMTP id 304AC43D24
	for <public@inbox.dpdk.org>; Fri, 22 Mar 2024 18:50:16 +0100 (CET)
Received: from mails.dpdk.org (localhost [127.0.0.1])
	by mails.dpdk.org (Postfix) with ESMTP id 2C11840294;
	Fri, 22 Mar 2024 18:50:16 +0100 (CET)
Received: from mail-yw1-f225.google.com (mail-yw1-f225.google.com
 [209.85.128.225])
 by mails.dpdk.org (Postfix) with ESMTP id 59FFE40284
 for <test-report@dpdk.org>; Fri, 22 Mar 2024 18:50:15 +0100 (CET)
Received: by mail-yw1-f225.google.com with SMTP id
 00721157ae682-609f4d8551eso27449987b3.1
 for <test-report@dpdk.org>; Fri, 22 Mar 2024 10:50:15 -0700 (PDT)
DKIM-Signature: v=1; a=rsa-sha256; c=relaxed/relaxed;
 d=iol.unh.edu; s=unh-iol; t=1711129814; x=1711734614; darn=dpdk.org;
 h=references:in-reply-to:cc:to:from:subject:message-id:date:from:to
 :cc:subject:date:message-id:reply-to;
 bh=QyLEF6gxzO/nXsc6g+bJ/Gaf1AzcWy1YVuJf+5jUhJw=;
 b=f3jcuqNJboG06j3+E0UpE8t4/rZYPyL85GPVYL5usUsu7VbQdft71c7mBANTZSIjLV
 0A4sV/Ahemzu/+vpAhQ5DNTI5jL7LGxKag82lSTiqeXjLaFz3qAHaES7ScdVFS8SuVm4
 cwfF29CX/+TmMKwX6cyLHdTJ5YJxS6s+xzZ7o=
X-Google-DKIM-Signature: v=1; a=rsa-sha256; c=relaxed/relaxed;
 d=1e100.net; s=20230601; t=1711129814; x=1711734614;
 h=references:in-reply-to:cc:to:from:subject:message-id:date
 :x-gm-message-state:from:to:cc:subject:date:message-id:reply-to;
 bh=QyLEF6gxzO/nXsc6g+bJ/Gaf1AzcWy1YVuJf+5jUhJw=;
 b=oYBCfm3swTUImRf/m00ZRekVbYbxPGPgq4M6N5Z3iwqZEEpS8oVJayf7bU37y8BDO0
 PKl7tNUDVch+SThmafz08P/mCgJITc9r6jZ5Iok1NTkHbI5mtbhzT4EvxMPYwuwqDM6r
 CQ165LTNZ95t8g2LBqjkntIfHE4HFxv1HTIBqGWpeOjjFanI1Z3Hd895wBP7+T9z3mqq
 qM81T1ApZlLVaNhD8TOt3lNlSEvq/qu3V7QzG4/0l5y+P0GgjQP2IZU3J5zsQoBsrd4l
 gTCVLjRbPIIwzVK6+8Z8x5xpUopUANt8t7cSKRFDiKQ3+5c4lK43lA9pOHP/QQHQWH6R
 /cIQ==
X-Gm-Message-State: AOJu0YxTELlClG7sEGTWngj4ABoJmPKYh06UcrJjJL3cYmpW/ZlfElzN
 k51HI7Sx80TPzodt0dDfPUaU6GWjuIFSU2uH/14NOD6geA4Ao1/St5h9ReBL0WezqT5OjSiJ3E7
 M59Ob1//TUMvxcjx6o/36hQI4KzMvnB5ZNYfMBb8VGnd9KyEsCvp0iWe7
X-Google-Smtp-Source: AGHT+IHpgYNaTyHZI9trTwBeoz+KyVaAiQHjmJSLOYzdjj0kvJQtl405F6Ls4+Fk5IJkkk+zKWljdl9GwsCT
X-Received: by 2002:a81:a1c4:0:b0:611:1e6c:86ae with SMTP id
 y187-20020a81a1c4000000b006111e6c86aemr256303ywg.16.1711129814705; 
 Fri, 22 Mar 2024 10:50:14 -0700 (PDT)
Received: from postal.iol.unh.edu (postal.iol.unh.edu.
 [2606:4100:3880:1234::84]) by smtp-relay.gmail.com with ESMTPS id
 r199-20020a819ad0000000b0060ccdf1f9d6sm643ywg.18.2024.03.22.10.50.14
 (version=TLS1_2 cipher=ECDHE-ECDSA-AES128-GCM-SHA256 bits=128/128);
 Fri, 22 Mar 2024 10:50:14 -0700 (PDT)
X-Relaying-Domain: iol.unh.edu
Date: Fri, 22 Mar 2024 10:50:14 -0700 (PDT)
Message-ID: <65fdc4d6.810a0220.41c7a.008fSMTPIN_ADDED_MISSING@mx.google.com>
Received: from [172.21.0.7] (unknown [172.18.0.240])
 by postal.iol.unh.edu (Postfix) with ESMTP id 5C4936052471;
 Fri, 22 Mar 2024 13:50:14 -0400 (EDT)
Subject: |SUCCESS| pw138749-138750 [PATCH] [2/2] devtools: check that maintai
From: dpdklab@iol.unh.edu
To: Test Report <test-report@dpdk.org>
Cc: dpdk-test-reports@iol.unh.edu
In-Reply-To: <20240322161406.996890-2-david.marchand@redhat.com>
References: <20240322161406.996890-2-david.marchand@redhat.com>
Content-Type: text/plain
X-BeenThere: test-report@dpdk.org
X-Mailman-Version: 2.1.29
Precedence: list
List-Id: automatic DPDK test reports <test-report.dpdk.org>
List-Unsubscribe: <https://mails.dpdk.org/options/test-report>,
 <mailto:test-report-request@dpdk.org?subject=unsubscribe>
List-Archive: <http://mails.dpdk.org/archives/test-report/>
List-Post: <mailto:test-report@dpdk.org>
List-Help: <mailto:test-report-request@dpdk.org?subject=help>
List-Subscribe: <https://mails.dpdk.org/listinfo/test-report>,
 <mailto:test-report-request@dpdk.org?subject=subscribe>
Errors-To: test-report-bounces@dpdk.org

Test-Label: iol-unit-amd64-testing
Test-Status: SUCCESS
http://dpdk.org/patch/138750

_Testing PASS_

Submitter: David Marchand <david.marchand@redhat.com>
Date: Friday, March 22 2024 16:14:06 
DPDK git baseline: Repo:dpdk
  Branch: master
  CommitID:0219d467bcb1d19b386b5bae8eecd3514ba13fdb

138749-138750 --> testing pass

Test environment and result as below:

+---------------------+----------------+
|     Environment     | dpdk_unit_test |
+=====================+================+
| Windows Server 2019 | PASS           |
+---------------------+----------------+
| Debian Bullseye     | PASS           |
+---------------------+----------------+
| CentOS Stream 8     | PASS           |
+---------------------+----------------+
| CentOS Stream 9     | PASS           |
+---------------------+----------------+
| Windows Server 2022 | PASS           |
+---------------------+----------------+
| Debian 11 (arm)     | PASS           |
+---------------------+----------------+
| Fedora 37           | PASS           |
+---------------------+----------------+
| RHEL8               | PASS           |
+---------------------+----------------+
| Fedora 38           | PASS           |
+---------------------+----------------+
| Ubuntu 22.04        | PASS           |
+---------------------+----------------+
| Ubuntu 20.04        | PASS           |
+---------------------+----------------+
| openSUSE Leap 15    | PASS           |
+---------------------+----------------+


Windows Server 2019
	Kernel: 10.0.17763
	Compiler: clang 14.0 and gcc 8.1.0 (MinGW)

Debian Bullseye
	Kernel: 5.4.0-167-generic
	Compiler: gcc 10.2.1-6

CentOS Stream 8
	Kernel: 5.4.0-167-generic
	Compiler: gcc 8.5.0 20210514

CentOS Stream 9
	Kernel: 5.4.0-167-generic
	Compiler: gcc 11.4.1 20230605

Windows Server 2022
	Kernel: 10.0.20348.2031
	Compiler: clang 15.0.7, gcc 8.1.0 (MinGW), and MSVC VS 17.9

Debian 11 (arm)
	Kernel: Container Host Kernel
	Compiler: gcc 10.2.1

Fedora 37
	Kernel: Depends on container host system
	Compiler: gcc 12.3.1

RHEL8
	Kernel: 5.4.0-167-generic
	Compiler: gcc 8.5.0 20210514 (Red Hat 8.5.0-20)

Fedora 38
	Kernel: Depends on container host
	Compiler: gcc 13.2.1

Ubuntu 22.04
	Kernel: 5.4.0-167-generic
	Compiler: gcc 11.4.0

Ubuntu 20.04
	Kernel: 5.4.0-167-generic
	Compiler: gcc 9.4.0-1ubuntu1~20.04.1

openSUSE Leap 15
	Kernel: 5.4.0-167-generic
	Compiler: gcc 7.5.0

To view detailed results, visit:
https://lab.dpdk.org/results/dashboard/patchsets/29641/

UNH-IOL DPDK Community Lab

To manage your email subscriptions, visit: 
https://lab.dpdk.org/results/dashboard/preferences/subscriptions/