From mboxrd@z Thu Jan  1 00:00:00 1970
Return-Path: <test-report-bounces@dpdk.org>
Received: from mails.dpdk.org (mails.dpdk.org [217.70.189.124])
	by inbox.dpdk.org (Postfix) with ESMTP id 315C043D26
	for <public@inbox.dpdk.org>; Fri, 22 Mar 2024 22:30:47 +0100 (CET)
Received: from mails.dpdk.org (localhost [127.0.0.1])
	by mails.dpdk.org (Postfix) with ESMTP id 2B838402A7;
	Fri, 22 Mar 2024 22:30:47 +0100 (CET)
Received: from mail-qt1-f227.google.com (mail-qt1-f227.google.com
 [209.85.160.227])
 by mails.dpdk.org (Postfix) with ESMTP id 2053740284
 for <test-report@dpdk.org>; Fri, 22 Mar 2024 22:30:41 +0100 (CET)
Received: by mail-qt1-f227.google.com with SMTP id
 d75a77b69052e-430ca04b09bso18838741cf.1
 for <test-report@dpdk.org>; Fri, 22 Mar 2024 14:30:41 -0700 (PDT)
DKIM-Signature: v=1; a=rsa-sha256; c=relaxed/relaxed;
 d=iol.unh.edu; s=unh-iol; t=1711143040; x=1711747840; darn=dpdk.org;
 h=references:in-reply-to:cc:to:from:subject:message-id:date:from:to
 :cc:subject:date:message-id:reply-to;
 bh=3U6O9pmpGPEoxu8qvgCoOBjC7v+GqeB+JWEOEE+sQf0=;
 b=OTVLiAQfFjxaXDQAG5ihhVHqQrbrcrRRPSzEELVRFCZX8pAYalVDrykNotxuwf79+o
 5f09ZRWJyxM7xkpCa3KQBpnbGOqlM/53nxcWXMSnX+dDGDkPHMYEFSRMf3v9U0pVK3dS
 QwIBvWzbMbkwbrJbeAiIqJ6fOOhTIGXINx/dA=
X-Google-DKIM-Signature: v=1; a=rsa-sha256; c=relaxed/relaxed;
 d=1e100.net; s=20230601; t=1711143040; x=1711747840;
 h=references:in-reply-to:cc:to:from:subject:message-id:date
 :x-gm-message-state:from:to:cc:subject:date:message-id:reply-to;
 bh=3U6O9pmpGPEoxu8qvgCoOBjC7v+GqeB+JWEOEE+sQf0=;
 b=hfxT8jBrHZKmufXKD2qa2E0KaS/wyYgxm4dTLNEPHyuBD5KxZqq5cD5xe2rdeFGC9x
 IzphC9L/bLs4rzeVhrTqGHpOeDz2vrgQDX27XqXYondiNdwQ3+cvn/LJTIhM87RWf0Rk
 bCfP2OGjknLruaTLgPR6mprTMlBFqcMKNx7wqh4T5fXwGPQawXYSOw4Hm+uq/pNqyY9s
 UujolLd28f/InU0WHPJDXCpDBh2s2jKTyb1zqvH3jzT/tpKGou7sr4/whgTFjpIPJ50h
 vS4jC2iwShWCiLWYS7DItoxSZ5VS1mGCUiZ5CGB4wFiDSzIkELlZvHxfXf6kA2QBdm5U
 t6+A==
X-Gm-Message-State: AOJu0YwyE9gVPM77i+tyYD/mv6fDhU89KUKZ6hi84x6Z5zk0bzcp8Lef
 jGwM9g7IujZDtFkJGVMchDNzc9XsStc1KNBcrWTdYp4avrHsF0f9Mtaj89Jl9ZLdmi+e5AbQnAG
 zmnlt4EJUAXZuGEoldqshWcLkp29nhX1/CPOkwQbF
X-Google-Smtp-Source: AGHT+IFofbhxTQm15vdP8H+7nZ1p5wtIKL4ez2d1OK3B0OjJp7uq5fEw1Nv7RHmvw90W/sCiW5faJGR6SYCU
X-Received: by 2002:a05:6214:27e6:b0:693:7301:915a with SMTP id
 jt6-20020a05621427e600b006937301915amr808435qvb.55.1711143040212; 
 Fri, 22 Mar 2024 14:30:40 -0700 (PDT)
Received: from postal.iol.unh.edu (postal.iol.unh.edu. [132.177.123.84])
 by smtp-relay.gmail.com with ESMTPS id
 10-20020a05621420aa00b006912140e82dsm212690qvd.30.2024.03.22.14.30.40
 (version=TLS1_2 cipher=ECDHE-ECDSA-AES128-GCM-SHA256 bits=128/128);
 Fri, 22 Mar 2024 14:30:40 -0700 (PDT)
X-Relaying-Domain: iol.unh.edu
Date: Fri, 22 Mar 2024 14:30:40 -0700 (PDT)
Message-ID: <65fdf880.050a0220.ce7aa.d8e2SMTPIN_ADDED_MISSING@mx.google.com>
Received: from [172.21.0.7] (unknown [172.18.0.240])
 by postal.iol.unh.edu (Postfix) with ESMTP id DEC5C6052471;
 Fri, 22 Mar 2024 17:30:39 -0400 (EDT)
Subject: |SUCCESS| pw138745 [PATCH] Spelling: Fix Spelling mistake.
From: dpdklab@iol.unh.edu
To: Test Report <test-report@dpdk.org>
Cc: dpdk-test-reports@iol.unh.edu
In-Reply-To: <20240321230529.2677-1-vinh.t.tran10@gmail.com>
References: <20240321230529.2677-1-vinh.t.tran10@gmail.com>
Content-Type: text/plain
X-BeenThere: test-report@dpdk.org
X-Mailman-Version: 2.1.29
Precedence: list
List-Id: automatic DPDK test reports <test-report.dpdk.org>
List-Unsubscribe: <https://mails.dpdk.org/options/test-report>,
 <mailto:test-report-request@dpdk.org?subject=unsubscribe>
List-Archive: <http://mails.dpdk.org/archives/test-report/>
List-Post: <mailto:test-report@dpdk.org>
List-Help: <mailto:test-report-request@dpdk.org?subject=help>
List-Subscribe: <https://mails.dpdk.org/listinfo/test-report>,
 <mailto:test-report-request@dpdk.org?subject=subscribe>
Errors-To: test-report-bounces@dpdk.org

Test-Label: iol-abi-testing
Test-Status: SUCCESS
http://dpdk.org/patch/138745

_Testing PASS_

Submitter: None <vinh.t.tran10@gmail.com>
Date: Thursday, March 21 2024 23:05:29 
DPDK git baseline: Repo:dpdk
  Branch: master
  CommitID:0219d467bcb1d19b386b5bae8eecd3514ba13fdb

138745 --> testing pass

Test environment and result as below:

+------------------+----------+
|   Environment    | abi_test |
+==================+==========+
| Fedora 37        | PASS     |
+------------------+----------+
| CentOS Stream 8  | PASS     |
+------------------+----------+
| Fedora 38        | PASS     |
+------------------+----------+
| Debian 11 (arm)  | PASS     |
+------------------+----------+
| Ubuntu 22.04     | PASS     |
+------------------+----------+
| RHEL8            | PASS     |
+------------------+----------+
| Debian Bullseye  | PASS     |
+------------------+----------+
| openSUSE Leap 15 | PASS     |
+------------------+----------+
| CentOS Stream 9  | PASS     |
+------------------+----------+


Fedora 37
	Kernel: Depends on container host system
	Compiler: gcc 12.3.1

CentOS Stream 8
	Kernel: 5.4.0-167-generic
	Compiler: gcc 8.5.0 20210514

Fedora 38
	Kernel: Depends on container host
	Compiler: gcc 13.2.1

Debian 11 (arm)
	Kernel: Container Host Kernel
	Compiler: gcc 10.2.1

Ubuntu 22.04
	Kernel: 5.4.0-167-generic
	Compiler: gcc 11.4.0

RHEL8
	Kernel: 5.4.0-167-generic
	Compiler: gcc 8.5.0 20210514 (Red Hat 8.5.0-20)

Debian Bullseye
	Kernel: 5.4.0-167-generic
	Compiler: gcc 10.2.1-6

openSUSE Leap 15
	Kernel: 5.4.0-167-generic
	Compiler: gcc 7.5.0

CentOS Stream 9
	Kernel: 5.4.0-167-generic
	Compiler: gcc 11.4.1 20230605

To view detailed results, visit:
https://lab.dpdk.org/results/dashboard/patchsets/29637/

UNH-IOL DPDK Community Lab

To manage your email subscriptions, visit: 
https://lab.dpdk.org/results/dashboard/preferences/subscriptions/