From mboxrd@z Thu Jan  1 00:00:00 1970
Return-Path: <test-report-bounces@dpdk.org>
Received: from mails.dpdk.org (mails.dpdk.org [217.70.189.124])
	by inbox.dpdk.org (Postfix) with ESMTP id A735143D26
	for <public@inbox.dpdk.org>; Fri, 22 Mar 2024 23:04:03 +0100 (CET)
Received: from mails.dpdk.org (localhost [127.0.0.1])
	by mails.dpdk.org (Postfix) with ESMTP id A3A7A42F21;
	Fri, 22 Mar 2024 23:04:03 +0100 (CET)
Received: from mail-io1-f99.google.com (mail-io1-f99.google.com
 [209.85.166.99]) by mails.dpdk.org (Postfix) with ESMTP id 0DE7240284
 for <test-report@dpdk.org>; Fri, 22 Mar 2024 23:04:01 +0100 (CET)
Received: by mail-io1-f99.google.com with SMTP id
 ca18e2360f4ac-7cc01644f51so115779439f.2
 for <test-report@dpdk.org>; Fri, 22 Mar 2024 15:04:01 -0700 (PDT)
DKIM-Signature: v=1; a=rsa-sha256; c=relaxed/relaxed;
 d=iol.unh.edu; s=unh-iol; t=1711145040; x=1711749840; darn=dpdk.org;
 h=references:in-reply-to:cc:to:from:subject:message-id:date:from:to
 :cc:subject:date:message-id:reply-to;
 bh=SyPFdT7msOGOsnuJSfXjKKcZ0/IRilEp1L4D3LPgdfE=;
 b=SzzyllWksfwabbSZWfNf18piHHs+4hQbSoNsgpGLtbqVNzoIXk663AFZ8R6ph0snE6
 Sih0OPh7TNa0baoeKnR7vF0L/1xBBeqTWXM+B3E5aR0SfCSwQspk+k88hzqbd+SCy92O
 gTRdzCJp4mHNVbfP4W+l1rnZSKdh31gmwObrU=
X-Google-DKIM-Signature: v=1; a=rsa-sha256; c=relaxed/relaxed;
 d=1e100.net; s=20230601; t=1711145040; x=1711749840;
 h=references:in-reply-to:cc:to:from:subject:message-id:date
 :x-gm-message-state:from:to:cc:subject:date:message-id:reply-to;
 bh=SyPFdT7msOGOsnuJSfXjKKcZ0/IRilEp1L4D3LPgdfE=;
 b=j+HFHxBVN0E6vStWi7o2GECy8/CUxZOEygGVItgYbui9Dg2TzTBCyNa/qEqbdT4PcJ
 Nr7mdYoQg63i9KfThV1MmIhbfNXjEYaTd933JCuedtvQMjwmDtJgt2D2lNoFtI2J1sZt
 qDNNrbrmD+r7z1+dJ97iuF9jHQz9EN350vDvtSnmL8pM+wm9n4ggFQdvONBiRFxCs6jT
 ZInBhJ50VfDQbE54dPwKy5Sxfvi8ekPZhx4mNYp7IkYeeOi9eTNEdGBS3FkM2xAZcuHG
 YWNCZF1PTYaBprDaPP5pkb+vCrbW+zukoN/jCTxgPlOETYKK8/L/wLdCP79THpKAVxyd
 BwJw==
X-Gm-Message-State: AOJu0YxGkyU1aUjGStebdwYlzXZpSG1uny6qT3pCPWSPc0eNJ+u/Aum6
 0CzgdFUOWRjRFW2BS3Sb8oF7ICsRqu9CQYliPgza91sUF8POM2wnkAZzvKesXNOqn9cWk8ZKkWK
 ckz8m+LrBslGvZiHsYlq9e0IA7rMkUR7vqlY1ue6A
X-Google-Smtp-Source: AGHT+IHHvD3zjR+khrMCk/NDOVDULZ2EMP4+vcriIUNMciTdst6vbmyWNYm1s+6j9fJ9JjzozCz/hwv7Hxbc
X-Received: by 2002:a5e:c10a:0:b0:7d0:3ca0:7137 with SMTP id
 v10-20020a5ec10a000000b007d03ca07137mr707292iol.14.1711145040473; 
 Fri, 22 Mar 2024 15:04:00 -0700 (PDT)
Received: from postal.iol.unh.edu (postal.iol.unh.edu. [132.177.123.84])
 by smtp-relay.gmail.com with ESMTPS id
 x7-20020a056638160700b004769c0f7ef6sm106230jas.17.2024.03.22.15.04.00
 (version=TLS1_2 cipher=ECDHE-ECDSA-AES128-GCM-SHA256 bits=128/128);
 Fri, 22 Mar 2024 15:04:00 -0700 (PDT)
X-Relaying-Domain: iol.unh.edu
Date: Fri, 22 Mar 2024 15:04:00 -0700 (PDT)
Message-ID: <65fe0050.050a0220.c15d7.5575SMTPIN_ADDED_MISSING@mx.google.com>
Received: from [172.21.0.6] (unknown [172.18.0.240])
 by postal.iol.unh.edu (Postfix) with ESMTP id EA2086052471;
 Fri, 22 Mar 2024 18:03:59 -0400 (EDT)
Subject: |SUCCESS| pw138744 [PATCH] Spelling: Fixed a spelling mistake.
From: dpdklab@iol.unh.edu
To: Test Report <test-report@dpdk.org>
Cc: dpdk-test-reports@iol.unh.edu
In-Reply-To: <20240321230352.886-1-florestecien@gmail.com>
References: <20240321230352.886-1-florestecien@gmail.com>
Content-Type: text/plain
X-BeenThere: test-report@dpdk.org
X-Mailman-Version: 2.1.29
Precedence: list
List-Id: automatic DPDK test reports <test-report.dpdk.org>
List-Unsubscribe: <https://mails.dpdk.org/options/test-report>,
 <mailto:test-report-request@dpdk.org?subject=unsubscribe>
List-Archive: <http://mails.dpdk.org/archives/test-report/>
List-Post: <mailto:test-report@dpdk.org>
List-Help: <mailto:test-report-request@dpdk.org?subject=help>
List-Subscribe: <https://mails.dpdk.org/listinfo/test-report>,
 <mailto:test-report-request@dpdk.org?subject=subscribe>
Errors-To: test-report-bounces@dpdk.org

Test-Label: iol-abi-testing
Test-Status: SUCCESS
http://dpdk.org/patch/138744

_Testing PASS_

Submitter: Flore <florestecien@gmail.com>
Date: Thursday, March 21 2024 23:03:52 
DPDK git baseline: Repo:dpdk
  Branch: master
  CommitID:0219d467bcb1d19b386b5bae8eecd3514ba13fdb

138744 --> testing pass

Test environment and result as below:

+------------------+----------+
|   Environment    | abi_test |
+==================+==========+
| Fedora 38        | PASS     |
+------------------+----------+
| Debian Bullseye  | PASS     |
+------------------+----------+
| CentOS Stream 8  | PASS     |
+------------------+----------+
| Fedora 37        | PASS     |
+------------------+----------+
| CentOS Stream 9  | PASS     |
+------------------+----------+
| RHEL8            | PASS     |
+------------------+----------+
| Debian 11 (arm)  | PASS     |
+------------------+----------+
| Ubuntu 22.04     | PASS     |
+------------------+----------+
| openSUSE Leap 15 | PASS     |
+------------------+----------+


Fedora 38
	Kernel: Depends on container host
	Compiler: gcc 13.2.1

Debian Bullseye
	Kernel: 5.4.0-167-generic
	Compiler: gcc 10.2.1-6

CentOS Stream 8
	Kernel: 5.4.0-167-generic
	Compiler: gcc 8.5.0 20210514

Fedora 37
	Kernel: Depends on container host system
	Compiler: gcc 12.3.1

CentOS Stream 9
	Kernel: 5.4.0-167-generic
	Compiler: gcc 11.4.1 20230605

RHEL8
	Kernel: 5.4.0-167-generic
	Compiler: gcc 8.5.0 20210514 (Red Hat 8.5.0-20)

Debian 11 (arm)
	Kernel: Container Host Kernel
	Compiler: gcc 10.2.1

Ubuntu 22.04
	Kernel: 5.4.0-167-generic
	Compiler: gcc 11.4.0

openSUSE Leap 15
	Kernel: 5.4.0-167-generic
	Compiler: gcc 7.5.0

To view detailed results, visit:
https://lab.dpdk.org/results/dashboard/patchsets/29636/

UNH-IOL DPDK Community Lab

To manage your email subscriptions, visit: 
https://lab.dpdk.org/results/dashboard/preferences/subscriptions/