From mboxrd@z Thu Jan  1 00:00:00 1970
Return-Path: <test-report-bounces@dpdk.org>
Received: from mails.dpdk.org (mails.dpdk.org [217.70.189.124])
	by inbox.dpdk.org (Postfix) with ESMTP id E025643D26
	for <public@inbox.dpdk.org>; Fri, 22 Mar 2024 23:08:24 +0100 (CET)
Received: from mails.dpdk.org (localhost [127.0.0.1])
	by mails.dpdk.org (Postfix) with ESMTP id DC5C4402A7;
	Fri, 22 Mar 2024 23:08:24 +0100 (CET)
Received: from mail-il1-f226.google.com (mail-il1-f226.google.com
 [209.85.166.226])
 by mails.dpdk.org (Postfix) with ESMTP id 2DD3140284
 for <test-report@dpdk.org>; Fri, 22 Mar 2024 23:08:22 +0100 (CET)
Received: by mail-il1-f226.google.com with SMTP id
 e9e14a558f8ab-3666affcb59so11906035ab.2
 for <test-report@dpdk.org>; Fri, 22 Mar 2024 15:08:22 -0700 (PDT)
DKIM-Signature: v=1; a=rsa-sha256; c=relaxed/relaxed;
 d=iol.unh.edu; s=unh-iol; t=1711145301; x=1711750101; darn=dpdk.org;
 h=references:in-reply-to:cc:to:from:subject:message-id:date:from:to
 :cc:subject:date:message-id:reply-to;
 bh=SyPFdT7msOGOsnuJSfXjKKcZ0/IRilEp1L4D3LPgdfE=;
 b=KIxbHgiCxMamTBS8jDmwFP+QhrMPBeVaS0ccDLVgowD8rjWE7fbX6g1OzyXzXQ+Wok
 xFGbeOEHcHz+FkdUnfIHH7zoUz76Hi7QXZ79xL/tie0qPwbIVVVC65HgSc07SMXlEnJd
 5Ra4brKHmF+4KeSK87McXe+tLRyrqlZ8vwvh0=
X-Google-DKIM-Signature: v=1; a=rsa-sha256; c=relaxed/relaxed;
 d=1e100.net; s=20230601; t=1711145301; x=1711750101;
 h=references:in-reply-to:cc:to:from:subject:message-id:date
 :x-gm-message-state:from:to:cc:subject:date:message-id:reply-to;
 bh=SyPFdT7msOGOsnuJSfXjKKcZ0/IRilEp1L4D3LPgdfE=;
 b=FcDSyWqY0/smMTE9FXGrMU81vo+8d5yLM+s22dv6Vw9La28rOKVGx7TfpFHlFppeh6
 Ddyh7uLJqminNl7foTi7GV9G+15pwPIXbL0yIYSfwZ/KWfOv+ZJTzRtUGbsuPteiLEO2
 7y+SUIE9T+Yh9gVbmTY85O7UwraxLsDXlofxPLhp2XpZ2B/TZ6UfVhFI7vA+uV6ezy9a
 ZseyTI0D8jmN64iQ7c+4sRjpbHTNjqLYp5hju/D1Hhf+Hy8jCrRk3EPuEyFDUZVzW+ov
 +C5KeThWF0M0TtikaJWXT2uom8C0lfW4dqwbsa5YzQlxa/K7BNto4g53uHPM2JWAy0Zj
 P8+Q==
X-Gm-Message-State: AOJu0Yzc0UhpPKtbooNs4bilOfxjTQXiwqlU9znrroeAvRS22oReToCx
 H5B+A4HjKYm9mCfnUqumZ+qZDROSQU7sB8gMj4mhgVrZRr9l8ZZnlAvaoRrnQb6OaO25X2W9JLF
 YnM6ojSzlEq5ZswZ/uW5kXiwNxFD+bK5TVrByO1PE
X-Google-Smtp-Source: AGHT+IGOYQD3KRt+V493Skjkmow8ElOSAVXzW1MXoUSLc80ODpLPrJjXahcXdDE+DdevIQolu2l4AmfNZoS+
X-Received: by 2002:a92:d0ca:0:b0:366:a7e1:7677 with SMTP id
 y10-20020a92d0ca000000b00366a7e17677mr807724ila.3.1711145301621; 
 Fri, 22 Mar 2024 15:08:21 -0700 (PDT)
Received: from postal.iol.unh.edu (postal.iol.unh.edu. [132.177.123.84])
 by smtp-relay.gmail.com with ESMTPS id
 q11-20020a92ca4b000000b00365ca21bd89sm151386ilo.59.2024.03.22.15.08.21
 (version=TLS1_2 cipher=ECDHE-ECDSA-AES128-GCM-SHA256 bits=128/128);
 Fri, 22 Mar 2024 15:08:21 -0700 (PDT)
X-Relaying-Domain: iol.unh.edu
Date: Fri, 22 Mar 2024 15:08:21 -0700 (PDT)
Message-ID: <65fe0155.920a0220.76bc1.7ca5SMTPIN_ADDED_MISSING@mx.google.com>
Received: from [172.21.0.6] (unknown [172.18.0.240])
 by postal.iol.unh.edu (Postfix) with ESMTP id 1F16A6052471;
 Fri, 22 Mar 2024 18:08:21 -0400 (EDT)
Subject: |SUCCESS| pw138744 [PATCH] Spelling: Fixed a spelling mistake.
From: dpdklab@iol.unh.edu
To: Test Report <test-report@dpdk.org>
Cc: dpdk-test-reports@iol.unh.edu
In-Reply-To: <20240321230352.886-1-florestecien@gmail.com>
References: <20240321230352.886-1-florestecien@gmail.com>
Content-Type: text/plain
X-BeenThere: test-report@dpdk.org
X-Mailman-Version: 2.1.29
Precedence: list
List-Id: automatic DPDK test reports <test-report.dpdk.org>
List-Unsubscribe: <https://mails.dpdk.org/options/test-report>,
 <mailto:test-report-request@dpdk.org?subject=unsubscribe>
List-Archive: <http://mails.dpdk.org/archives/test-report/>
List-Post: <mailto:test-report@dpdk.org>
List-Help: <mailto:test-report-request@dpdk.org?subject=help>
List-Subscribe: <https://mails.dpdk.org/listinfo/test-report>,
 <mailto:test-report-request@dpdk.org?subject=subscribe>
Errors-To: test-report-bounces@dpdk.org

Test-Label: iol-abi-testing
Test-Status: SUCCESS
http://dpdk.org/patch/138744

_Testing PASS_

Submitter: Flore <florestecien@gmail.com>
Date: Thursday, March 21 2024 23:03:52 
DPDK git baseline: Repo:dpdk
  Branch: master
  CommitID:0219d467bcb1d19b386b5bae8eecd3514ba13fdb

138744 --> testing pass

Test environment and result as below:

+------------------+----------+
|   Environment    | abi_test |
+==================+==========+
| Fedora 38        | PASS     |
+------------------+----------+
| Debian Bullseye  | PASS     |
+------------------+----------+
| CentOS Stream 8  | PASS     |
+------------------+----------+
| Fedora 37        | PASS     |
+------------------+----------+
| CentOS Stream 9  | PASS     |
+------------------+----------+
| RHEL8            | PASS     |
+------------------+----------+
| Debian 11 (arm)  | PASS     |
+------------------+----------+
| Ubuntu 22.04     | PASS     |
+------------------+----------+
| openSUSE Leap 15 | PASS     |
+------------------+----------+


Fedora 38
	Kernel: Depends on container host
	Compiler: gcc 13.2.1

Debian Bullseye
	Kernel: 5.4.0-167-generic
	Compiler: gcc 10.2.1-6

CentOS Stream 8
	Kernel: 5.4.0-167-generic
	Compiler: gcc 8.5.0 20210514

Fedora 37
	Kernel: Depends on container host system
	Compiler: gcc 12.3.1

CentOS Stream 9
	Kernel: 5.4.0-167-generic
	Compiler: gcc 11.4.1 20230605

RHEL8
	Kernel: 5.4.0-167-generic
	Compiler: gcc 8.5.0 20210514 (Red Hat 8.5.0-20)

Debian 11 (arm)
	Kernel: Container Host Kernel
	Compiler: gcc 10.2.1

Ubuntu 22.04
	Kernel: 5.4.0-167-generic
	Compiler: gcc 11.4.0

openSUSE Leap 15
	Kernel: 5.4.0-167-generic
	Compiler: gcc 7.5.0

To view detailed results, visit:
https://lab.dpdk.org/results/dashboard/patchsets/29636/

UNH-IOL DPDK Community Lab

To manage your email subscriptions, visit: 
https://lab.dpdk.org/results/dashboard/preferences/subscriptions/