From mboxrd@z Thu Jan  1 00:00:00 1970
Return-Path: <test-report-bounces@dpdk.org>
Received: from mails.dpdk.org (mails.dpdk.org [217.70.189.124])
	by inbox.dpdk.org (Postfix) with ESMTP id 20BDA43D26
	for <public@inbox.dpdk.org>; Fri, 22 Mar 2024 23:27:06 +0100 (CET)
Received: from mails.dpdk.org (localhost [127.0.0.1])
	by mails.dpdk.org (Postfix) with ESMTP id 15F8B42F3B;
	Fri, 22 Mar 2024 23:27:06 +0100 (CET)
Received: from mail-ua1-f98.google.com (mail-ua1-f98.google.com
 [209.85.222.98]) by mails.dpdk.org (Postfix) with ESMTP id 5A7E340284
 for <test-report@dpdk.org>; Fri, 22 Mar 2024 23:27:00 +0100 (CET)
Received: by mail-ua1-f98.google.com with SMTP id
 a1e0cc1a2514c-7e074f8ac06so779081241.1
 for <test-report@dpdk.org>; Fri, 22 Mar 2024 15:27:00 -0700 (PDT)
DKIM-Signature: v=1; a=rsa-sha256; c=relaxed/relaxed;
 d=iol.unh.edu; s=unh-iol; t=1711146419; x=1711751219; darn=dpdk.org;
 h=references:in-reply-to:cc:to:from:subject:message-id:date:from:to
 :cc:subject:date:message-id:reply-to;
 bh=Nl6f3jH2c6jhaixvQDY7SIFWsrY5NlppEkktmzKCgR4=;
 b=Wx+VJJe5n1c+LubIOXQAiL9gPTd+WPHfNRUCZJgsD1CjzRIh3T8boaWqcTrphM/0gR
 /cpuK5BMxbh/sF9TmWKpu522n2v5Rb84IuPVCRT801yjOUdF3cuejzW2OXF7q0BDB088
 T/Cupg9SIMo8w4YmCgvwn4eYpCeGT3oRqB/nk=
X-Google-DKIM-Signature: v=1; a=rsa-sha256; c=relaxed/relaxed;
 d=1e100.net; s=20230601; t=1711146419; x=1711751219;
 h=references:in-reply-to:cc:to:from:subject:message-id:date
 :x-gm-message-state:from:to:cc:subject:date:message-id:reply-to;
 bh=Nl6f3jH2c6jhaixvQDY7SIFWsrY5NlppEkktmzKCgR4=;
 b=LHHWu5zOT2KhIEd6I4EwdRv1gHMiTpivCNuJi5POgXMy+kSoYcqejqeO98PBuhvv4O
 uqqVA4sXJhjJXwY00HY9HmYwbJ1DckX6ITXwXwJzzd1XyaVDDtsxzCCEIZ3RBi+DEsBx
 2TcuI2ByR4X3PGZFME6yvaRu58b0HeakbT2xB3SUT4pEapApRRLNQCDrwuWbnwN74hbY
 /krC5zoX33kp1P2pMjT0arJsE4BWSrxb3AoHWhE8N/02uJAtsR9kSdkNzAautOVbWVNP
 Sclxh28MJK/JLmWSLK570i2Iqaf/fFSS/a1lMqHNnwpb+2qxfVUbd+piy6HDa7SvduI1
 A8kA==
X-Gm-Message-State: AOJu0YwapIWV16leHAdblT8o7/jhIGlwFkf3GROn9NZOZuGvgIcrnX4F
 xM5sE7b3w4PrS6YQ4PVQVXCJD2NgsXL4DvqO6D+77Icdn8WtXaXwMon7BLnKnHxKlPllsW8y3HF
 faLR5U7yrwVzdaCp35oZrd3Bpjf8kjmrzabkAwow+p0/iLL8JIVA2iJwL
X-Google-Smtp-Source: AGHT+IHf3P7Wfqy0JJGw2Cd8oCisNMN/3iarTkAamF3jYaf4R1dGZUE9ZJ5TyNp8OesBvcWjiqwkUNT4XCyw
X-Received: by 2002:a05:6122:a14:b0:4c0:24e6:f49d with SMTP id
 20-20020a0561220a1400b004c024e6f49dmr1253546vkn.1.1711146419597; 
 Fri, 22 Mar 2024 15:26:59 -0700 (PDT)
Received: from postal.iol.unh.edu (postal.iol.unh.edu.
 [2606:4100:3880:1234::84]) by smtp-relay.gmail.com with ESMTPS id
 de34-20020a05612245a200b004cbf532b73dsm77629vkb.11.2024.03.22.15.26.59
 (version=TLS1_2 cipher=ECDHE-ECDSA-AES128-GCM-SHA256 bits=128/128);
 Fri, 22 Mar 2024 15:26:59 -0700 (PDT)
X-Relaying-Domain: iol.unh.edu
Date: Fri, 22 Mar 2024 15:26:59 -0700 (PDT)
Message-ID: <65fe05b3.050a0220.f7a6f.419bSMTPIN_ADDED_MISSING@mx.google.com>
Received: from [172.21.0.6] (unknown [172.18.0.240])
 by postal.iol.unh.edu (Postfix) with ESMTP id 43E376052471;
 Fri, 22 Mar 2024 18:26:59 -0400 (EDT)
Subject: |SUCCESS| pw138745 [PATCH] Spelling: Fix Spelling mistake.
From: dpdklab@iol.unh.edu
To: Test Report <test-report@dpdk.org>
Cc: dpdk-test-reports@iol.unh.edu
In-Reply-To: <20240321230529.2677-1-vinh.t.tran10@gmail.com>
References: <20240321230529.2677-1-vinh.t.tran10@gmail.com>
Content-Type: text/plain
X-BeenThere: test-report@dpdk.org
X-Mailman-Version: 2.1.29
Precedence: list
List-Id: automatic DPDK test reports <test-report.dpdk.org>
List-Unsubscribe: <https://mails.dpdk.org/options/test-report>,
 <mailto:test-report-request@dpdk.org?subject=unsubscribe>
List-Archive: <http://mails.dpdk.org/archives/test-report/>
List-Post: <mailto:test-report@dpdk.org>
List-Help: <mailto:test-report-request@dpdk.org?subject=help>
List-Subscribe: <https://mails.dpdk.org/listinfo/test-report>,
 <mailto:test-report-request@dpdk.org?subject=subscribe>
Errors-To: test-report-bounces@dpdk.org

Test-Label: iol-compile-amd64-testing
Test-Status: SUCCESS
http://dpdk.org/patch/138745

_Testing PASS_

Submitter: None <vinh.t.tran10@gmail.com>
Date: Thursday, March 21 2024 23:05:29 
DPDK git baseline: Repo:dpdk
  Branch: master
  CommitID:0219d467bcb1d19b386b5bae8eecd3514ba13fdb

138745 --> testing pass

Test environment and result as below:

+---------------------+--------------------+----------------------+-------------------+
|     Environment     | dpdk_meson_compile | dpdk_mingw64_compile | dpdk_msvc_compile |
+=====================+====================+======================+===================+
| FreeBSD 13.2        | PASS               | SKIPPED              | SKIPPED           |
+---------------------+--------------------+----------------------+-------------------+
| Windows Server 2019 | PASS               | PASS                 | SKIPPED           |
+---------------------+--------------------+----------------------+-------------------+
| Windows Server 2022 | PASS               | PASS                 | PASS              |
+---------------------+--------------------+----------------------+-------------------+


FreeBSD 13.2
	Kernel: 13.2
	Compiler: clang 14.0.5

Windows Server 2019
	Kernel: 10.0.17763
	Compiler: clang 14.0 and gcc 8.1.0 (MinGW)

Windows Server 2022
	Kernel: 10.0.20348.2031
	Compiler: clang 15.0.7, gcc 8.1.0 (MinGW), and MSVC VS 17.9

To view detailed results, visit:
https://lab.dpdk.org/results/dashboard/patchsets/29637/

UNH-IOL DPDK Community Lab

To manage your email subscriptions, visit: 
https://lab.dpdk.org/results/dashboard/preferences/subscriptions/