From mboxrd@z Thu Jan  1 00:00:00 1970
Return-Path: <test-report-bounces@dpdk.org>
Received: from mails.dpdk.org (mails.dpdk.org [217.70.189.124])
	by inbox.dpdk.org (Postfix) with ESMTP id 0EF7043D21
	for <public@inbox.dpdk.org>; Fri, 22 Mar 2024 23:43:00 +0100 (CET)
Received: from mails.dpdk.org (localhost [127.0.0.1])
	by mails.dpdk.org (Postfix) with ESMTP id 09B29402A7;
	Fri, 22 Mar 2024 23:43:00 +0100 (CET)
Received: from mail-io1-f100.google.com (mail-io1-f100.google.com
 [209.85.166.100])
 by mails.dpdk.org (Postfix) with ESMTP id 9C74540284
 for <test-report@dpdk.org>; Fri, 22 Mar 2024 23:42:58 +0100 (CET)
Received: by mail-io1-f100.google.com with SMTP id
 ca18e2360f4ac-7cc01644f51so116770739f.2
 for <test-report@dpdk.org>; Fri, 22 Mar 2024 15:42:58 -0700 (PDT)
DKIM-Signature: v=1; a=rsa-sha256; c=relaxed/relaxed;
 d=iol.unh.edu; s=unh-iol; t=1711147378; x=1711752178; darn=dpdk.org;
 h=references:in-reply-to:cc:to:from:subject:message-id:date:from:to
 :cc:subject:date:message-id:reply-to;
 bh=RM1GpPbDLIh/gCwxfiOXgq5nfJ2hMCDfU1K1rXIkSyw=;
 b=ejAMOw9+NxhAiAXEXWfcFlArMLUz+QBKkPFmNJWduuqJgEKDU2gEoQE+tZnn/YD0y9
 DwYlbTmvWtDcfsC/WqNeAYyJJ5TkEfyfHUr3v3VSTrjkXP4/1XMOT7dEgDC/iuGl7fQL
 zw14vFwWBg7GHD2nsxizEb5QOt0HEtCkCcr+4=
X-Google-DKIM-Signature: v=1; a=rsa-sha256; c=relaxed/relaxed;
 d=1e100.net; s=20230601; t=1711147378; x=1711752178;
 h=references:in-reply-to:cc:to:from:subject:message-id:date
 :x-gm-message-state:from:to:cc:subject:date:message-id:reply-to;
 bh=RM1GpPbDLIh/gCwxfiOXgq5nfJ2hMCDfU1K1rXIkSyw=;
 b=o4SNjpMnzB1fjxlwF83dCw3waF3JQy4WIXO5IBQxjWPd+tvdtPMTqaWN9sn001Aymp
 lYKdX77tEEAFDu4zhmovB1jlgn4QzYyH6OLdu6tw6+zEwEUME/z9dJemYDajHW1v0nv8
 GNpDGWl4uKbQEQgAIcIpObDHN2ocy9oxQ44VxJcrBfErmupT7kwp19uNwYGBO0RYN10J
 ktSRw3w75jRsi8lvgLLLmQloMjP+wQqDrb2ufbr3mpWOz7fv3MhDU6n8+FWEm3ZseamZ
 oTcumemhFIG8jUiEaJbfpOYJRJM2l8SwL2FCrRavkrnWnsNl9TNNsh4o3XQrrwa0YIy7
 BEdg==
X-Gm-Message-State: AOJu0YyjcitnZZCpHYKgQ+4QnIF3W7SLJiihNwbMTOYn6/I+KIxMuFy5
 dO0Peo3fNN4SmSiLG1VT7o057aCZaM98HceMH6DmFCzHs4r9rpw9qgAODveGYXrHjjdo2WCFBJV
 g5+ChaB0gpqqVyLJRp4KVGs8I8xwckZ7G5B9F4uXVJyFFyrqUzksIsMjU
X-Google-Smtp-Source: AGHT+IGETCjDXgyrTfm+XQBkidyZg/rbqU3frfSt7okwAl3fvJ/O6nBVsb/GNQ9wMyRTfRmrlkn9G9ePOBNu
X-Received: by 2002:a6b:6109:0:b0:7d0:3c3b:b071 with SMTP id
 v9-20020a6b6109000000b007d03c3bb071mr826670iob.2.1711147378004; 
 Fri, 22 Mar 2024 15:42:58 -0700 (PDT)
Received: from postal.iol.unh.edu (postal.iol.unh.edu.
 [2606:4100:3880:1234::84]) by smtp-relay.gmail.com with ESMTPS id
 u2-20020a05663825c200b00477275f0f31sm110475jat.0.2024.03.22.15.42.57
 (version=TLS1_2 cipher=ECDHE-ECDSA-AES128-GCM-SHA256 bits=128/128);
 Fri, 22 Mar 2024 15:42:57 -0700 (PDT)
X-Relaying-Domain: iol.unh.edu
Date: Fri, 22 Mar 2024 15:42:57 -0700 (PDT)
Message-ID: <65fe0971.050a0220.34b6b.59a1SMTPIN_ADDED_MISSING@mx.google.com>
Received: from [172.21.0.6] (unknown [172.18.0.240])
 by postal.iol.unh.edu (Postfix) with ESMTP id 771536052471;
 Fri, 22 Mar 2024 18:42:57 -0400 (EDT)
Subject: |SUCCESS| pw138745 [PATCH] Spelling: Fix Spelling mistake.
From: dpdklab@iol.unh.edu
To: Test Report <test-report@dpdk.org>
Cc: dpdk-test-reports@iol.unh.edu
In-Reply-To: <20240321230529.2677-1-vinh.t.tran10@gmail.com>
References: <20240321230529.2677-1-vinh.t.tran10@gmail.com>
Content-Type: text/plain
X-BeenThere: test-report@dpdk.org
X-Mailman-Version: 2.1.29
Precedence: list
List-Id: automatic DPDK test reports <test-report.dpdk.org>
List-Unsubscribe: <https://mails.dpdk.org/options/test-report>,
 <mailto:test-report-request@dpdk.org?subject=unsubscribe>
List-Archive: <http://mails.dpdk.org/archives/test-report/>
List-Post: <mailto:test-report@dpdk.org>
List-Help: <mailto:test-report-request@dpdk.org?subject=help>
List-Subscribe: <https://mails.dpdk.org/listinfo/test-report>,
 <mailto:test-report-request@dpdk.org?subject=subscribe>
Errors-To: test-report-bounces@dpdk.org

Test-Label: iol-compile-arm64-testing
Test-Status: SUCCESS
http://dpdk.org/patch/138745

_Testing PASS_

Submitter: None <vinh.t.tran10@gmail.com>
Date: Thursday, March 21 2024 23:05:29 
DPDK git baseline: Repo:dpdk
  Branch: master
  CommitID:0219d467bcb1d19b386b5bae8eecd3514ba13fdb

138745 --> testing pass

Test environment and result as below:

+--------------------------+--------------------+
|       Environment        | dpdk_meson_compile |
+==========================+====================+
| Ubuntu 20.04 ARM SVE     | PASS               |
+--------------------------+--------------------+
| Debian 12 with MUSDK     | PASS               |
+--------------------------+--------------------+
| Fedora 37 (ARM)          | PASS               |
+--------------------------+--------------------+
| Fedora 38 (ARM)          | PASS               |
+--------------------------+--------------------+
| Debian 11 (Buster) (ARM) | PASS               |
+--------------------------+--------------------+
| Ubuntu 20.04 (ARM)       | PASS               |
+--------------------------+--------------------+
| Debian 12 (arm)          | PASS               |
+--------------------------+--------------------+
| CentOS Stream 9 (ARM)    | PASS               |
+--------------------------+--------------------+


Ubuntu 20.04 ARM SVE
	Kernel: 5.4.0-167-generic
	Compiler: gcc (Ubuntu 10.5.0-1ubuntu1~20.04) 10.5.0

Debian 12 with MUSDK
	Kernel: Container Host Kernel
	Compiler: gcc 12.2.0

Fedora 37 (ARM)
	Kernel: Depends on container host
	Compiler: gcc 12.3.1

Fedora 38 (ARM)
	Kernel: Depends on container host
	Compiler: gcc 13.2.1

Debian 11 (Buster) (ARM)
	Kernel: Container Host Kernel
	Compiler: gcc 10.2.1

Ubuntu 20.04 (ARM)
	Kernel: Container Host Kernel
	Compiler: gcc 9.4.0

Debian 12 (arm)
	Kernel: Container Host Kernel
	Compiler: gcc 12.2.0

CentOS Stream 9 (ARM)
	Kernel: Container Host Kernel
	Compiler: gcc 11.4.1

To view detailed results, visit:
https://lab.dpdk.org/results/dashboard/patchsets/29637/

UNH-IOL DPDK Community Lab

To manage your email subscriptions, visit: 
https://lab.dpdk.org/results/dashboard/preferences/subscriptions/