From mboxrd@z Thu Jan  1 00:00:00 1970
Return-Path: <test-report-bounces@dpdk.org>
Received: from mails.dpdk.org (mails.dpdk.org [217.70.189.124])
	by inbox.dpdk.org (Postfix) with ESMTP id 75B3843D26
	for <public@inbox.dpdk.org>; Fri, 22 Mar 2024 23:50:47 +0100 (CET)
Received: from mails.dpdk.org (localhost [127.0.0.1])
	by mails.dpdk.org (Postfix) with ESMTP id 7172242FB7;
	Fri, 22 Mar 2024 23:50:47 +0100 (CET)
Received: from mail-yw1-f227.google.com (mail-yw1-f227.google.com
 [209.85.128.227])
 by mails.dpdk.org (Postfix) with ESMTP id 77B0C40284
 for <test-report@dpdk.org>; Fri, 22 Mar 2024 23:50:37 +0100 (CET)
Received: by mail-yw1-f227.google.com with SMTP id
 00721157ae682-60fff981e2aso27711837b3.3
 for <test-report@dpdk.org>; Fri, 22 Mar 2024 15:50:37 -0700 (PDT)
DKIM-Signature: v=1; a=rsa-sha256; c=relaxed/relaxed;
 d=iol.unh.edu; s=unh-iol; t=1711147837; x=1711752637; darn=dpdk.org;
 h=references:in-reply-to:cc:to:from:subject:message-id:date:from:to
 :cc:subject:date:message-id:reply-to;
 bh=JRWGl5HphKj5Wqd8p5ab/e/fpa5L2QiMPGC3fjF8T5M=;
 b=AKKyYM+DV9BpMwtJ+KLXAIYQ6UnRWpUFq8qXfQtypkzPWhW6sIrL7aL+iFht4SkJD0
 E09kQ6TTcPq5HWyWEtoCO5mn0/qcL/DEI9+VPp0Eo1sva/S/TzqfoPTE9Z1hZlsTmHNT
 TfpVRZrBRlsPaYXXhi5/xUO6EjEStrxXpwl+E=
X-Google-DKIM-Signature: v=1; a=rsa-sha256; c=relaxed/relaxed;
 d=1e100.net; s=20230601; t=1711147837; x=1711752637;
 h=references:in-reply-to:cc:to:from:subject:message-id:date
 :x-gm-message-state:from:to:cc:subject:date:message-id:reply-to;
 bh=JRWGl5HphKj5Wqd8p5ab/e/fpa5L2QiMPGC3fjF8T5M=;
 b=g/RK2auFOx/Uy/LHozgIa3ZjwfewAPrv/PuKj+xWVrlAvbOb2YgmX1K0sNXBddHZPu
 1YK2nFw19sAxglC+34vKZkcA03usHQwA1XvY5ZZAmfmAwK+Hc3zXWATCKm5X5Ph83zj7
 rJfqiN7zKh74tDh8m3Dv6Mjg6asXgUbbJT/WOhzuWNLFKyKh/YeQO3DhTWQzhDmSITG8
 /XOeWO6A3yJk8Vud4TkuTQzg9htgETfeNiZ9DZTk+9922eCRrbW2ILsXsvTmo2Ysu2v0
 qT0CACfGBL6z6bstKXndNq178mPFRZIxe6otMuLTcH2IMR6DmSuxz0W1Gkgt+O5nVc5p
 ct3A==
X-Gm-Message-State: AOJu0Yyw7VmyhDIy5grSbwhXP4mXNjQg4ya6HcaAz70I9/A0UmqMfEjc
 bZbE8t2BM3pQYrDTZ9QBJuN96cFYu4KfS8AbGr5Qn024zwGOdRN51spvm3b9ZLvWjNEQvFklQiF
 cHSA2cE/lGKzWW3aLyN4MgQlYCTc1RWRaOGeZ+T68
X-Google-Smtp-Source: AGHT+IEyIHm+pesbhNb9k1HURHh+pvEzQA3NETmj2vVuj8SiwprdQOXPqzgmRrYAOBu23Opu7zAH6BpqFUhi
X-Received: by 2002:a0d:ed02:0:b0:611:1a56:d3b7 with SMTP id
 w2-20020a0ded02000000b006111a56d3b7mr1093975ywe.43.1711147836890; 
 Fri, 22 Mar 2024 15:50:36 -0700 (PDT)
Received: from postal.iol.unh.edu (postal.iol.unh.edu. [132.177.123.84])
 by smtp-relay.gmail.com with ESMTPS id
 e185-20020a8169c2000000b00610dd6b4f9csm30748ywc.8.2024.03.22.15.50.36
 (version=TLS1_2 cipher=ECDHE-ECDSA-AES128-GCM-SHA256 bits=128/128);
 Fri, 22 Mar 2024 15:50:36 -0700 (PDT)
X-Relaying-Domain: iol.unh.edu
Date: Fri, 22 Mar 2024 15:50:36 -0700 (PDT)
Message-ID: <65fe0b3c.810a0220.efefd.2188SMTPIN_ADDED_MISSING@mx.google.com>
Received: from [172.21.0.6] (unknown [172.18.0.240])
 by postal.iol.unh.edu (Postfix) with ESMTP id 823A76052471;
 Fri, 22 Mar 2024 18:50:36 -0400 (EDT)
Subject: |SUCCESS| pw138744 [PATCH] Spelling: Fixed a spelling mistake.
From: dpdklab@iol.unh.edu
To: Test Report <test-report@dpdk.org>
Cc: dpdk-test-reports@iol.unh.edu
In-Reply-To: <20240321230352.886-1-florestecien@gmail.com>
References: <20240321230352.886-1-florestecien@gmail.com>
Content-Type: text/plain
X-BeenThere: test-report@dpdk.org
X-Mailman-Version: 2.1.29
Precedence: list
List-Id: automatic DPDK test reports <test-report.dpdk.org>
List-Unsubscribe: <https://mails.dpdk.org/options/test-report>,
 <mailto:test-report-request@dpdk.org?subject=unsubscribe>
List-Archive: <http://mails.dpdk.org/archives/test-report/>
List-Post: <mailto:test-report@dpdk.org>
List-Help: <mailto:test-report-request@dpdk.org?subject=help>
List-Subscribe: <https://mails.dpdk.org/listinfo/test-report>,
 <mailto:test-report-request@dpdk.org?subject=subscribe>
Errors-To: test-report-bounces@dpdk.org

Test-Label: iol-compile-amd64-testing
Test-Status: SUCCESS
http://dpdk.org/patch/138744

_Testing PASS_

Submitter: Flore <florestecien@gmail.com>
Date: Thursday, March 21 2024 23:03:52 
DPDK git baseline: Repo:dpdk
  Branch: master
  CommitID:0219d467bcb1d19b386b5bae8eecd3514ba13fdb

138744 --> testing pass

Test environment and result as below:

+---------------------+--------------------+----------------------+-------------------+
|     Environment     | dpdk_meson_compile | dpdk_mingw64_compile | dpdk_msvc_compile |
+=====================+====================+======================+===================+
| FreeBSD 13.2        | PASS               | SKIPPED              | SKIPPED           |
+---------------------+--------------------+----------------------+-------------------+
| Windows Server 2022 | PASS               | PASS                 | PASS              |
+---------------------+--------------------+----------------------+-------------------+
| Windows Server 2019 | PASS               | PASS                 | SKIPPED           |
+---------------------+--------------------+----------------------+-------------------+


FreeBSD 13.2
	Kernel: 13.2
	Compiler: clang 14.0.5

Windows Server 2022
	Kernel: 10.0.20348.2031
	Compiler: clang 15.0.7, gcc 8.1.0 (MinGW), and MSVC VS 17.9

Windows Server 2019
	Kernel: 10.0.17763
	Compiler: clang 14.0 and gcc 8.1.0 (MinGW)

To view detailed results, visit:
https://lab.dpdk.org/results/dashboard/patchsets/29636/

UNH-IOL DPDK Community Lab

To manage your email subscriptions, visit: 
https://lab.dpdk.org/results/dashboard/preferences/subscriptions/