From mboxrd@z Thu Jan  1 00:00:00 1970
Return-Path: <test-report-bounces@dpdk.org>
Received: from mails.dpdk.org (mails.dpdk.org [217.70.189.124])
	by inbox.dpdk.org (Postfix) with ESMTP id 6ACE443D26
	for <public@inbox.dpdk.org>; Fri, 22 Mar 2024 23:53:04 +0100 (CET)
Received: from mails.dpdk.org (localhost [127.0.0.1])
	by mails.dpdk.org (Postfix) with ESMTP id 6266A42FCF;
	Fri, 22 Mar 2024 23:53:04 +0100 (CET)
Received: from mail-il1-f226.google.com (mail-il1-f226.google.com
 [209.85.166.226])
 by mails.dpdk.org (Postfix) with ESMTP id 17ACE40284
 for <test-report@dpdk.org>; Fri, 22 Mar 2024 23:52:44 +0100 (CET)
Received: by mail-il1-f226.google.com with SMTP id
 e9e14a558f8ab-368713f2f23so4943535ab.3
 for <test-report@dpdk.org>; Fri, 22 Mar 2024 15:52:44 -0700 (PDT)
DKIM-Signature: v=1; a=rsa-sha256; c=relaxed/relaxed;
 d=iol.unh.edu; s=unh-iol; t=1711147963; x=1711752763; darn=dpdk.org;
 h=references:in-reply-to:cc:to:from:subject:message-id:date:from:to
 :cc:subject:date:message-id:reply-to;
 bh=OBVe4iGT1fn8aCwUq5VY7f2eQkgLb687rt+BWJeFges=;
 b=OhBSq4vEDASQJCOIIz+KuKYMO1TbzQvG1m++H/NAu2Am+/nc5jn996lLpO9Z/IK2YJ
 QnfD4gPz4M3Qmx48IEyKo0T8vitqxIn3iyTrXAnTSilhi8MMicGH8qP+npPVRsYu5FRr
 8wJBEuj9tap2qBFMJYyXY8r2HEM9s+YR/RwQA=
X-Google-DKIM-Signature: v=1; a=rsa-sha256; c=relaxed/relaxed;
 d=1e100.net; s=20230601; t=1711147963; x=1711752763;
 h=references:in-reply-to:cc:to:from:subject:message-id:date
 :x-gm-message-state:from:to:cc:subject:date:message-id:reply-to;
 bh=OBVe4iGT1fn8aCwUq5VY7f2eQkgLb687rt+BWJeFges=;
 b=tG1X/dJd0jacnOBO9oTo+CFUAUf//DaGGf3aXgd0FWIcdIuCfMP0yhLawESnDtzNuU
 XbV90ANllQj/HHLOx/liKrUOQHVMD0Roo2HPVAly8KzNrXNZhg1E9ZiWjjBzCoBQHEUy
 8kckFkg6QNUDra7BnHyD7jXmDL+tJPuQymYktFMQPF1vzdExuHxacwrWgwqF4epLwkpi
 9eTHOrmIrRywggiaJ5bZcxYk1o9VN1fWSr2nGp91IUl7vvYtxwMJ2usQapdalJjnggNX
 uIsA4djatAttKMeLBeKNEM/s91sxPn49uaJBCqY7qRWjFrzTDnl6TSy6MgArzjSZgWnE
 ji+w==
X-Gm-Message-State: AOJu0Yzr5JsqkPGA6zYii0h6hVfNegRAvdiLrazXHrBG0Ia17dvCezaj
 bFdSEzwM9s4AtW1lKYlWAhblVkgFZIItU1icpR0SCJZQ817nlItXFfTLKj/JkugmJ3KZNkUTbR2
 dnnoPNU1gr4mihYtzyECcYthDVv8/su0DLVPS4e2G
X-Google-Smtp-Source: AGHT+IG5f7Qpc3polbfle9tRdQtAPGtMV7bzu8Dz+sqXVSGcne7zZHxt12KtE1dfdY823cnx0W/awnbNnf9A
X-Received: by 2002:a92:d689:0:b0:368:505e:ddf6 with SMTP id
 p9-20020a92d689000000b00368505eddf6mr964917iln.23.1711147963489; 
 Fri, 22 Mar 2024 15:52:43 -0700 (PDT)
Received: from postal.iol.unh.edu (postal.iol.unh.edu. [132.177.123.84])
 by smtp-relay.gmail.com with ESMTPS id
 f5-20020a056e0204c500b003662f7dd28esm159425ils.24.2024.03.22.15.52.43
 (version=TLS1_2 cipher=ECDHE-ECDSA-AES128-GCM-SHA256 bits=128/128);
 Fri, 22 Mar 2024 15:52:43 -0700 (PDT)
X-Relaying-Domain: iol.unh.edu
Date: Fri, 22 Mar 2024 15:52:43 -0700 (PDT)
Message-ID: <65fe0bbb.050a0220.314f4.88c5SMTPIN_ADDED_MISSING@mx.google.com>
Received: from [172.21.0.7] (unknown [172.18.0.240])
 by postal.iol.unh.edu (Postfix) with ESMTP id EE1026052471;
 Fri, 22 Mar 2024 18:52:42 -0400 (EDT)
Subject: |SUCCESS| pw138744 [PATCH] Spelling: Fixed a spelling mistake.
From: dpdklab@iol.unh.edu
To: Test Report <test-report@dpdk.org>
Cc: dpdk-test-reports@iol.unh.edu
In-Reply-To: <20240321230352.886-1-florestecien@gmail.com>
References: <20240321230352.886-1-florestecien@gmail.com>
Content-Type: text/plain
X-BeenThere: test-report@dpdk.org
X-Mailman-Version: 2.1.29
Precedence: list
List-Id: automatic DPDK test reports <test-report.dpdk.org>
List-Unsubscribe: <https://mails.dpdk.org/options/test-report>,
 <mailto:test-report-request@dpdk.org?subject=unsubscribe>
List-Archive: <http://mails.dpdk.org/archives/test-report/>
List-Post: <mailto:test-report@dpdk.org>
List-Help: <mailto:test-report-request@dpdk.org?subject=help>
List-Subscribe: <https://mails.dpdk.org/listinfo/test-report>,
 <mailto:test-report-request@dpdk.org?subject=subscribe>
Errors-To: test-report-bounces@dpdk.org

Test-Label: iol-compile-arm64-testing
Test-Status: SUCCESS
http://dpdk.org/patch/138744

_Testing PASS_

Submitter: Flore <florestecien@gmail.com>
Date: Thursday, March 21 2024 23:03:52 
DPDK git baseline: Repo:dpdk
  Branch: master
  CommitID:0219d467bcb1d19b386b5bae8eecd3514ba13fdb

138744 --> testing pass

Test environment and result as below:

+--------------------------+--------------------+
|       Environment        | dpdk_meson_compile |
+==========================+====================+
| Ubuntu 20.04 ARM SVE     | PASS               |
+--------------------------+--------------------+
| Debian 12 with MUSDK     | PASS               |
+--------------------------+--------------------+
| Debian 11 (Buster) (ARM) | PASS               |
+--------------------------+--------------------+
| CentOS Stream 9 (ARM)    | PASS               |
+--------------------------+--------------------+
| Ubuntu 20.04 (ARM)       | PASS               |
+--------------------------+--------------------+
| Fedora 38 (ARM)          | PASS               |
+--------------------------+--------------------+
| Fedora 37 (ARM)          | PASS               |
+--------------------------+--------------------+


Ubuntu 20.04 ARM SVE
	Kernel: 5.4.0-167-generic
	Compiler: gcc (Ubuntu 10.5.0-1ubuntu1~20.04) 10.5.0

Debian 12 with MUSDK
	Kernel: Container Host Kernel
	Compiler: gcc 12.2.0

Debian 11 (Buster) (ARM)
	Kernel: Container Host Kernel
	Compiler: gcc 10.2.1

CentOS Stream 9 (ARM)
	Kernel: Container Host Kernel
	Compiler: gcc 11.4.1

Ubuntu 20.04 (ARM)
	Kernel: Container Host Kernel
	Compiler: gcc 9.4.0

Fedora 38 (ARM)
	Kernel: Depends on container host
	Compiler: gcc 13.2.1

Fedora 37 (ARM)
	Kernel: Depends on container host
	Compiler: gcc 12.3.1

To view detailed results, visit:
https://lab.dpdk.org/results/dashboard/patchsets/29636/

UNH-IOL DPDK Community Lab

To manage your email subscriptions, visit: 
https://lab.dpdk.org/results/dashboard/preferences/subscriptions/